Workbook

Sheet PL 01A_GIÁ KHÁM BỆNH_BVĐKHD
A1: PHỤ LỤC 01A
A2: GIÁ DỊCH VỤ KHÁM BỆNH, HỘI CHẨN
A3: (Kèm theo Nghị quyết số 43/NQ-HĐND ngày 25 tháng 9 năm 2026 của Hội đồng nhân dân thành phố Hải Phòng)
A5: Áp dụng tại :
A6: - Bệnh viện đa khoa Hải Dương; Bệnh viện Kiến An; Bệnh viện Mắt Hải Phòng; Bệnh viện Phổi Hải Dương; Bệnh viện Sức khỏe tâm thần Hải Phòng.
D8: Đơn vị tính: đồng | E8: NQ17
A9: STT | B9: Danh mục dịch vụ | C9: Mức giá | D9: Ghi chú
A10: A | B10: B | C10: 1 | D10: 2
A11: I | B11: Danh mục do quỹ BHYT thanh toán
A12: 1 | B12: Khám bệnh | C12: 52600 | E12: 50600
A13: 2 | B13: Hội chẩn để xác định ca bệnh khó (chuyên gia/ca; Chỉ áp dụng đối với trường hợp mời chuyên gia đơn vị khác đến hội chẩn tại cơ sở khám, chữa bệnh). | C13: 208000 | E13: 200000
A14: II | B14: Danh mục không thuộc quỹ BHYT thanh toán nhưng không phải là dịch vụ theo yêu cầu
A15: 1 | B15: Khám cấp giấy chứng thương, giám định y khoa (không kể xét nghiệm, X-quang) | C15: 166400 | E15: 160000
A16: 2 | B16: Khám sức khỏe toàn diện lao động, lái xe, khám sức khỏe định kỳ (không kể xét nghiệm, X-quang) | C16: 166400 | E16: 160000
A17: 3 | B17: Khám sức khỏe toàn diện cho người đi xuất khẩu lao động (không kể xét nghiệm, X-quang) | C17: 468000 | E17: 450000
A19: Tổng số: 05 danh mục

Sheet PL 01B_GIÁ KHÁM BỆNH_TTBVSKCB
A1: PHỤ LỤC 01B
A2: GIÁ DỊCH VỤ KHÁM BỆNH, HỘI CHẨN
A3: (Kèm theo Nghị quyết số 43/NQ-HĐND ngày 25 tháng 9 năm 2026 của Hội đồng nhân dân thành phố Hải Phòng)
A4: Áp dụng tại :
A5: - Bệnh viện Mắt và Da liễu Hải Dương; Bệnh viện Nhi Hải Dương; Bệnh viện Bệnh nhiệt đới Hải Dương; Bệnh viện Phổi Hải Phòng; Bệnh viện Phụ sản Hải Dương; Bệnh viện Phục hồi chức năng Hải Dương; Bệnh viện Sức khỏe Tâm thần Hải Dương; Bệnh viện Y học cổ truyền Hải Dương; Bệnh viện Y học cổ truyền Hải Phòng; Trung tâm Da liễu.
A6: - Trung tâm y tế An Lão; Trung tâm y tế Chí Linh; Trung tâm y tế Gia Lộc; Trung tâm y tế Kinh Môn; Trung tâm y tế Ngô Quyền; Trung tâm y tế Ninh Giang; Trung tâm y tế Thủy Nguyên; Trung tâm y tế Tứ Kỳ; Trung tâm y tế Vĩnh Bảo.
A7: - Cơ sở điều trị II thuộc Trung tâm y tế An Lão; Cơ sở điều trị 2 Nam Am thuộc Bệnh viện đa khoa huyện Vĩnh Bảo nay là Trung tâm y tế Vĩnh Bảo; Cơ sở 2 Nhị Chiểu trực thuộc Trung tâm y tế Kinh Môn.
A8: - Trung tâm Bảo vệ sức khỏe cán bộ thuộc Bệnh viện đa khoa Hải Dương.
D9: Đơn vị tính: đồng
A10: STT | B10: Danh mục dịch vụ | C10: Mức giá | D10: Ghi chú
A11: A | B11: B | C11: 1 | D11: 2
A12: I | B12: Danh mục do quỹ BHYT thanh toán
A13: 1 | B13: Khám bệnh | C13: 46800
A14: 2 | B14: Hội chẩn để xác định ca bệnh khó (chuyên gia/ca; Chỉ áp dụng đối với trường hợp mời chuyên gia đơn vị khác đến hội chẩn tại cơ sở khám, chữa bệnh). | C14: 208000
A15: II | B15: Danh mục không thuộc quỹ BHYT thanh toán nhưng không phải là dịch vụ theo yêu cầu
A16: 1 | B16: Khám cấp giấy chứng thương, giám định y khoa (không kể xét nghiệm, X-quang) | C16: 166400
A17: 2 | B17: Khám sức khỏe toàn diện lao động, lái xe, khám sức khỏe định kỳ (không kể xét nghiệm, X-quang) | C17: 166400
A18: 3 | B18: Khám sức khỏe toàn diện cho người đi xuất khẩu lao động (không kể xét nghiệm, X-quang) | C18: 468000 | F18: 450000
A20: Tổng số: 05 danh mục | D20: =COUNT(D12:D18,0) -> 1

Sheet PL 02A_GIÁ NGÀY GIƯỜNG
A1: PHỤ LỤC 02A
A2: GIÁ DỊCH VỤ NGÀY GIƯỜNG BỆNH
A3: (Kèm theo Nghị quyết số 43/NQ-HĐND ngày 25 tháng 9 năm 2026 của Hội đồng nhân dân thành phố Hải Phòng)
A4: Áp dụng tại :
A5: - Bệnh viện đa khoa Hải Dương; Bệnh viện Kiến An; Bệnh viện Mắt Hải Phòng; Bệnh viện Phổi Hải Dương; Bệnh viện Sức khỏe tâm thần Hải Phòng
D6: Đơn vị tính: đồng
A7: STT | B7: Các loại dịch vụ | C7: Mức giá | D7: Ghi chú | F7: NQ17
A8: A | B8: B | C8: 1 | D8: 2
A9: 1 | B9: Ngày điều trị Hồi sức tích cực (ICU)/ghép tạng/ghép tủy /ghép tế bào gốc | C9: 965200 | F9: 928100
A10: 2 | B10: Ngày giường bệnh Hồi sức cấp cứu | C10: 580900 | F10: 558600
A11: 3 | B11: Ngày giường bệnh Nội khoa:
A12: 3.1 | B12: Loại 1: Các khoa: Truyền nhiễm, Hô hấp, Huyết học, Ung thư, Tim mạch, Tâm thần, Thần kinh, Lão, Nhi, Tiêu hoá, Thận học; Nội tiết; Dị ứng (đối với bệnh nhân dị ứng thuốc nặng: Stevens Johnson/ Lyell) | C12: 317700 | F12: 305500
A13: 3.2 | B13: Loại 2: Các Khoa: Cơ-Xương-Khớp, Da liễu, Dị ứng, Tai-Mũi-Họng, Mắt, Răng Hàm Mặt, Ngoại, Phụ -Sản không mổ; YHDT/ PHCN cho nhóm người bệnh tổn thương tủy sống, tai biến mạch máu não, chấn thương sọ não. | C13: 284800 | F13: 273800
A14: 3.3 | B14: Loại 3: Các khoa: YHDT, Phục hồi chức năng | C14: 242200 | F14: 232900
A15: 4 | B15: Ngày giường bệnh ngoại khoa, bỏng;
A16: 4.1 | B16: Loại 1 : Sau các phẫu thuật loại đặc biệt; Bỏng độ 3-4 trên 70% diện tích cơ thể | C16: 416400 | F16: 400400
A17: 4.2 | B17: Loại 2 : Sau các phẫu thuật loại 1; Bỏng độ 3-4 từ 25 -70% diện tích cơ thể | C17: 378900 | F17: 364400
A18: 4.3 | B18: Loại 3 : Sau các phẫu thuật loại 2; Bỏng độ 2 trên 30% diện tích cơ thể, Bỏng độ 3-4 dưới 25% diện tích cơ thể | C18: 333600 | F18: 320700
A19: 4.4 | B19: Loại 4 : Sau các phẫu thuật loại 3; Bỏng độ 1, độ 2 dưới 30% diện tích cơ thể | C19: 298200 | F19: 286700
A20: 5 | B20: Ngày giường điều trị ban ngày | C20: Bằng 0,3 lần giá ngày giường của các khoa tương ứng | F20: Bằng 0,3 lần giá ngày giường của các khoa tương ứng
A22: Ghi chú: Giá ngày giường điều trị nội trú chưa bao gồm chi phí máy thở và khí y tế.
B23: Tổng số: 10 danh mục
C25: =COUNT(C9:C20,0) -> 10 | D25: =COUNT(D9:D20,0) -> 1

Sheet PL3_ GIÁ DV kỹ thuật, XN
E3: Phụ lục 3
A5: GIÁ DỊCH VỤ KỸ THUẬT VÀ XÉT NGHIỆM
A6: (Kèm theo Nghị quyết số 43/NQ-HĐND ngày 25 tháng 9 năm 2026 của Hội đồng nhân dân thành phố Hải Phòng)
A9: STT | B9: Mã tương đương | C9: Tên chương theo TT 23/2024 | D9: Mã kỹ thuật theo TT23/2024 | E9: Tên dịch vụ kỹ thuật theo Thông tư 23/2024/TT-BYT | F9: Tên dịch vụ dịch vụ giá (Tên KT theo TT 23/2024) | G9: Phân Loại PTTT | H9: Đề xuất mức giá | I9: Tổng giá thành (I+II+III+IV) | J9: Mức giá | K9: Ghi chú
L10: BYT ko có mã tương đương
A11: 1 | B11: 01.0020.0001 | C11: 01. HỒI SỨC CẤP CỨU VÀ CHỐNG ĐỘC | D11: 1.20 | E11: Siêu âm dẫn đường đặt catheter tĩnh mạch cấp cứu | F11: Siêu âm dẫn đường đặt catheter tĩnh mạch cấp cứu | G11: T2 | H11: 58600 | I11: 58694.617 | J11: 61000 | M11: =VLOOKUP(#REF!,'[1]PL3 Danh muc đầy đủ'!$E$9:$X$9281,20,0) -> #REF! | N11: =M11-#REF! -> #REF!
A12: 2 | B12: 01.0021.0001 | C12: 01. HỒI SỨC CẤP CỨU VÀ CHỐNG ĐỘC | D12: 1.21 | E12: Siêu âm dẫn đường đặt catheter động mạch cấp cứu | F12: Siêu âm dẫn đường đặt catheter động mạch cấp cứu | G12: T2 | H12: 58600 | I12: 58694.617 | J12: 61000 | M12: =VLOOKUP(#REF!,'[1]PL3 Danh muc đầy đủ'!$E$9:$X$9281,20,0) -> #REF! | N12: =M12-#REF! -> #REF!
A13: 3 | B13: 01.0092.0001 | C13: 01. HỒI SỨC CẤP CỨU VÀ CHỐNG ĐỘC | D13: 1.92 | E13: Siêu âm màng phổi cấp cứu | F13: Siêu âm màng phổi cấp cứu | G13: T1 | H13: 58600 | I13: 58694.617 | J13: 61000 | M13: =VLOOKUP(#REF!,'[1]PL3 Danh muc đầy đủ'!$E$9:$X$9281,20,0) -> #REF! | N13: =M13-#REF! -> #REF!
A14: 4 | B14: 01.0239.0001 | C14: 01. HỒI SỨC CẤP CỨU VÀ CHỐNG ĐỘC | D14: 1.239 | E14: Siêu âm ổ bụng tại giường cấp cứu | F14: Siêu âm ổ bụng tại giường cấp cứu | G14: T2 | H14: 58600 | I14: 58694.617 | J14: 61000 | M14: =VLOOKUP(#REF!,'[1]PL3 Danh muc đầy đủ'!$E$9:$X$9281,20,0) -> #REF! | N14: =M14-#REF! -> #REF!
A15: 5 | B15: 01.0303.0001 | C15: 01. HỒI SỨC CẤP CỨU VÀ CHỐNG ĐỘC | D15: 1.303 | E15: Siêu âm cấp cứu tại giường bệnh | F15: Siêu âm cấp cứu tại giường bệnh | G15: T2 | H15: 58600 | I15: 58694.617 | J15: 61000 | M15: =VLOOKUP(#REF!,'[1]PL3 Danh muc đầy đủ'!$E$9:$X$9281,20,0) -> #REF! | N15: =M15-#REF! -> #REF!
A16: 6 | B16: 02.0063.0001 | C16: 02. NỘI KHOA | D16: 2.63 | E16: Siêu âm màng phổi cấp cứu | F16: Siêu âm màng phổi cấp cứu | H16: 58600 | I16: 58694.617 | J16: 61000 | M16: =VLOOKUP(#REF!,'[1]PL3 Danh muc đầy đủ'!$E$9:$X$9281,20,0) -> #REF! | N16: =M16-#REF! -> #REF!
A17: 7 | B17: 02.0314.0001 | C17: 02. NỘI KHOA | D17: 2.314 | E17: Siêu âm ổ bụng | F17: Siêu âm ổ bụng | H17: 58600 | I17: 58694.617 | J17: 61000 | M17: =VLOOKUP(#REF!,'[1]PL3 Danh muc đầy đủ'!$E$9:$X$9281,20,0) -> #REF! | N17: =M17-#REF! -> #REF!
A18: 8 | B18: 02.0373.0001 | C18: 02. NỘI KHOA | D18: 2.373 | E18: Siêu âm khớp (một vị trí) | F18: Siêu âm khớp (một vị trí) | H18: 58600 | I18: 58694.617 | J18: 61000 | M18: =VLOOKUP(#REF!,'[1]PL3 Danh muc đầy đủ'!$E$9:$X$9281,20,0) -> #REF! | N18: =M18-#REF! -> #REF!
A19: 9 | B19: 02.0374.0001 | C19: 02. NỘI KHOA | D19: 2.374 | E19: Siêu âm phần mềm (một vị trí) | F19: Siêu âm phần mềm (một vị trí) | H19: 58600 | I19: 58694.617 | J19: 61000 | M19: =VLOOKUP(#REF!,'[1]PL3 Danh muc đầy đủ'!$E$9:$X$9281,20,0) -> #REF! | N19: =M19-#REF! -> #REF!
A20: 10 | B20: 03.0069.0001 | C20: 03. NHI KHOA | D20: 3.69 | E20: Siêu âm màng ngoài tim cấp cứu | F20: Siêu âm màng ngoài tim cấp cứu | G20: T3 | H20: 58600 | I20: 58694.617 | J20: 61000 | M20: =VLOOKUP(#REF!,'[1]PL3 Danh muc đầy đủ'!$E$9:$X$9281,20,0) -> #REF! | N20: =M20-#REF! -> #REF!
A21: 11 | B21: 03.0070.0001 | C21: 03. NHI KHOA | D21: 3.70 | E21: Siêu âm màng phổi | F21: Siêu âm màng phổi | G21: T1 | H21: 58600 | I21: 58694.617 | J21: 61000 | M21: =VLOOKUP(#REF!,'[1]PL3 Danh muc đầy đủ'!$E$9:$X$9281,20,0) -> #REF! | N21: =M21-#REF! -> #REF!
A22: 12 | B22: 18.0001.0001 | C22: 18. ĐIỆN QUANG | D22: 18.1 | E22: Siêu âm tuyến giáp | F22: Siêu âm tuyến giáp | H22: 58600 | I22: 58694.617 | J22: 61000 | M22: =VLOOKUP(#REF!,'[1]PL3 Danh muc đầy đủ'!$E$9:$X$9281,20,0) -> #REF! | N22: =M22-#REF! -> #REF!
A23: 13 | B23: 18.0002.0001 | C23: 18. ĐIỆN QUANG | D23: 18.2 | E23: Siêu âm các tuyến nước bọt | F23: Siêu âm các tuyến nước bọt | H23: 58600 | I23: 58694.617 | J23: 61000 | M23: =VLOOKUP(#REF!,'[1]PL3 Danh muc đầy đủ'!$E$9:$X$9281,20,0) -> #REF! | N23: =M23-#REF! -> #REF!
A24: 14 | B24: 18.0003.0001 | C24: 18. ĐIỆN QUANG | D24: 18.3 | E24: Siêu âm cơ phần mềm vùng cổ mặt | F24: Siêu âm cơ phần mềm vùng cổ mặt | H24: 58600 | I24: 58694.617 | J24: 61000 | M24: =VLOOKUP(#REF!,'[1]PL3 Danh muc đầy đủ'!$E$9:$X$9281,20,0) -> #REF! | N24: =M24-#REF! -> #REF!
A25: 15 | B25: 18.0004.0001 | C25: 18. ĐIỆN QUANG | D25: 18.4 | E25: Siêu âm hạch vùng cổ | F25: Siêu âm hạch vùng cổ | H25: 58600 | I25: 58694.617 | J25: 61000 | M25: =VLOOKUP(#REF!,'[1]PL3 Danh muc đầy đủ'!$E$9:$X$9281,20,0) -> #REF! | N25: =M25-#REF! -> #REF!
A26: 16 | B26: 18.0006.0001 | C26: 18. ĐIỆN QUANG | D26: 18.6 | E26: Siêu âm hốc mắt | F26: Siêu âm hốc mắt | H26: 58600 | I26: 58694.617 | J26: 61000 | M26: =VLOOKUP(#REF!,'[1]PL3 Danh muc đầy đủ'!$E$9:$X$9281,20,0) -> #REF! | N26: =M26-#REF! -> #REF!
A27: 17 | B27: 18.0008.0001 | C27: 18. ĐIỆN QUANG | D27: 18.8 | E27: Siêu âm nhãn cầu | F27: Siêu âm nhãn cầu | H27: 58600 | I27: 58694.617 | J27: 61000 | M27: =VLOOKUP(#REF!,'[1]PL3 Danh muc đầy đủ'!$E$9:$X$9281,20,0) -> #REF! | N27: =M27-#REF! -> #REF!
A28: 18 | B28: 18.0011.0001 | C28: 18. ĐIỆN QUANG | D28: 18.11 | E28: Siêu âm màng phổi | F28: Siêu âm màng phổi | H28: 58600 | I28: 58694.617 | J28: 61000 | M28: =VLOOKUP(#REF!,'[1]PL3 Danh muc đầy đủ'!$E$9:$X$9281,20,0) -> #REF! | N28: =M28-#REF! -> #REF!
A29: 19 | B29: 18.0012.0001 | C29: 18. ĐIỆN QUANG | D29: 18.12 | E29: Siêu âm thành ngực (cơ, phần mềm thành ngực) | F29: Siêu âm thành ngực (cơ, phần mềm thành ngực) | H29: 58600 | I29: 58694.617 | J29: 61000 | M29: =VLOOKUP(#REF!,'[1]PL3 Danh muc đầy đủ'!$E$9:$X$9281,20,0) -> #REF! | N29: =M29-#REF! -> #REF!
A30: 20 | B30: 18.0013.0001 | C30: 18. ĐIỆN QUANG | D30: 18.13 | E30: Siêu âm các khối u phổi ngoại vi | F30: Siêu âm các khối u phổi ngoại vi | H30: 58600 | I30: 58694.617 | J30: 61000 | M30: =VLOOKUP(#REF!,'[1]PL3 Danh muc đầy đủ'!$E$9:$X$9281,20,0) -> #REF! | N30: =M30-#REF! -> #REF!
A31: 21 | B31: 18.0015.0001 | C31: 18. ĐIỆN QUANG | D31: 18.15 | E31: Siêu âm ổ bụng (gan mật, tụy, lách, thận, bàng quang) | F31: Siêu âm ổ bụng (gan mật, tụy, lách, thận, bàng quang) | H31: 58600 | I31: 58694.617 | J31: 61000 | M31: =VLOOKUP(#REF!,'[1]PL3 Danh muc đầy đủ'!$E$9:$X$9281,20,0) -> #REF! | N31: =M31-#REF! -> #REF!
A32: 22 | B32: 18.0016.0001 | C32: 18. ĐIỆN QUANG | D32: 18.16 | E32: Siêu âm hệ tiết niệu (thận, tuyến thượng thận, bàng quang, tiền liệt tuyến) | F32: Siêu âm hệ tiết niệu (thận, tuyến thượng thận, bàng quang, tiền liệt tuyến) | H32: 58600 | I32: 58694.617 | J32: 61000 | M32: =VLOOKUP(#REF!,'[1]PL3 Danh muc đầy đủ'!$E$9:$X$9281,20,0) -> #REF! | N32: =M32-#REF! -> #REF!
A33: 23 | B33: 18.0018.0001 | C33: 18. ĐIỆN QUANG | D33: 18.18 | E33: Siêu âm tử cung phần phụ | F33: Siêu âm tử cung phần phụ | H33: 58600 | I33: 58694.617 | J33: 61000 | M33: =VLOOKUP(#REF!,'[1]PL3 Danh muc đầy đủ'!$E$9:$X$9281,20,0) -> #REF! | N33: =M33-#REF! -> #REF!
... A46: 36 | B46: 14.0293.0002 | C46: 14. MẮT | D46: 14.293 | E46: Siêu âm + đo trục nhãn cầu | F46: Siêu âm + đo trục nhãn cầu | H46: 90300 | I46: 90364.348 | J46: 93900 | M46: =VLOOKUP(#REF!,'[1]PL3 Danh muc đầy đủ'!$E$9:$X$9281,20,0) -> #REF! | N46: =M46-#REF! -> #REF!
A47: 37 | B47: 03.4253.0003 | C47: 03. NHI KHOA | D47: 3.4253 | E47: Siêu âm tim thai qua đường âm đạo | F47: Siêu âm tim thai qua đường âm đạo | G47: T2 | H47: 195600 | I47: 195660.87 | J47: 203400 | M47: =VLOOKUP(#REF!,'[1]PL3 Danh muc đầy đủ'!$E$9:$X$9281,20,0) -> #REF! | N47: =M47-#REF! -> #REF!
A48: 38 | B48: 18.0031.0003 | C48: 18. ĐIỆN QUANG | D48: 18.31 | E48: Siêu âm tử cung buồng trứng qua đường âm đạo | F48: Siêu âm tử cung buồng trứng qua đường âm đạo | G48: T2 | H48: 195600 | I48: 195660.87 | J48: 203400 | M48: =VLOOKUP(#REF!,'[1]PL3 Danh muc đầy đủ'!$E$9:$X$9281,20,0) -> #REF! | N48: =M48-#REF! -> #REF!
A49: 39 | B49: 01.0018.0004 | C49: 01. HỒI SỨC CẤP CỨU VÀ CHỐNG ĐỘC | D49: 1.18 | E49: Siêu âm tim cấp cứu tại giường | F49: Siêu âm tim cấp cứu tại giường | G49: T1 | H49: 252300 | I49: 252391.3 | J49: 262400 | M49: =VLOOKUP(#REF!,'[1]PL3 Danh muc đầy đủ'!$E$9:$X$9281,20,0) -> #REF! | N49: =M49-#REF! -> #REF!
A50: 40 | B50: 01.0019.0004 | C50: 01. HỒI SỨC CẤP CỨU VÀ CHỐNG ĐỘC | D50: 1.19 | E50: Siêu âm doppler mạch cấp cứu tại giường | F50: Siêu âm doppler mạch cấp cứu tại giường | G50: T1 | H50: 252300 | I50: 252391.3 | J50: 262400 | M50: =VLOOKUP(#REF!,'[1]PL3 Danh muc đầy đủ'!$E$9:$X$9281,20,0) -> #REF! | N50: =M50-#REF! -> #REF!
A51: 41 | B51: 01.0025.0004 | C51: 01. HỒI SỨC CẤP CỨU VÀ CHỐNG ĐỘC | D51: 1.25 | E51: Kỹ thuật đánh giá huyết động cấp cứu không xâm nhập bằng USCOM | F51: Kỹ thuật đánh giá huyết động cấp cứu không xâm nhập bằng USCOM | G51: T1 | H51: 252300 | I51: 252391.3 | J51: 262400 | M51: =VLOOKUP(#REF!,'[1]PL3 Danh muc đầy đủ'!$E$9:$X$9281,20,0) -> #REF! | N51: =M51-#REF! -> #REF!
A52: 42 | B52: 01.0208.0004 | C52: 01. HỒI SỨC CẤP CỨU VÀ CHỐNG ĐỘC | D52: 1.208 | E52: Siêu âm doppler xuyên sọ | F52: Siêu âm doppler xuyên sọ | G52: T2 | H52: 252300 | I52: 252391.3 | J52: 262400 | M52: =VLOOKUP(#REF!,'[1]PL3 Danh muc đầy đủ'!$E$9:$X$9281,20,0) -> #REF! | N52: =M52-#REF! -> #REF!
A53: 43 | B53: 02.0112.0004 | C53: 02. NỘI KHOA | D53: 2.112 | E53: Siêu âm doppler mạch máu | F53: Siêu âm doppler mạch máu | G53: T3 | H53: 252300 | I53: 252391.3 | J53: 262400 | M53: =VLOOKUP(#REF!,'[1]PL3 Danh muc đầy đủ'!$E$9:$X$9281,20,0) -> #REF! | N53: =M53-#REF! -> #REF!
A54: 44 | B54: 02.0113.0004 | C54: 02. NỘI KHOA | D54: 2.113 | E54: Siêu âm doppler tim | F54: Siêu âm doppler tim | G54: T3 | H54: 252300 | I54: 252391.3 | J54: 262400 | M54: =VLOOKUP(#REF!,'[1]PL3 Danh muc đầy đủ'!$E$9:$X$9281,20,0) -> #REF! | N54: =M54-#REF! -> #REF!
A55: 45 | B55: 02.0119.0004 | C55: 02. NỘI KHOA | D55: 2.119 | E55: Siêu âm tim cấp cứu tại giường | F55: Siêu âm tim cấp cứu tại giường | G55: T3 | H55: 252300 | I55: 252391.3 | J55: 262400 | M55: =VLOOKUP(#REF!,'[1]PL3 Danh muc đầy đủ'!$E$9:$X$9281,20,0) -> #REF! | N55: =M55-#REF! -> #REF!
A56: 46 | B56: 02.0154.0004 | C56: 02. NỘI KHOA | D56: 2.154 | E56: Siêu âm doppler xuyên sọ cấp cứu tại giường | F56: Siêu âm doppler xuyên sọ cấp cứu tại giường | H56: 252300 | I56: 252391.3 | J56: 262400 | M56: =VLOOKUP(#REF!,'[1]PL3 Danh muc đầy đủ'!$E$9:$X$9281,20,0) -> #REF! | N56: =M56-#REF! -> #REF!
A57: 47 | B57: 02.0315.0004 | C57: 02. NỘI KHOA | D57: 2.315 | E57: Siêu âm doppler mạch máu khối u gan | F57: Siêu âm doppler mạch máu khối u gan | H57: 252300 | I57: 252391.3 | J57: 262400 | M57: =VLOOKUP(#REF!,'[1]PL3 Danh muc đầy đủ'!$E$9:$X$9281,20,0) -> #REF! | N57: =M57-#REF! -> #REF!
A58: 48 | B58: 02.0316.0004 | C58: 02. NỘI KHOA | D58: 2.316 | E58: Siêu âm doppler mạch máu hệ tĩnh mạch cửa hoặc mạch máu ổ bụng | F58: Siêu âm doppler mạch máu hệ tĩnh mạch cửa hoặc mạch máu ổ bụng | H58: 252300 | I58: 252391.3 | J58: 262400 | M58: =VLOOKUP(#REF!,'[1]PL3 Danh muc đầy đủ'!$E$9:$X$9281,20,0) -> #REF! | N58: =M58-#REF! -> #REF!
A59: 49 | B59: 02.0447.0004 | C59: 02. NỘI KHOA | D59: 2.447 | E59: Siêu âm doppler màu tim qua thành ngực trong tim mạch can thiệp | F59: Siêu âm doppler màu tim qua thành ngực trong tim mạch can thiệp | G59: T1 | H59: 252300 | I59: 252391.3 | J59: 262400 | M59: =VLOOKUP(#REF!,'[1]PL3 Danh muc đầy đủ'!$E$9:$X$9281,20,0) -> #REF! | N59: =M59-#REF! -> #REF!
A60: 50 | B60: 03.0041.0004 | C60: 03. NHI KHOA | D60: 3.41 | E60: Siêu âm tim cấp cứu tại giường | F60: Siêu âm tim cấp cứu tại giường | G60: T1 | H60: 252300 | I60: 252391.3 | J60: 262400 | M60: =VLOOKUP(#REF!,'[1]PL3 Danh muc đầy đủ'!$E$9:$X$9281,20,0) -> #REF! | N60: =M60-#REF! -> #REF!
A61: 51 | B61: 03.0043.0004 | C61: 03. NHI KHOA | D61: 3.43 | E61: Siêu âm doppler mạch máu cấp cứu | F61: Siêu âm doppler mạch máu cấp cứu | G61: T1 | H61: 252300 | I61: 252391.3 | J61: 262400 | M61: =VLOOKUP(#REF!,'[1]PL3 Danh muc đầy đủ'!$E$9:$X$9281,20,0) -> #REF! | N61: =M61-#REF! -> #REF!
A62: 52 | B62: 03.0143.0004 | C62: 03. NHI KHOA | D62: 3.143 | E62: Siêu âm doppler xuyên sọ | F62: Siêu âm doppler xuyên sọ | G62: T2 | H62: 252300 | I62: 252391.3 | J62: 262400 | M62: =VLOOKUP(#REF!,'[1]PL3 Danh muc đầy đủ'!$E$9:$X$9281,20,0) -> #REF! | N62: =M62-#REF! -> #REF!
A63: 53 | B63: 03.2820.0004 | C63: 03. NHI KHOA | D63: 3.2820 | E63: Siêu âm tim tại giường | F63: Siêu âm tim tại giường | G63: T1 | H63: 252300 | I63: 252391.3 | J63: 262400 | M63: =VLOOKUP(#REF!,'[1]PL3 Danh muc đầy đủ'!$E$9:$X$9281,20,0) -> #REF! | N63: =M63-#REF! -> #REF!
A64: 54 | B64: 03.4248.0004 | C64: 03. NHI KHOA | D64: 3.4248 | E64: Siêu âm tim doppler | F64: Siêu âm tim doppler | G64: T3 | H64: 252300 | I64: 252391.3 | J64: 262400 | M64: =VLOOKUP(#REF!,'[1]PL3 Danh muc đầy đủ'!$E$9:$X$9281,20,0) -> #REF! | N64: =M64-#REF! -> #REF!
A65: 55 | B65: 03.4249.0004 | C65: 03. NHI KHOA | D65: 3.4249 | E65: Siêu âm tim doppler tại giường | F65: Siêu âm tim doppler tại giường | G65: T3 | H65: 252300 | I65: 252391.3 | J65: 262400 | M65: =VLOOKUP(#REF!,'[1]PL3 Danh muc đầy đủ'!$E$9:$X$9281,20,0) -> #REF! | N65: =M65-#REF! -> #REF!
A66: 56 | B66: 03.4252.0004 | C66: 03. NHI KHOA | D66: 3.4252 | E66: Siêu âm tim thai qua thành bụng | F66: Siêu âm tim thai qua thành bụng | G66: T3 | H66: 252300 | I66: 252391.3 | J66: 262400 | M66: =VLOOKUP(#REF!,'[1]PL3 Danh muc đầy đủ'!$E$9:$X$9281,20,0) -> #REF! | N66: =M66-#REF! -> #REF!
A67: 57 | B67: 09.0151.0004 | C67: 9. GÂY MÊ HỒI SỨC | D67: 9.151 | E67: Siêu âm tim cấp cứu tại giường | F67: Siêu âm tim cấp cứu tại giường | G67: T1 | H67: 252300 | I67: 252391.3 | J67: 262400 | M67: =VLOOKUP(#REF!,'[1]PL3 Danh muc đầy đủ'!$E$9:$X$9281,20,0) -> #REF! | N67: =M67-#REF! -> #REF!
A68: 58 | B68: 18.0023.0004 | C68: 18. ĐIỆN QUANG | D68: 18.23 | E68: Siêu âm doppler mạch máu ổ bụng (động mạch chủ, mạc treo tràng trên, thân tạng…) | F68: Siêu âm doppler mạch máu ổ bụng (động mạch chủ, mạc treo tràng trên, thân tạng…) | G68: T3 | H68: 252300 | I68: 252391.3 | J68: 262400 | M68: =VLOOKUP(#REF!,'[1]PL3 Danh muc đầy đủ'!$E$9:$X$9281,20,0) -> #REF! | N68: =M68-#REF! -> #REF!
A69: 59 | B69: 18.0024.0004 | C69: 18. ĐIỆN QUANG | D69: 18.24 | E69: Siêu âm doppler động mạch thận | F69: Siêu âm doppler động mạch thận | G69: T3 | H69: 252300 | I69: 252391.3 | J69: 262400 | M69: =VLOOKUP(#REF!,'[1]PL3 Danh muc đầy đủ'!$E$9:$X$9281,20,0) -> #REF! | N69: =M69-#REF! -> #REF!
A70: 60 | B70: 18.0029.0004 | C70: 18. ĐIỆN QUANG | D70: 18.29 | E70: Siêu âm doppler tĩnh mạch chậu, chủ dưới | F70: Siêu âm doppler tĩnh mạch chậu, chủ dưới | G70: T3 | H70: 252300 | I70: 252391.3 | J70: 262400 | M70: =VLOOKUP(#REF!,'[1]PL3 Danh muc đầy đủ'!$E$9:$X$9281,20,0) -> #REF! | N70: =M70-#REF! -> #REF!
... A75: 65 | B75: 18.0048.0004 | C75: 18. ĐIỆN QUANG | D75: 18.48 | E75: doppler động mạch cảnh, doppler xuyên sọ | F75: doppler động mạch cảnh, doppler xuyên sọ | G75: T3 | H75: 252300 | I75: 252391.3 | J75: 262400 | M75: =VLOOKUP(#REF!,'[1]PL3 Danh muc đầy đủ'!$E$9:$X$9281,20,0) -> #REF! | N75: =M75-#REF! -> #REF!
A76: 66 | B76: 18.0049.0004 | C76: 18. ĐIỆN QUANG | D76: 18.49 | E76: Siêu âm tim, màng tim qua thành ngực | F76: Siêu âm tim, màng tim qua thành ngực | H76: 252300 | I76: 252391.3 | J76: 262400 | M76: =VLOOKUP(#REF!,'[1]PL3 Danh muc đầy đủ'!$E$9:$X$9281,20,0) -> #REF! | N76: =M76-#REF! -> #REF!
A77: 67 | B77: 18.0052.0004 | C77: 18. ĐIỆN QUANG | D77: 18.52 | E77: Siêu âm doppler tim, van tim | F77: Siêu âm doppler tim, van tim | G77: T3 | H77: 252300 | I77: 252391.3 | J77: 262400 | M77: =VLOOKUP(#REF!,'[1]PL3 Danh muc đầy đủ'!$E$9:$X$9281,20,0) -> #REF! | N77: =M77-#REF! -> #REF!
A78: 68 | B78: 02.0114.0006 | C78: 02. NỘI KHOA | D78: 2.114 | E78: Siêu âm tim gắng sức (thảm chạy, thuốc) | F78: Siêu âm tim gắng sức (thảm chạy, thuốc) | G78: T2 | H78: 616300 | I78: 616356.52 | J78: 641000 | M78: =VLOOKUP(#REF!,'[1]PL3 Danh muc đầy đủ'!$E$9:$X$9281,20,0) -> #REF! | N78: =M78-#REF! -> #REF!
A79: 69 | B79: 02.0457.0006 | C79: 02. NỘI KHOA | D79: 2.457 | E79: Siêu âm doppler màu tim gắng sức với Dobutamine | F79: Siêu âm doppler màu tim gắng sức với Dobutamine | G79: T2 | H79: 616300 | I79: 616356.52 | J79: 641000 | M79: =VLOOKUP(#REF!,'[1]PL3 Danh muc đầy đủ'!$E$9:$X$9281,20,0) -> #REF! | N79: =M79-#REF! -> #REF!
A80: 70 | B80: 02.0458.0006 | C80: 02. NỘI KHOA | D80: 2.458 | E80: Siêu âm doppler màu tim gắng sức với xe đạp lực kế | F80: Siêu âm doppler màu tim gắng sức với xe đạp lực kế | G80: T2 | H80: 616300 | I80: 616356.52 | J80: 641000 | M80: =VLOOKUP(#REF!,'[1]PL3 Danh muc đầy đủ'!$E$9:$X$9281,20,0) -> #REF! | N80: =M80-#REF! -> #REF!
A81: 71 | B81: 02.0116.0007 | C81: 02. NỘI KHOA | D81: 2.116 | E81: Siêu âm tim 4D | F81: Siêu âm tim 4D | G81: T3 | H81: 486300 | I81: 486356.52 | J81: 505800 | K81: Chỉ áp dụng trong trường hợp chỉ định để thực hiện các phẫu thuật hoặc can thiệp tim mạch. | M81: =VLOOKUP(#REF!,'[1]PL3 Danh muc đầy đủ'!$E$9:$X$9281,20,0) -> #REF! | N81: =M81-#REF! -> #REF!
A82: 72 | B82: 02.0449.0007 | C82: 02. NỘI KHOA | D82: 2.449 | E82: Siêu âm doppler màu tim 3D/4D qua thành ngực trong tim mạch can thiệp | F82: Siêu âm doppler màu tim 3D/4D qua thành ngực trong tim mạch can thiệp | G82: T3 | H82: 486300 | I82: 486356.52 | J82: 505800 | K82: Chỉ áp dụng trong trường hợp chỉ định để thực hiện các phẫu thuật hoặc can thiệp tim mạch. | M82: =VLOOKUP(#REF!,'[1]PL3 Danh muc đầy đủ'!$E$9:$X$9281,20,0) -> #REF! | N82: =M82-#REF! -> #REF!
A83: 73 | B83: 18.0053.0007 | C83: 18. ĐIỆN QUANG | D83: 18.53 | E83: Siêu âm 3D/4D tim | F83: Siêu âm 3D/4D tim | G83: T2 | H83: 486300 | I83: 486356.52 | J83: 505800 | K83: Chỉ áp dụng trong trường hợp chỉ định để thực hiện các phẫu thuật hoặc can thiệp tim mạch. | M83: =VLOOKUP(#REF!,'[1]PL3 Danh muc đầy đủ'!$E$9:$X$9281,20,0) -> #REF! | N83: =M83-#REF! -> #REF!
A84: 74 | B84: 14.0239.0010 | C84: 14. MẮT | D84: 14.239 | E84: Chụp lỗ thị giác | F84: Chụp lỗ thị giác [≤ 24x30 cm, 1 tư thế] | G84: T2 | H84: 58300 | I84: 58382.609 | J84: 60700 | K84: Áp dụng cho 01 vị trí | M84: =VLOOKUP(#REF!,'[1]PL3 Danh muc đầy đủ'!$E$9:$X$9281,20,0) -> #REF! | N84: =M84-#REF! -> #REF!
A85: 75 | B85: 18.0067.0010 | C85: 18. ĐIỆN QUANG | D85: 18.67 | E85: Chụp X-quang sọ thẳng/nghiêng | F85: Chụp X-quang sọ thẳng/nghiêng [≤ 24x30 cm, 1 tư thế] | H85: 58300 | I85: 58382.609 | J85: 60700 | K85: Áp dụng cho 01 vị trí | M85: =VLOOKUP(#REF!,'[1]PL3 Danh muc đầy đủ'!$E$9:$X$9281,20,0) -> #REF! | N85: =M85-#REF! -> #REF!
A86: 76 | B86: 18.0069.0010 | C86: 18. ĐIỆN QUANG | D86: 18.69 | E86: Chụp X-quang mặt thấp hoặc mặt cao | F86: Chụp X-quang mặt thấp hoặc mặt cao [≤ 24x30 cm, 1 tư thế] | H86: 58300 | I86: 58382.609 | J86: 60700 | K86: Áp dụng cho 01 vị trí | M86: =VLOOKUP(#REF!,'[1]PL3 Danh muc đầy đủ'!$E$9:$X$9281,20,0) -> #REF! | N86: =M86-#REF! -> #REF!
A87: 77 | B87: 18.0070.0010 | C87: 18. ĐIỆN QUANG | D87: 18.70 | E87: Chụp X-quang sọ tiếp tuyến | F87: Chụp X-quang sọ tiếp tuyến [≤ 24x30 cm, 1 tư thế] | H87: 58300 | I87: 58382.609 | J87: 60700 | K87: Áp dụng cho 01 vị trí | M87: =VLOOKUP(#REF!,'[1]PL3 Danh muc đầy đủ'!$E$9:$X$9281,20,0) -> #REF! | N87: =M87-#REF! -> #REF!
A88: 78 | B88: 18.0072.0010 | C88: 18. ĐIỆN QUANG | D88: 18.72 | E88: Chụp X-quang Blondeau | F88: Chụp X-quang Blondeau [≤ 24x30 cm, 1 tư thế] | H88: 58300 | I88: 58382.609 | J88: 60700 | K88: Áp dụng cho 01 vị trí | M88: =VLOOKUP(#REF!,'[1]PL3 Danh muc đầy đủ'!$E$9:$X$9281,20,0) -> #REF! | N88: =M88-#REF! -> #REF!
A89: 79 | B89: 18.0073.0010 | C89: 18. ĐIỆN QUANG | D89: 18.73 | E89: Chụp X-quang Hirtz | F89: Chụp X-quang Hirtz [≤ 24x30 cm, 1 tư thế] | H89: 58300 | I89: 58382.609 | J89: 60700 | K89: Áp dụng cho 01 vị trí | M89: =VLOOKUP(#REF!,'[1]PL3 Danh muc đầy đủ'!$E$9:$X$9281,20,0) -> #REF! | N89: =M89-#REF! -> #REF!
A90: 80 | B90: 18.0074.0010 | C90: 18. ĐIỆN QUANG | D90: 18.74 | E90: Chụp X-quang hàm chếch một bên | F90: Chụp X-quang hàm chếch một bên [≤ 24x30 cm, 1 tư thế] | H90: 58300 | I90: 58382.609 | J90: 60700 | K90: Áp dụng cho 01 vị trí | M90: =VLOOKUP(#REF!,'[1]PL3 Danh muc đầy đủ'!$E$9:$X$9281,20,0) -> #REF! | N90: =M90-#REF! -> #REF!
A91: 81 | B91: 18.0075.0010 | C91: 18. ĐIỆN QUANG | D91: 18.75 | E91: Chụp X-quang xương chính mũi nghiêng hoặc tiếp tuyến | F91: Chụp X-quang xương chính mũi nghiêng hoặc tiếp tuyến [≤ 24x30 cm, 1 tư thế] | H91: 58300 | I91: 58382.609 | J91: 60700 | K91: Áp dụng cho 01 vị trí | M91: =VLOOKUP(#REF!,'[1]PL3 Danh muc đầy đủ'!$E$9:$X$9281,20,0) -> #REF! | N91: =M91-#REF! -> #REF!
A92: 82 | B92: 18.0076.0010 | C92: 18. ĐIỆN QUANG | D92: 18.76 | E92: Chụp X-quang hố yên thẳng hoặc nghiêng | F92: Chụp X-quang hố yên thẳng hoặc nghiêng [≤ 24x30 cm, 1 tư thế] | H92: 58300 | I92: 58382.609 | J92: 60700 | K92: Áp dụng cho 01 vị trí | M92: =VLOOKUP(#REF!,'[1]PL3 Danh muc đầy đủ'!$E$9:$X$9281,20,0) -> #REF! | N92: =M92-#REF! -> #REF!
A93: 83 | B93: 18.0077.0010 | C93: 18. ĐIỆN QUANG | D93: 18.77 | E93: Chụp X-quang Chausse III | F93: Chụp X-quang Chausse III [≤ 24x30 cm, 1 tư thế] | H93: 58300 | I93: 58382.609 | J93: 60700 | K93: Áp dụng cho 01 vị trí | M93: =VLOOKUP(#REF!,'[1]PL3 Danh muc đầy đủ'!$E$9:$X$9281,20,0) -> #REF! | N93: =M93-#REF! -> #REF!
A94: 84 | B94: 18.0078.0010 | C94: 18. ĐIỆN QUANG | D94: 18.78 | E94: Chụp X-quang Schuller | F94: Chụp X-quang Schuller [≤ 24x30 cm, 1 tư thế] | H94: 58300 | I94: 58382.609 | J94: 60700 | K94: Áp dụng cho 01 vị trí | M94: =VLOOKUP(#REF!,'[1]PL3 Danh muc đầy đủ'!$E$9:$X$9281,20,0) -> #REF! | N94: =M94-#REF! -> #REF!
A95: 85 | B95: 18.0079.0010 | C95: 18. ĐIỆN QUANG | D95: 18.79 | E95: Chụp X-quang Stenvers | F95: Chụp X-quang Stenvers [≤ 24x30 cm, 1 tư thế] | H95: 58300 | I95: 58382.609 | J95: 60700 | K95: Áp dụng cho 01 vị trí | M95: =VLOOKUP(#REF!,'[1]PL3 Danh muc đầy đủ'!$E$9:$X$9281,20,0) -> #REF! | N95: =M95-#REF! -> #REF!
A96: 86 | B96: 18.0080.0010 | C96: 18. ĐIỆN QUANG | D96: 18.80 | E96: Chụp X-quang khớp thái dương hàm | F96: Chụp X-quang khớp thái dương hàm [≤ 24x30 cm, 1 tư thế] | H96: 58300 | I96: 58382.609 | J96: 60700 | K96: Áp dụng cho 01 vị trí | M96: =VLOOKUP(#REF!,'[1]PL3 Danh muc đầy đủ'!$E$9:$X$9281,20,0) -> #REF! | N96: =M96-#REF! -> #REF!
... A111: 101 | B111: 18.0123.0010 | C111: 18. ĐIỆN QUANG | D111: 18.123 | E111: Chụp X-quang đỉnh phổi ưỡn | F111: Chụp X-quang đỉnh phổi ưỡn [≤ 24x30 cm, 1 tư thế] | H111: 58300 | I111: 58382.609 | J111: 60700 | K111: Áp dụng cho 01 vị trí | M111: =VLOOKUP(#REF!,'[1]PL3 Danh muc đầy đủ'!$E$9:$X$9281,20,0) -> #REF! | N111: =M111-#REF! -> #REF!
A112: 102 | B112: 14.0239.0011 | C112: 14. MẮT | D112: 14.239 | E112: Chụp lỗ thị giác | F112: Chụp lỗ thị giác [≤ 24x30 cm, 2 tư thế] | G112: T2 | H112: 64300 | I112: 64382.609 | J112: 66900 | K112: Áp dụng cho 01 vị trí | M112: =VLOOKUP(#REF!,'[1]PL3 Danh muc đầy đủ'!$E$9:$X$9281,20,0) -> #REF! | N112: =M112-#REF! -> #REF!
A113: 103 | B113: 18.0068.0011 | C113: 18. ĐIỆN QUANG | D113: 18.68 | E113: Chụp X-quang mặt thẳng nghiêng | F113: Chụp X-quang mặt thẳng nghiêng [≤ 24x30 cm, 2 tư thế] | H113: 64300 | I113: 64382.609 | J113: 66900 | K113: Áp dụng cho 01 vị trí | M113: =VLOOKUP(#REF!,'[1]PL3 Danh muc đầy đủ'!$E$9:$X$9281,20,0) -> #REF! | N113: =M113-#REF! -> #REF!
A114: 104 | B114: 18.0071.0011 | C114: 18. ĐIỆN QUANG | D114: 18.71 | E114: Chụp X-quang hốc mắt thẳng nghiêng | F114: Chụp X-quang hốc mắt thẳng nghiêng [≤ 24x30 cm, 2 tư thế] | H114: 64300 | I114: 64382.609 | J114: 66900 | K114: Áp dụng cho 01 vị trí | M114: =VLOOKUP(#REF!,'[1]PL3 Danh muc đầy đủ'!$E$9:$X$9281,20,0) -> #REF! | N114: =M114-#REF! -> #REF!
A115: 105 | B115: 18.0090.0011 | C115: 18. ĐIỆN QUANG | D115: 18.90 | E115: Chụp X-quang cột sống ngực thẳng nghiêng hoặc chếch | F115: Chụp X-quang cột sống ngực thẳng nghiêng hoặc chếch [≤ 24x30 cm, 2 tư thế] | H115: 64300 | I115: 64382.609 | J115: 66900 | K115: Áp dụng cho 01 vị trí | M115: =VLOOKUP(#REF!,'[1]PL3 Danh muc đầy đủ'!$E$9:$X$9281,20,0) -> #REF! | N115: =M115-#REF! -> #REF!
A116: 106 | B116: 18.0091.0011 | C116: 18. ĐIỆN QUANG | D116: 18.91 | E116: Chụp X-quang cột sống thắt lưng thẳng nghiêng | F116: Chụp X-quang cột sống thắt lưng thẳng nghiêng [≤ 24x30 cm, 2 tư thế] | H116: 64300 | I116: 64382.609 | J116: 66900 | K116: Áp dụng cho 01 vị trí | M116: =VLOOKUP(#REF!,'[1]PL3 Danh muc đầy đủ'!$E$9:$X$9281,20,0) -> #REF! | N116: =M116-#REF! -> #REF!
A117: 107 | B117: 18.0092.0011 | C117: 18. ĐIỆN QUANG | D117: 18.92 | E117: Chụp X-quang cột sống thắt lưng chếch hai bên | F117: Chụp X-quang cột sống thắt lưng chếch hai bên [≤ 24x30 cm, 2 tư thế] | H117: 64300 | I117: 64382.609 | J117: 66900 | K117: Áp dụng cho 01 vị trí | M117: =VLOOKUP(#REF!,'[1]PL3 Danh muc đầy đủ'!$E$9:$X$9281,20,0) -> #REF! | N117: =M117-#REF! -> #REF!
A118: 108 | B118: 18.0093.0011 | C118: 18. ĐIỆN QUANG | D118: 18.93 | E118: Chụp X-quang cột sống thắt lưng L5-S1 thẳng nghiêng | F118: Chụp X-quang cột sống thắt lưng L5-S1 thẳng nghiêng [≤ 24x30 cm, 2 tư thế] | H118: 64300 | I118: 64382.609 | J118: 66900 | K118: Áp dụng cho 01 vị trí | M118: =VLOOKUP(#REF!,'[1]PL3 Danh muc đầy đủ'!$E$9:$X$9281,20,0) -> #REF! | N118: =M118-#REF! -> #REF!
A119: 109 | B119: 18.0094.0011 | C119: 18. ĐIỆN QUANG | D119: 18.94 | E119: Chụp X-quang cột sống thắt lưng động, gập ưỡn | F119: Chụp X-quang cột sống thắt lưng động, gập ưỡn [≤ 24x30 cm, 2 tư thế] | H119: 64300 | I119: 64382.609 | J119: 66900 | K119: Áp dụng cho 01 vị trí | M119: =VLOOKUP(#REF!,'[1]PL3 Danh muc đầy đủ'!$E$9:$X$9281,20,0) -> #REF! | N119: =M119-#REF! -> #REF!
A120: 110 | B120: 18.0096.0011 | C120: 18. ĐIỆN QUANG | D120: 18.96 | E120: Chụp X-quang cột sống cùng cụt thẳng nghiêng | F120: Chụp X-quang cột sống cùng cụt thẳng nghiêng [≤ 24x30 cm, 2 tư thế] | H120: 64300 | I120: 64382.609 | J120: 66900 | K120: Áp dụng cho 01 vị trí | M120: =VLOOKUP(#REF!,'[1]PL3 Danh muc đầy đủ'!$E$9:$X$9281,20,0) -> #REF! | N120: =M120-#REF! -> #REF!
A121: 111 | B121: 18.0103.0011 | C121: 18. ĐIỆN QUANG | D121: 18.103 | E121: Chụp X-quang xương cánh tay thẳng nghiêng | F121: Chụp X-quang xương cánh tay thẳng nghiêng [≤ 24x30 cm, 2 tư thế] | H121: 64300 | I121: 64382.609 | J121: 66900 | K121: Áp dụng cho 01 vị trí | M121: =VLOOKUP(#REF!,'[1]PL3 Danh muc đầy đủ'!$E$9:$X$9281,20,0) -> #REF! | N121: =M121-#REF! -> #REF!
A122: 112 | B122: 18.0104.0011 | C122: 18. ĐIỆN QUANG | D122: 18.104 | E122: Chụp X-quang khớp khuỷu thẳng, nghiêng hoặc chếch | F122: Chụp X-quang khớp khuỷu thẳng, nghiêng hoặc chếch [≤ 24x30 cm, 2 tư thế] | H122: 64300 | I122: 64382.609 | J122: 66900 | K122: Áp dụng cho 01 vị trí | M122: =VLOOKUP(#REF!,'[1]PL3 Danh muc đầy đủ'!$E$9:$X$9281,20,0) -> #REF! | N122: =M122-#REF! -> #REF!
A123: 113 | B123: 18.0106.0011 | C123: 18. ĐIỆN QUANG | D123: 18.106 | E123: Chụp X-quang xương cẳng tay thẳng nghiêng | F123: Chụp X-quang xương cẳng tay thẳng nghiêng [≤ 24x30 cm, 2 tư thế] | H123: 64300 | I123: 64382.609 | J123: 66900 | K123: Áp dụng cho 01 vị trí | M123: =VLOOKUP(#REF!,'[1]PL3 Danh muc đầy đủ'!$E$9:$X$9281,20,0) -> #REF! | N123: =M123-#REF! -> #REF!
A124: 114 | B124: 18.0107.0011 | C124: 18. ĐIỆN QUANG | D124: 18.107 | E124: Chụp X-quang xương cổ tay thẳng, nghiêng hoặc chếch | F124: Chụp X-quang xương cổ tay thẳng, nghiêng hoặc chếch [≤ 24x30 cm, 2 tư thế] | H124: 64300 | I124: 64382.609 | J124: 66900 | K124: Áp dụng cho 01 vị trí | M124: =VLOOKUP(#REF!,'[1]PL3 Danh muc đầy đủ'!$E$9:$X$9281,20,0) -> #REF! | N124: =M124-#REF! -> #REF!
... A173: 163 | B173: 18.0125.0013 | C173: 18. ĐIỆN QUANG | D173: 18.125 | E173: Chụp X-quang bụng không chuẩn bị thẳng hoặc nghiêng | F173: Chụp X-quang bụng không chuẩn bị thẳng hoặc nghiêng [> 24x30 cm, 2 tư thế] | H173: 77300 | I173: 77382.609 | J173: 80400 | K173: Áp dụng cho 01 vị trí | M173: =VLOOKUP(#REF!,'[1]PL3 Danh muc đầy đủ'!$E$9:$X$9281,20,0) -> #REF! | N173: =M173-#REF! -> #REF!
A174: 164 | B174: 18.0083.0014 | C174: 18. ĐIỆN QUANG | D174: 18.83 | E174: Chụp X-quang răng toàn cảnh | F174: Chụp X-quang răng toàn cảnh | H174: 72300 | I174: 72382.609 | J174: 75200 | M174: =VLOOKUP(#REF!,'[1]PL3 Danh muc đầy đủ'!$E$9:$X$9281,20,0) -> #REF! | N174: =M174-#REF! -> #REF!
A175: 165 | B175: 18.0129.0014 | C175: 18. ĐIỆN QUANG | D175: 18.129 | E175: Chụp X-quang phim đo sọ thẳng, nghiêng (Cephalometric) | F175: Chụp X-quang phim đo sọ thẳng, nghiêng (Cephalometric) | H175: 72300 | I175: 72382.609 | J175: 75200 | M175: =VLOOKUP(#REF!,'[1]PL3 Danh muc đầy đủ'!$E$9:$X$9281,20,0) -> #REF! | N175: =M175-#REF! -> #REF!
A176: 166 | B176: 14.0244.0015 | C176: 14. MẮT | D176: 14.244 | E176: Chụp đáy mắt không huỳnh quang | F176: Chụp đáy mắt không huỳnh quang | G176: T1 | H176: 222300 | I176: 222382.61 | J176: 231200 | K176: 0 | M176: =VLOOKUP(#REF!,'[1]PL3 Danh muc đầy đủ'!$E$9:$X$9281,20,0) -> #REF! | N176: =M176-#REF! -> #REF!
A177: 167 | B177: 14.0243.0015 | C177: 14. MẮT | D177: 14.243 | E177: Chụp OCT bán phần sau nhãn cầu | F177: Chụp OCT bán phần sau nhãn cầu | G177: T1 | H177: 222300 | I177: 222382.61 | J177: 231200 | K177: 0 | M177: =VLOOKUP(#REF!,'[1]PL3 Danh muc đầy đủ'!$E$9:$X$9281,20,0) -> #REF! | N177: =M177-#REF! -> #REF!
A178: 168 | B178: 14.0242.0015 | C178: 14. MẮT | D178: 14.242 | E178: Chụp OCT bán phần trước nhãn cầu | F178: Chụp OCT bán phần trước nhãn cầu | G178: T1 | H178: 222300 | I178: 222382.61 | J178: 231200 | K178: 0 | M178: =VLOOKUP(#REF!,'[1]PL3 Danh muc đầy đủ'!$E$9:$X$9281,20,0) -> #REF! | N178: =M178-#REF! -> #REF!
A179: 169 | B179: 18.0124.0016 | C179: 18. ĐIỆN QUANG | D179: 18.124 | E179: Chụp X-quang thực quản cổ nghiêng | F179: Chụp X-quang thực quản cổ nghiêng [có thuốc cản quang] | H179: 109300 | I179: 109382.61 | J179: 113700 | M179: =VLOOKUP(#REF!,'[1]PL3 Danh muc đầy đủ'!$E$9:$X$9281,20,0) -> #REF! | N179: =M179-#REF! -> #REF!
A180: 170 | B180: 18.0130.0017 | C180: 18. ĐIỆN QUANG | D180: 18.130 | E180: Chụp X-quang thực quản dạ dày | F180: Chụp X-quang thực quản dạ dày [có thuốc cản quang] | H180: 124300 | I180: 124382.61 | J180: 129300 | M180: =VLOOKUP(#REF!,'[1]PL3 Danh muc đầy đủ'!$E$9:$X$9281,20,0) -> #REF! | N180: =M180-#REF! -> #REF!
A181: 171 | B181: 18.0131.0017 | C181: 18. ĐIỆN QUANG | D181: 18.131 | E181: Chụp X-quang ruột non | F181: Chụp X-quang ruột non [có thuốc cản quang] | H181: 124300 | I181: 124382.61 | J181: 129300 | M181: =VLOOKUP(#REF!,'[1]PL3 Danh muc đầy đủ'!$E$9:$X$9281,20,0) -> #REF! | N181: =M181-#REF! -> #REF!
A182: 172 | B182: 18.0132.0018 | C182: 18. ĐIỆN QUANG | D182: 18.132 | E182: Chụp X-quang đại tràng | F182: Chụp X-quang đại tràng [có thuốc cản quang] | H182: 164300 | I182: 164382.61 | J182: 170900 | M182: =VLOOKUP(#REF!,'[1]PL3 Danh muc đầy đủ'!$E$9:$X$9281,20,0) -> #REF! | N182: =M182-#REF! -> #REF!
A183: 173 | B183: 18.0133.0019 | C183: 18. ĐIỆN QUANG | D183: 18.133 | E183: Chụp X-quang đường mật qua Kehr | F183: Chụp X-quang đường mật qua Kehr | G183: T3 | H183: 280800 | I183: 280878.26 | J183: 292100 | K183: Chưa bao gồm thuốc cản quang. | M183: =VLOOKUP(#REF!,'[1]PL3 Danh muc đầy đủ'!$E$9:$X$9281,20,0) -> #REF! | N183: =M183-#REF! -> #REF!
...

Sheet PL4_PT gây tê 
A1: SỞ Y TẾ THÀNH PHỐ HẢI PHÒNG
A2: BỆNH VIỆN ĐA KHOA HẢI DƯƠNG
D3: Phụ lục 4
A5: GIÁ CÁC DỊCH VỤ KỸ THUẬT THỰC HIỆN BẰNG PHƯƠNG PHÁP VÔ CẢM GÂY TÊ CHƯA BAO GỒM THUỐC VÀ OXY SỬ DỤNG TRONG DỊCH VỤ ĐỀ XUẤT ĐIỀU CHỈNH
A6: (Kèm theo Nghị quyết số 43/NQ-HĐND ngày 25 tháng 9 năm 2026 của Hội đồng nhân dân thành phố Hải Phòng)
C8: Đơn vị tính: Đồng
A9: STT | B9: Mã tương đương | C9: Mã kỹ thuật theo TT23/2024 | D9: Tên dịch vụ kỹ thuật theo Thông tư 23/2024/TT-BYT | E9: Tên dịch vụ dịch vụ giá (Tên KT theo TT 23/2024) | F9: Phân Loại PTTT | H9: V. Tích lũy hoặc lợi nhuận/ Nghĩa vụ tài chính (nếu có) | I9: Ghi chú
G10: Mức giá
A11: 1 | B11: 10.1113.0398 | C11: 10.1113 | D11: Phẫu thuật đặt Catheter ổ bụng để lọc màng bụng chu kỳ | E11: Phẫu thuật đặt Catheter ổ bụng để lọc màng bụng chu kỳ | F11: P2 | G11: 7451100 | H11: 0 | I11: Chưa bao gồm thuốc và oxy | J11: =VLOOKUP(#REF!,'[2]PL4.PT gây tê'!$D$9:$W$767,20,0) -> #REF! | K11: =J11-#REF! -> #REF!
A12: 2 | B12: 10.0260.0399 | C12: 10.260 | D12: Phẫu thuật tạo thông động - tĩnh mạch để chạy thận nhân tạo | E12: Phẫu thuật tạo thông động - tĩnh mạch để chạy thận nhân tạo | F12: P1 | G12: 2177400 | H12: 0 | I12: Chưa bao gồm mạch máu nhân tạo, động mạch chủ nhân tạo, thuốc và oxy | J12: =VLOOKUP(#REF!,'[2]PL4.PT gây tê'!$D$9:$W$767,20,0) -> #REF! | K12: =J12-#REF! -> #REF!
A13: 3 | B13: 03.3234.0400 | C13: 3.3234 | D13: Mở lồng ngực thăm dò | E13: Mở lồng ngực thăm dò | F13: P3 | G13: 2827600 | H13: 0 | I13: Chưa bao gồm thuốc và oxy | J13: =VLOOKUP(#REF!,'[2]PL4.PT gây tê'!$D$9:$W$767,20,0) -> #REF! | K13: =J13-#REF! -> #REF!
A14: 4 | B14: 03.3919.0400 | C14: 3.3919 | D14: Phẫu thuật lấy dị vật lồng ngực, ổ bụng | E14: Phẫu thuật lấy dị vật lồng ngực, ổ bụng [lồng ngực] | F14: P1 | G14: 2827600 | H14: 0 | I14: Chưa bao gồm thuốc và oxy | J14: =VLOOKUP(#REF!,'[2]PL4.PT gây tê'!$D$9:$W$767,20,0) -> #REF! | K14: =J14-#REF! -> #REF!
A15: 5 | B15: 10.0238.0400 | C15: 10.238 | D15: Phẫu thuật dẫn lưu dịch khoang màng tim | E15: Phẫu thuật dẫn lưu dịch khoang màng tim | F15: P2 | G15: 2827600 | H15: 0 | I15: Chưa bao gồm thuốc và oxy | J15: =VLOOKUP(#REF!,'[2]PL4.PT gây tê'!$D$9:$W$767,20,0) -> #REF! | K15: =J15-#REF! -> #REF!
A16: 6 | B16: 10.0289.0400 | C16: 10.289 | D16: Mở ngực thăm dò, sinh thiết | E16: Mở ngực thăm dò, sinh thiết | F16: P1 | G16: 2827600 | H16: 0 | I16: Chưa bao gồm thuốc và oxy | J16: =VLOOKUP(#REF!,'[2]PL4.PT gây tê'!$D$9:$W$767,20,0) -> #REF! | K16: =J16-#REF! -> #REF!
A17: 7 | B17: 10.0414.0400 | C17: 10.414 | D17: Mở ngực thăm dò | E17: Mở ngực thăm dò | F17: P2 | G17: 2827600 | H17: 0 | I17: Chưa bao gồm thuốc và oxy | J17: =VLOOKUP(#REF!,'[2]PL4.PT gây tê'!$D$9:$W$767,20,0) -> #REF! | K17: =J17-#REF! -> #REF!
A18: 8 | B18: 10.0415.0400 | C18: 10.415 | D18: Mở ngực thăm dò, sinh thiết | E18: Mở ngực thăm dò, sinh thiết | F18: P2 | G18: 2827600 | H18: 0 | I18: Chưa bao gồm thuốc và oxy | J18: =VLOOKUP(#REF!,'[2]PL4.PT gây tê'!$D$9:$W$767,20,0) -> #REF! | K18: =J18-#REF! -> #REF!
A19: 9 | B19: 12.0166.0400 | C19: 12.166 | D19: Mở lồng ngực thăm dò, sinh thiết | E19: Mở lồng ngực thăm dò, sinh thiết | F19: P2 | G19: 2827600 | H19: 0 | I19: Chưa bao gồm thuốc và oxy | J19: =VLOOKUP(#REF!,'[2]PL4.PT gây tê'!$D$9:$W$767,20,0) -> #REF! | K19: =J19-#REF! -> #REF!
A20: 10 | B20: 12.0169.0400 | C20: 12.169 | D20: Phẫu thuật bóc kén màng phổi | E20: Phẫu thuật bóc kén màng phổi | F20: P1 | G20: 2827600 | H20: 0 | I20: Chưa bao gồm thuốc và oxy | J20: =VLOOKUP(#REF!,'[2]PL4.PT gây tê'!$D$9:$W$767,20,0) -> #REF! | K20: =J20-#REF! -> #REF!
A21: 11 | B21: 12.0171.0400 | C21: 12.171 | D21: Phẫu thuật cắt kén khí phổi | E21: Phẫu thuật cắt kén khí phổi | F21: P1 | G21: 2827600 | H21: 0 | I21: Chưa bao gồm thuốc và oxy | J21: =VLOOKUP(#REF!,'[2]PL4.PT gây tê'!$D$9:$W$767,20,0) -> #REF! | K21: =J21-#REF! -> #REF!
A22: 12 | B22: 03.2629.0407 | C22: 3.2629 | D22: Cắt u máu, u bạch huyết đường kính trên 10 cm | E22: Cắt u máu, u bạch huyết đường kính trên 10 cm | F22: P1 | G22: 2533500 | H22: 0 | I22: Chưa bao gồm thuốc và oxy | J22: =VLOOKUP(#REF!,'[2]PL4.PT gây tê'!$D$9:$W$767,20,0) -> #REF! | K22: =J22-#REF! -> #REF!
... A30: 20 | B30: 03.2708.0416 | C30: 3.2708 | D30: Cắt thận và niệu quản do u niệu quản, u đường bài xuất | E30: Cắt thận và niệu quản do u niệu quản, u đường bài xuất | F30: P1 | G30: 3721500 | H30: 0 | I30: Chưa bao gồm dao siêu âm hoặc dao hàn mô hoặc dao hàn mạch, thuốc và oxy | J30: =VLOOKUP(#REF!,'[2]PL4.PT gây tê'!$D$9:$W$767,20,0) -> #REF! | K30: =J30-#REF! -> #REF!
A31: 21 | B31: 03.2713.0416 | C31: 3.2713 | D31: Cắt ung thư thận | E31: Cắt ung thư thận | G31: 3721500 | H31: 0 | I31: Chưa bao gồm dao siêu âm hoặc dao hàn mô hoặc dao hàn mạch, thuốc và oxy | J31: =VLOOKUP(#REF!,'[2]PL4.PT gây tê'!$D$9:$W$767,20,0) -> #REF! | K31: =J31-#REF! -> #REF!
A32: 22 | B32: 03.2714.0416 | C32: 3.2714 | D32: Cắt u thận kèm lấy huyết khối tĩnh mạch chủ dưới | E32: Cắt u thận kèm lấy huyết khối tĩnh mạch chủ dưới | F32: P1 | G32: 3721500 | H32: 0 | I32: Chưa bao gồm dao siêu âm hoặc dao hàn mô hoặc dao hàn mạch, thuốc và oxy | J32: =VLOOKUP(#REF!,'[2]PL4.PT gây tê'!$D$9:$W$767,20,0) -> #REF! | K32: =J32-#REF! -> #REF!
A33: 23 | B33: 03.2715.0416 | C33: 3.2715 | D33: Cắt toàn bộ thận và niệu quản | E33: Cắt toàn bộ thận và niệu quản | F33: P1 | G33: 3721500 | H33: 0 | I33: Chưa bao gồm dao siêu âm hoặc dao hàn mô hoặc dao hàn mạch, thuốc và oxy | J33: =VLOOKUP(#REF!,'[2]PL4.PT gây tê'!$D$9:$W$767,20,0) -> #REF! | K33: =J33-#REF! -> #REF!
A34: 24 | B34: 03.3470.0416 | C34: 3.3470 | D34: Cắt toàn bộ thận và niệu quản | E34: Cắt toàn bộ thận và niệu quản | F34: P1 | G34: 3721500 | H34: 0 | I34: Chưa bao gồm dao siêu âm hoặc dao hàn mô hoặc dao hàn mạch, thuốc và oxy | J34: =VLOOKUP(#REF!,'[2]PL4.PT gây tê'!$D$9:$W$767,20,0) -> #REF! | K34: =J34-#REF! -> #REF!
A35: 25 | B35: 03.3471.0416 | C35: 3.3471 | D35: Cắt thận đơn thuần | E35: Cắt thận đơn thuần | F35: P1 | G35: 3721500 | H35: 0 | I35: Chưa bao gồm dao siêu âm hoặc dao hàn mô hoặc dao hàn mạch, thuốc và oxy | J35: =VLOOKUP(#REF!,'[2]PL4.PT gây tê'!$D$9:$W$767,20,0) -> #REF! | K35: =J35-#REF! -> #REF!
A36: 26 | B36: 03.3472.0416 | C36: 3.3472 | D36: Cắt một nửa thận | E36: Cắt một nửa thận | F36: P1 | G36: 3721500 | H36: 0 | I36: Chưa bao gồm dao siêu âm hoặc dao hàn mô hoặc dao hàn mạch, thuốc và oxy | J36: =VLOOKUP(#REF!,'[2]PL4.PT gây tê'!$D$9:$W$767,20,0) -> #REF! | K36: =J36-#REF! -> #REF!
A37: 27 | B37: 10.0301.0416 | C37: 10.301 | D37: Cắt thận thận phụ (thận dư số) với niệu quản lạc chỗ | E37: Cắt thận thận phụ (thận dư số) với niệu quản lạc chỗ | F37: P1 | G37: 3721500 | H37: 0 | I37: Chưa bao gồm dao siêu âm hoặc dao hàn mô hoặc dao hàn mạch, thuốc và oxy | J37: =VLOOKUP(#REF!,'[2]PL4.PT gây tê'!$D$9:$W$767,20,0) -> #REF! | K37: =J37-#REF! -> #REF!
A38: 28 | B38: 10.0302.0416 | C38: 10.302 | D38: Cắt toàn bộ thận và niệu quản | E38: Cắt toàn bộ thận và niệu quản | F38: PDB | G38: 3721500 | H38: 0 | I38: Chưa bao gồm dao siêu âm hoặc dao hàn mô hoặc dao hàn mạch, thuốc và oxy | J38: =VLOOKUP(#REF!,'[2]PL4.PT gây tê'!$D$9:$W$767,20,0) -> #REF! | K38: =J38-#REF! -> #REF!
A39: 29 | B39: 10.0303.0416 | C39: 10.303 | D39: Cắt thận đơn thuần | E39: Cắt thận đơn thuần | F39: P1 | G39: 3721500 | H39: 0 | I39: Chưa bao gồm dao siêu âm hoặc dao hàn mô hoặc dao hàn mạch, thuốc và oxy | J39: =VLOOKUP(#REF!,'[2]PL4.PT gây tê'!$D$9:$W$767,20,0) -> #REF! | K39: =J39-#REF! -> #REF!
A40: 30 | B40: 10.0304.0416 | C40: 10.304 | D40: Cắt một nửa thận (cắt thận bán phần) | E40: Cắt một nửa thận (cắt thận bán phần) | F40: P1 | G40: 3721500 | H40: 0 | I40: Chưa bao gồm dao siêu âm hoặc dao hàn mô hoặc dao hàn mạch, thuốc và oxy | J40: =VLOOKUP(#REF!,'[2]PL4.PT gây tê'!$D$9:$W$767,20,0) -> #REF! | K40: =J40-#REF! -> #REF!
A41: 31 | B41: 10.0322.0416 | C41: 10.322 | D41: Cắt thận rộng rãi + nạo vét hạch | E41: Cắt thận rộng rãi + nạo vét hạch | F41: PDB | G41: 3721500 | H41: 0 | I41: Chưa bao gồm dao siêu âm hoặc dao hàn mô hoặc dao hàn mạch, thuốc và oxy | J41: =VLOOKUP(#REF!,'[2]PL4.PT gây tê'!$D$9:$W$767,20,0) -> #REF! | K41: =J41-#REF! -> #REF!
A42: 32 | B42: 12.0257.0416 | C42: 12.257 | D42: Cắt thận và niệu quản do u niệu quản, u đường tiết niệu | E42: Cắt thận và niệu quản do u niệu quản, u đường tiết niệu | F42: P1 | G42: 3721500 | H42: 0 | I42: Chưa bao gồm dao siêu âm hoặc dao hàn mô hoặc dao hàn mạch, thuốc và oxy | J42: =VLOOKUP(#REF!,'[2]PL4.PT gây tê'!$D$9:$W$767,20,0) -> #REF! | K42: =J42-#REF! -> #REF!
A43: 33 | B43: 12.0259.0416 | C43: 12.259 | D43: Cắt ung thư thận có hoặc không vét hạch hệ thống | E43: Cắt ung thư thận có hoặc không vét hạch hệ thống | G43: 3721500 | H43: 0 | I43: Chưa bao gồm dao siêu âm hoặc dao hàn mô hoặc dao hàn mạch, thuốc và oxy | J43: =VLOOKUP(#REF!,'[2]PL4.PT gây tê'!$D$9:$W$767,20,0) -> #REF! | K43: =J43-#REF! -> #REF!
A44: 34 | B44: 12.0260.0416 | C44: 12.260 | D44: Cắt toàn bộ thận và niệu quản | E44: Cắt toàn bộ thận và niệu quản | F44: P1 | G44: 3721500 | H44: 0 | I44: Chưa bao gồm dao siêu âm hoặc dao hàn mô hoặc dao hàn mạch, thuốc và oxy | J44: =VLOOKUP(#REF!,'[2]PL4.PT gây tê'!$D$9:$W$767,20,0) -> #REF! | K44: =J44-#REF! -> #REF!
A45: 35 | B45: 03.3475.0421 | C45: 3.3475 | D45: Lấy sỏi san hô thận | E45: Lấy sỏi san hô thận | F45: P2 | G45: 3688400 | H45: 0 | I45: Chưa bao gồm thuốc và oxy | J45: =VLOOKUP(#REF!,'[2]PL4.PT gây tê'!$D$9:$W$767,20,0) -> #REF! | K45: =J45-#REF! -> #REF!
A46: 36 | B46: 03.3476.0421 | C46: 3.3476 | D46: Lấy sỏi mở bể thận trong xoang | E46: Lấy sỏi mở bể thận trong xoang | F46: P2 | G46: 3688400 | H46: 0 | I46: Chưa bao gồm thuốc và oxy | J46: =VLOOKUP(#REF!,'[2]PL4.PT gây tê'!$D$9:$W$767,20,0) -> #REF! | K46: =J46-#REF! -> #REF!
A47: 37 | B47: 03.3477.0421 | C47: 3.3477 | D47: Lấy sỏi mở bể thận, đài thận có dẫn lưu thận | E47: Lấy sỏi mở bể thận, đài thận có dẫn lưu thận | F47: P2 | G47: 3688400 | H47: 0 | I47: Chưa bao gồm thuốc và oxy | J47: =VLOOKUP(#REF!,'[2]PL4.PT gây tê'!$D$9:$W$767,20,0) -> #REF! | K47: =J47-#REF! -> #REF!
A48: 38 | B48: 03.3479.0421 | C48: 3.3479 | D48: Lấy sỏi bể thận ngoài xoang | E48: Lấy sỏi bể thận ngoài xoang | F48: P2 | G48: 3688400 | H48: 0 | I48: Chưa bao gồm thuốc và oxy | J48: =VLOOKUP(#REF!,'[2]PL4.PT gây tê'!$D$9:$W$767,20,0) -> #REF! | K48: =J48-#REF! -> #REF!
A49: 39 | B49: 03.3492.0421 | C49: 3.3492 | D49: Lấy sỏi niệu quản | E49: Lấy sỏi niệu quản | F49: P1 | G49: 3688400 | H49: 0 | I49: Chưa bao gồm thuốc và oxy | J49: =VLOOKUP(#REF!,'[2]PL4.PT gây tê'!$D$9:$W$767,20,0) -> #REF! | K49: =J49-#REF! -> #REF!
A50: 40 | B50: 03.3493.0421 | C50: 3.3493 | D50: Lấy sỏi niệu quản tái phát, phẫu thuật lại | E50: Lấy sỏi niệu quản tái phát, phẫu thuật lại | F50: P1 | G50: 3688400 | H50: 0 | I50: Chưa bao gồm thuốc và oxy | J50: =VLOOKUP(#REF!,'[2]PL4.PT gây tê'!$D$9:$W$767,20,0) -> #REF! | K50: =J50-#REF! -> #REF!
A51: 41 | B51: 03.3494.0421 | C51: 3.3494 | D51: Lấy sỏi niệu quản đoạn sát bàng quang | E51: Lấy sỏi niệu quản đoạn sát bàng quang | F51: P1 | G51: 3688400 | H51: 0 | I51: Chưa bao gồm thuốc và oxy | J51: =VLOOKUP(#REF!,'[2]PL4.PT gây tê'!$D$9:$W$767,20,0) -> #REF! | K51: =J51-#REF! -> #REF!
A52: 42 | B52: 03.3517.0421 | C52: 3.3517 | D52: Lấy sỏi bàng quang lần 2, đóng lỗ rò bàng quang | E52: Lấy sỏi bàng quang lần 2, đóng lỗ rò bàng quang | F52: P1 | G52: 3688400 | H52: 0 | I52: Chưa bao gồm thuốc và oxy | J52: =VLOOKUP(#REF!,'[2]PL4.PT gây tê'!$D$9:$W$767,20,0) -> #REF! | K52: =J52-#REF! -> #REF!
A53: 43 | B53: 03.3531.0421 | C53: 3.3531 | D53: Mổ lấy sỏi bàng quang | E53: Mổ lấy sỏi bàng quang | F53: P2 | G53: 3688400 | H53: 0 | I53: Chưa bao gồm thuốc và oxy | J53: =VLOOKUP(#REF!,'[2]PL4.PT gây tê'!$D$9:$W$767,20,0) -> #REF! | K53: =J53-#REF! -> #REF!
A54: 44 | B54: 10.0306.0421 | C54: 10.306 | D54: Lấy sỏi san hô thận | E54: Lấy sỏi san hô thận | F54: P1 | G54: 3688400 | H54: 0 | I54: Chưa bao gồm thuốc và oxy | J54: =VLOOKUP(#REF!,'[2]PL4.PT gây tê'!$D$9:$W$767,20,0) -> #REF! | K54: =J54-#REF! -> #REF!
A55: 45 | B55: 10.0307.0421 | C55: 10.307 | D55: Lấy sỏi mở bể thận trong xoang | E55: Lấy sỏi mở bể thận trong xoang | F55: P1 | G55: 3688400 | H55: 0 | I55: Chưa bao gồm thuốc và oxy | J55: =VLOOKUP(#REF!,'[2]PL4.PT gây tê'!$D$9:$W$767,20,0) -> #REF! | K55: =J55-#REF! -> #REF!
... A62: 52 | B62: 03.2709.0424 | C62: 3.2709 | D62: Cắt một phần bàng quang | E62: Cắt một phần bàng quang | F62: P1 | G62: 4479200 | H62: 0 | I62: Chưa bao gồm thuốc và oxy | J62: =VLOOKUP(#REF!,'[2]PL4.PT gây tê'!$D$9:$W$767,20,0) -> #REF! | K62: =J62-#REF! -> #REF!
A63: 53 | B63: 03.2716.0425 | C63: 3.2716 | D63: Cắt u bàng quang đường trên | E63: Cắt u bàng quang đường trên | G63: 4923500 | H63: 0 | I63: Chưa bao gồm dao siêu âm hoặc dao hàn mô hoặc dao hàn mạch. | J63: =VLOOKUP(#REF!,'[2]PL4.PT gây tê'!$D$9:$W$767,20,0) -> #REF! | K63: =J63-#REF! -> #REF!
A64: 54 | B64: 03.3527.0425 | C64: 3.3527 | D64: Phẫu thuật cắt túi thừa bàng quang | E64: Phẫu thuật cắt túi thừa bàng quang | F64: P1 | G64: 4923500 | H64: 0 | I64: Chưa bao gồm dao siêu âm hoặc dao hàn mô hoặc dao hàn mạch. | J64: =VLOOKUP(#REF!,'[2]PL4.PT gây tê'!$D$9:$W$767,20,0) -> #REF! | K64: =J64-#REF! -> #REF!
A65: 55 | B65: 10.0352.0425 | C65: 10.352 | D65: Phẫu thuật cắt túi thừa bàng quang | E65: Phẫu thuật cắt túi thừa bàng quang | F65: P1 | G65: 4923500 | H65: 0 | I65: Chưa bao gồm dao siêu âm hoặc dao hàn mô hoặc dao hàn mạch. | J65: =VLOOKUP(#REF!,'[2]PL4.PT gây tê'!$D$9:$W$767,20,0) -> #REF! | K65: =J65-#REF! -> #REF!
A66: 56 | B66: 10.0360.0425 | C66: 10.360 | D66: Cắt u ống niệu rốn và một phần bàng quang | E66: Cắt u ống niệu rốn và một phần bàng quang | F66: P1 | G66: 4923500 | H66: 0 | I66: Chưa bao gồm dao siêu âm hoặc dao hàn mô hoặc dao hàn mạch. | J66: =VLOOKUP(#REF!,'[2]PL4.PT gây tê'!$D$9:$W$767,20,0) -> #REF! | K66: =J66-#REF! -> #REF!
A67: 57 | B67: 12.0243.0425 | C67: 12.243 | D67: Cắt u bàng quang đường trên | E67: Cắt u bàng quang đường trên | G67: 4923500 | H67: 0 | I67: Chưa bao gồm dao siêu âm hoặc dao hàn mô hoặc dao hàn mạch, thuốc và oxy | J67: =VLOOKUP(#REF!,'[2]PL4.PT gây tê'!$D$9:$W$767,20,0) -> #REF! | K67: =J67-#REF! -> #REF!
A68: 58 | B68: 27.0383.0426 | C68: 27.383 | D68: Phẫu thuật nội soi cắt túi thừa bàng quang | E68: Phẫu thuật nội soi cắt túi thừa bàng quang | F68: P1 | G68: 3870700 | H68: 0 | I68: Chưa bao gồm dao siêu âm hoặc dao hàn mô hoặc dao hàn mạch, thuốc và oxy | J68: =VLOOKUP(#REF!,'[2]PL4.PT gây tê'!$D$9:$W$767,20,0) -> #REF! | K68: =J68-#REF! -> #REF!
A69: 59 | B69: 27.0385.0426 | C69: 27.385 | D69: Nội soi bàng quang cắt u | E69: Nội soi bàng quang cắt u | F69: P1 | G69: 3870700 | H69: 0 | I69: Chưa bao gồm dao siêu âm hoặc dao hàn mô hoặc dao hàn mạch, thuốc và oxy | J69: =VLOOKUP(#REF!,'[2]PL4.PT gây tê'!$D$9:$W$767,20,0) -> #REF! | K69: =J69-#REF! -> #REF!
A70: 60 | B70: 27.0386.0426 | C70: 27.386 | D70: Cắt u bàng quang tái phát qua nội soi | E70: Cắt u bàng quang tái phát qua nội soi | F70: P1 | G70: 3870700 | H70: 0 | I70: Chưa bao gồm dao siêu âm hoặc dao hàn mô hoặc dao hàn mạch, thuốc và oxy | J70: =VLOOKUP(#REF!,'[2]PL4.PT gây tê'!$D$9:$W$767,20,0) -> #REF! | K70: =J70-#REF! -> #REF!
A71: 61 | B71: 03.3516.0429 | C71: 3.3516 | D71: Cắt đường rò bàng quang - rốn, khâu lại bàng quang | E71: Cắt đường rò bàng quang - rốn, khâu lại bàng quang | F71: P1 | G71: 4008300 | H71: 0 | I71: Chưa bao gồm thuốc và oxy | J71: =VLOOKUP(#REF!,'[2]PL4.PT gây tê'!$D$9:$W$767,20,0) -> #REF! | K71: =J71-#REF! -> #REF!
A72: 62 | B72: 03.3530.0429 | C72: 3.3530 | D72: Cắt đường rò bàng quang rốn, khâu lại bàng quang | E72: Cắt đường rò bàng quang rốn, khâu lại bàng quang | F72: P2 | G72: 4008300 | H72: 0 | I72: Chưa bao gồm thuốc và oxy | J72: =VLOOKUP(#REF!,'[2]PL4.PT gây tê'!$D$9:$W$767,20,0) -> #REF! | K72: =J72-#REF! -> #REF!
A73: 63 | B73: 10.0330.0429 | C73: 10.330 | D73: Phẫu thuật rò niệu quản - âm đạo | E73: Phẫu thuật rò niệu quản - âm đạo | F73: P1 | G73: 4008300 | H73: 0 | I73: Chưa bao gồm thuốc và oxy | J73: =VLOOKUP(#REF!,'[2]PL4.PT gây tê'!$D$9:$W$767,20,0) -> #REF! | K73: =J73-#REF! -> #REF!
A74: 64 | B74: 10.0375.0432 | C74: 10.375 | D74: Bóc u tiền liệt tuyến qua đường sau xương mu | E74: Bóc u tiền liệt tuyến qua đường sau xương mu | F74: P1 | G74: 4398000 | H74: 0 | I74: Chưa bao gồm thuốc và oxy | J74: =VLOOKUP(#REF!,'[2]PL4.PT gây tê'!$D$9:$W$767,20,0) -> #REF! | K74: =J74-#REF! -> #REF!
A75: 65 | B75: 10.0376.0432 | C75: 10.376 | D75: Bóc u tiền liệt tuyến qua đường bàng quang | E75: Bóc u tiền liệt tuyến qua đường bàng quang | F75: P1 | G75: 4398000 | H75: 0 | I75: Chưa bao gồm thuốc và oxy | J75: =VLOOKUP(#REF!,'[2]PL4.PT gây tê'!$D$9:$W$767,20,0) -> #REF! | K75: =J75-#REF! -> #REF!
A76: 66 | B76: 03.3545.0434 | C76: 3.3545 | D76: Cấp cứu nối niệu đạo do vỡ xương chậu | E76: Cấp cứu nối niệu đạo do vỡ xương chậu | F76: PDB | G76: 3823400 | H76: 0 | I76: Chưa bao gồm thuốc và oxy | J76: =VLOOKUP(#REF!,'[2]PL4.PT gây tê'!$D$9:$W$767,20,0) -> #REF! | K76: =J76-#REF! -> #REF!
A77: 67 | B77: 10.0367.0434 | C77: 10.367 | D77: Cắt nối niệu đạo trước | E77: Cắt nối niệu đạo trước | F77: P1 | G77: 3823400 | H77: 0 | I77: Chưa bao gồm thuốc và oxy | J77: =VLOOKUP(#REF!,'[2]PL4.PT gây tê'!$D$9:$W$767,20,0) -> #REF! | K77: =J77-#REF! -> #REF!
A78: 68 | B78: 10.0373.0434 | C78: 10.373 | D78: Phẫu thuật lỗ tiểu lệch thấp, tạo hình một thì | E78: Phẫu thuật lỗ tiểu lệch thấp, tạo hình một thì | F78: PDB | G78: 3823400 | H78: 0 | I78: Chưa bao gồm thuốc và oxy | J78: =VLOOKUP(#REF!,'[2]PL4.PT gây tê'!$D$9:$W$767,20,0) -> #REF! | K78: =J78-#REF! -> #REF!
A79: 69 | B79: 12.0252.0434 | C79: 12.252 | D79: Cắt cụt toàn bộ bộ phận sinh dục ngoài do ung thư | E79: Cắt cụt toàn bộ bộ phận sinh dục ngoài do ung thư | F79: P1 | G79: 3823400 | H79: 0 | I79: Chưa bao gồm thuốc và oxy | J79: =VLOOKUP(#REF!,'[2]PL4.PT gây tê'!$D$9:$W$767,20,0) -> #REF! | K79: =J79-#REF! -> #REF!
... A118: 108 | B118: 27.0235.0462 | C118: 27.235 | D118: Phẫu thuật nội soi cố định trực tràng bằng lưới trong điều trị sa trực tràng | E118: Phẫu thuật nội soi cố định trực tràng bằng lưới trong điều trị sa trực tràng | F118: P1 | G118: 3840100 | H118: 0 | I118: Chưa bao gồm tấm nâng trực tràng, dao siêu âm hoặc dao hàn mô hoặc dao hàn mạch, thuốc và oxy | J118: =VLOOKUP(#REF!,'[2]PL4.PT gây tê'!$D$9:$W$767,20,0) -> #REF! | K118: =J118-#REF! -> #REF!
A119: 109 | B119: 03.2688.0464 | C119: 3.2688 | D119: Dẫn lưu đường mật ra da do ung thư | E119: Dẫn lưu đường mật ra da do ung thư | G119: 2461800 | H119: 0 | I119: Chưa bao gồm kẹp khóa mạch máu, miếng cầm máu, máy cắt nối tự động và ghim khâu máy cắt nối. | J119: =VLOOKUP(#REF!,'[2]PL4.PT gây tê'!$D$9:$W$767,20,0) -> #REF! | K119: =J119-#REF! -> #REF!
A120: 110 | B120: 03.3394.0464 | C120: 3.3394 | D120: Phẫu thuật dẫn lưu áp xe cơ đái chậu | E120: Phẫu thuật dẫn lưu áp xe cơ đái chậu | F120: P3 | G120: 2461800 | H120: 0 | I120: Chưa bao gồm kẹp khóa mạch máu, miếng cầm máu, máy cắt nối tự động và ghim khâu máy cắt nối. | J120: =VLOOKUP(#REF!,'[2]PL4.PT gây tê'!$D$9:$W$767,20,0) -> #REF! | K120: =J120-#REF! -> #REF!
A121: 111 | B121: 03.3438.0464 | C121: 3.3438 | D121: Dẫn lưu đường mật ra da | E121: Dẫn lưu đường mật ra da | F121: P2 | G121: 2461800 | H121: 0 | I121: Chưa bao gồm kẹp khóa mạch máu, miếng cầm máu, máy cắt nối tự động và ghim khâu máy cắt nối. | J121: =VLOOKUP(#REF!,'[2]PL4.PT gây tê'!$D$9:$W$767,20,0) -> #REF! | K121: =J121-#REF! -> #REF!
A122: 112 | B122: 03.3443.0464 | C122: 3.3443 | D122: Dẫn lưu túi mật | E122: Dẫn lưu túi mật | F122: P3 | G122: 2461800 | H122: 0 | I122: Chưa bao gồm kẹp khóa mạch máu, miếng cầm máu, máy cắt nối tự động và ghim khâu máy cắt nối. | J122: =VLOOKUP(#REF!,'[2]PL4.PT gây tê'!$D$9:$W$767,20,0) -> #REF! | K122: =J122-#REF! -> #REF!
A123: 113 | B123: 03.3444.0464 | C123: 3.3444 | D123: Dẫn lưu nang ống mật chủ | E123: Dẫn lưu nang ống mật chủ | F123: P3 | G123: 2461800 | H123: 0 | I123: Chưa bao gồm kẹp khóa mạch máu, miếng cầm máu, máy cắt nối tự động và ghim khâu máy cắt nối. | J123: =VLOOKUP(#REF!,'[2]PL4.PT gây tê'!$D$9:$W$767,20,0) -> #REF! | K123: =J123-#REF! -> #REF!
A124: 114 | B124: 03.3454.0464 | C124: 3.3454 | D124: Nối nang tụy - dạ dày | E124: Nối nang tụy - dạ dày | F124: P1 | G124: 2461800 | H124: 0 | I124: Chưa bao gồm kẹp khóa mạch máu, miếng cầm máu, máy cắt nối tự động và ghim khâu máy cắt nối. | J124: =VLOOKUP(#REF!,'[2]PL4.PT gây tê'!$D$9:$W$767,20,0) -> #REF! | K124: =J124-#REF! -> #REF!
A125: 115 | B125: 03.3460.0464 | C125: 3.3460 | D125: Dẫn lưu túi mật và dẫn lưu hậu cung mạc nối kèm lấy tổ chức tụy hoại tử | E125: Dẫn lưu túi mật và dẫn lưu hậu cung mạc nối kèm lấy tổ chức tụy hoại tử | F125: P2 | G125: 2461800 | H125: 0 | I125: Chưa bao gồm kẹp khóa mạch máu, miếng cầm máu, máy cắt nối tự động và ghim khâu máy cắt nối. | J125: =VLOOKUP(#REF!,'[2]PL4.PT gây tê'!$D$9:$W$767,20,0) -> #REF! | K125: =J125-#REF! -> #REF!
A126: 116 | B126: 03.3482.0464 | C126: 3.3482 | D126: Dẫn lưu đài bể thận qua da | E126: Dẫn lưu đài bể thận qua da [nhi] | F126: P1 | G126: 2461800 | H126: 0 | I126: Chưa bao gồm kẹp khóa mạch máu, miếng cầm máu, máy cắt nối tự động và ghim khâu máy cắt nối. | J126: =VLOOKUP(#REF!,'[2]PL4.PT gây tê'!$D$9:$W$767,20,0) -> #REF! | K126: =J126-#REF! -> #REF!
A127: 117 | B127: 03.3489.0464 | C127: 3.3489 | D127: Dẫn lưu viêm tấy quanh thận, áp xe thận | E127: Dẫn lưu viêm tấy quanh thận, áp xe thận | F127: P2 | G127: 2461800 | H127: 0 | I127: Chưa bao gồm kẹp khóa mạch máu, miếng cầm máu, máy cắt nối tự động và ghim khâu máy cắt nối. | J127: =VLOOKUP(#REF!,'[2]PL4.PT gây tê'!$D$9:$W$767,20,0) -> #REF! | K127: =J127-#REF! -> #REF!
A128: 118 | B128: 03.3498.0464 | C128: 3.3498 | D128: Dẫn lưu niệu quản ra thành bụng 1 bên/2 bên | E128: Dẫn lưu niệu quản ra thành bụng 1 bên/2 bên | F128: P2 | G128: 2461800 | H128: 0 | I128: Chưa bao gồm kẹp khóa mạch máu, miếng cầm máu, máy cắt nối tự động và ghim khâu máy cắt nối. | J128: =VLOOKUP(#REF!,'[2]PL4.PT gây tê'!$D$9:$W$767,20,0) -> #REF! | K128: =J128-#REF! -> #REF!
A129: 119 | B129: 10.0334.0464 | C129: 10.334 | D129: Đưa niệu quản ra da đơn thuần ± thắt ĐM chậu trong | E129: Đưa niệu quản ra da đơn thuần ± thắt ĐM chậu trong | F129: P1 | G129: 2461800 | H129: 0 | I129: Chưa bao gồm kẹp khóa mạch máu, miếng cầm máu, máy cắt nối tự động và ghim khâu máy cắt nối. | J129: =VLOOKUP(#REF!,'[2]PL4.PT gây tê'!$D$9:$W$767,20,0) -> #REF! | K129: =J129-#REF! -> #REF!
A130: 120 | B130: 10.0453.0464 | C130: 10.453 | D130: Nối vị tràng | E130: Nối vị tràng | F130: P3 | G130: 2461800 | H130: 0 | I130: Chưa bao gồm kẹp khóa mạch máu, miếng cầm máu, máy cắt nối tự động và ghim khâu máy cắt nối. | J130: =VLOOKUP(#REF!,'[2]PL4.PT gây tê'!$D$9:$W$767,20,0) -> #REF! | K130: =J130-#REF! -> #REF!
A131: 121 | B131: 10.0638.0464 | C131: 10.638 | D131: Mở đường mật, đặt dẫn lưu đường mật | E131: Mở đường mật, đặt dẫn lưu đường mật | F131: P1 | G131: 2461800 | H131: 0 | I131: Chưa bao gồm kẹp khóa mạch máu, miếng cầm máu, máy cắt nối tự động và ghim khâu máy cắt nối, thuốc và oxy | J131: =VLOOKUP(#REF!,'[2]PL4.PT gây tê'!$D$9:$W$767,20,0) -> #REF! | K131: =J131-#REF! -> #REF!
... A138: 128 | B138: 27.0172.0464 | C138: 27.172 | D138: Phẫu thuật nội soi khâu thủng ruột non | E138: Phẫu thuật nội soi khâu thủng ruột non | F138: P1 | G138: 2461800 | H138: 0 | I138: Chưa bao gồm kẹp khóa mạch máu, miếng cầm máu, máy cắt nối tự động và ghim khâu máy cắt nối, thuốc và oxy | J138: =VLOOKUP(#REF!,'[2]PL4.PT gây tê'!$D$9:$W$767,20,0) -> #REF! | K138: =J138-#REF! -> #REF!
A139: 129 | B139: 03.2671.0491 | C139: 3.2671 | D139: Mổ thăm dò ổ bụng, sinh thiết u | E139: Mổ thăm dò ổ bụng, sinh thiết u | G139: 2367100 | H139: 0 | I139: Chưa bao gồm máy cắt nối tự động và ghim khâu máy cắt nối, thuốc và oxy | J139: =VLOOKUP(#REF!,'[2]PL4.PT gây tê'!$D$9:$W$767,20,0) -> #REF! | K139: =J139-#REF! -> #REF!
A140: 130 | B140: 03.2675.0491 | C140: 3.2675 | D140: Mở thông dạ dày ra da do ung thư | E140: Mở thông dạ dày ra da do ung thư | G140: 2367100 | H140: 0 | I140: Chưa bao gồm máy cắt nối tự động và ghim khâu máy cắt nối, thuốc và oxy | J140: =VLOOKUP(#REF!,'[2]PL4.PT gây tê'!$D$9:$W$767,20,0) -> #REF! | K140: =J140-#REF! -> #REF!
A141: 131 | B141: 03.3289.0491 | C141: 3.3289 | D141: Phẫu thuật điều trị xoắn dạ dày | E141: Phẫu thuật điều trị xoắn dạ dày | F141: P1 | G141: 2367100 | H141: 0 | I141: Chưa bao gồm máy cắt nối tự động và ghim khâu máy cắt nối, thuốc và oxy | J141: =VLOOKUP(#REF!,'[2]PL4.PT gây tê'!$D$9:$W$767,20,0) -> #REF! | K141: =J141-#REF! -> #REF!
A142: 132 | B142: 03.3292.0491 | C142: 3.3292 | D142: Mở dạ dày lấy bã thức ăn | E142: Mở dạ dày lấy bã thức ăn | F142: P2 | G142: 2367100 | H142: 0 | I142: Chưa bao gồm máy cắt nối tự động và ghim khâu máy cắt nối, thuốc và oxy | J142: =VLOOKUP(#REF!,'[2]PL4.PT gây tê'!$D$9:$W$767,20,0) -> #REF! | K142: =J142-#REF! -> #REF!
A143: 133 | B143: 03.3297.0491 | C143: 3.3297 | D143: Mở thông dạ dày | E143: Mở thông dạ dày | F143: P3 | G143: 2367100 | H143: 0 | I143: Chưa bao gồm máy cắt nối tự động và ghim khâu máy cắt nối, thuốc và oxy | J143: =VLOOKUP(#REF!,'[2]PL4.PT gây tê'!$D$9:$W$767,20,0) -> #REF! | K143: =J143-#REF! -> #REF!
A144: 134 | B144: 03.3315.0491 | C144: 3.3315 | D144: Làm hậu môn nhân tạo cấp cứu ở trẻ sơ sinh | E144: Làm hậu môn nhân tạo cấp cứu ở trẻ sơ sinh | F144: P2 | G144: 2367100 | H144: 0 | I144: Chưa bao gồm máy cắt nối tự động và ghim khâu máy cắt nối, thuốc và oxy | J144: =VLOOKUP(#REF!,'[2]PL4.PT gây tê'!$D$9:$W$767,20,0) -> #REF! | K144: =J144-#REF! -> #REF!
A145: 135 | B145: 03.3316.0491 | C145: 3.3316 | D145: Làm hậu môn nhân tạo trẻ lớn | E145: Làm hậu môn nhân tạo trẻ lớn | F145: P3 | G145: 2367100 | H145: 0 | I145: Chưa bao gồm máy cắt nối tự động và ghim khâu máy cắt nối, thuốc và oxy | J145: =VLOOKUP(#REF!,'[2]PL4.PT gây tê'!$D$9:$W$767,20,0) -> #REF! | K145: =J145-#REF! -> #REF!
A146: 136 | B146: 03.3402.0491 | C146: 3.3402 | D146: Mở bụng thăm dò | E146: Mở bụng thăm dò | F146: P3 | G146: 2367100 | H146: 0 | I146: Chưa bao gồm máy cắt nối tự động và ghim khâu máy cắt nối, thuốc và oxy | J146: =VLOOKUP(#REF!,'[2]PL4.PT gây tê'!$D$9:$W$767,20,0) -> #REF! | K146: =J146-#REF! -> #REF!
A147: 137 | B147: 03.3598.0491 | C147: 3.3598 | D147: Phẫu thuật thăm dò ổ bụng và ống bẹn cho người bệnh không sờ thấy và siêu âm không thấy tinh hoàn | E147: Phẫu thuật thăm dò ổ bụng và ống bẹn cho người bệnh không sờ thấy và siêu âm không thấy tinh hoàn | F147: P1 | G147: 2367100 | H147: 0 | I147: Chưa bao gồm máy cắt nối tự động và ghim khâu máy cắt nối, thuốc và oxy | J147: =VLOOKUP(#REF!,'[2]PL4.PT gây tê'!$D$9:$W$767,20,0) -> #REF! | K147: =J147-#REF! -> #REF!
A148: 138 | B148: 03.3919.0491 | C148: 3.3919 | D148: Phẫu thuật lấy dị vật lồng ngực, ổ bụng | E148: Phẫu thuật lấy dị vật lồng ngực, ổ bụng [lồng ngực] | F148: P1 | G148: 2367100 | H148: 0 | I148: Chưa bao gồm máy cắt nối tự động và ghim khâu máy cắt nối, thuốc và oxy | J148: =VLOOKUP(#REF!,'[2]PL4.PT gây tê'!$D$9:$W$767,20,0) -> #REF! | K148: =J148-#REF! -> #REF!
A149: 139 | B149: 10.0416.0491 | C149: 10.416 | D149: Mở thông dạ dày | E149: Mở thông dạ dày | F149: P3 | G149: 2367100 | H149: 0 | I149: Chưa bao gồm máy cắt nối tự động và ghim khâu máy cắt nối, thuốc và oxy | J149: =VLOOKUP(#REF!,'[2]PL4.PT gây tê'!$D$9:$W$767,20,0) -> #REF! | K149: =J149-#REF! -> #REF!
A150: 140 | B150: 10.0417.0491 | C150: 10.417 | D150: Đưa thực quản ra ngoài | E150: Đưa thực quản ra ngoài | F150: P1 | G150: 2367100 | H150: 0 | I150: Chưa bao gồm máy cắt nối tự động và ghim khâu máy cắt nối, thuốc và oxy | J150: =VLOOKUP(#REF!,'[2]PL4.PT gây tê'!$D$9:$W$767,20,0) -> #REF! | K150: =J150-#REF! -> #REF!
A151: 141 | B151: 10.0451.0491 | C151: 10.451 | D151: Mở bụng thăm dò | E151: Mở bụng thăm dò | F151: P3 | G151: 2367100 | H151: 0 | I151: Chưa bao gồm máy cắt nối tự động và ghim khâu máy cắt nối, thuốc và oxy | J151: =VLOOKUP(#REF!,'[2]PL4.PT gây tê'!$D$9:$W$767,20,0) -> #REF! | K151: =J151-#REF! -> #REF!
A152: 142 | B152: 10.0452.0491 | C152: 10.452 | D152: Mở bụng thăm dò, sinh thiết | E152: Mở bụng thăm dò, sinh thiết | F152: P3 | G152: 2367100 | H152: 0 | I152: Chưa bao gồm máy cắt nối tự động và ghim khâu máy cắt nối, thuốc và oxy | J152: =VLOOKUP(#REF!,'[2]PL4.PT gây tê'!$D$9:$W$767,20,0) -> #REF! | K152: =J152-#REF! -> #REF!
... A158: 148 | B158: 10.0574.0491 | C158: 10.574 | D158: Thăm dò, sinh thiết gan | E158: Thăm dò, sinh thiết gan | F158: P2 | G158: 2367100 | H158: 0 | I158: Chưa bao gồm máy cắt nối tự động và ghim khâu máy cắt nối, thuốc và oxy | J158: =VLOOKUP(#REF!,'[2]PL4.PT gây tê'!$D$9:$W$767,20,0) -> #REF! | K158: =J158-#REF! -> #REF!
A159: 149 | B159: 12.0203.0491 | C159: 12.203 | D159: Mở thông dạ dày ra da do ung thư | E159: Mở thông dạ dày ra da do ung thư | G159: 2367100 | H159: 0 | I159: Chưa bao gồm máy cắt nối tự động và ghim khâu máy cắt nối, thuốc và oxy | J159: =VLOOKUP(#REF!,'[2]PL4.PT gây tê'!$D$9:$W$767,20,0) -> #REF! | K159: =J159-#REF! -> #REF!
A160: 150 | B160: 12.0215.0491 | C160: 12.215 | D160: Làm hậu môn nhân tạo | E160: Làm hậu môn nhân tạo | G160: 2367100 | H160: 0 | I160: Chưa bao gồm máy cắt nối tự động và ghim khâu máy cắt nối, thuốc và oxy | J160: =VLOOKUP(#REF!,'[2]PL4.PT gây tê'!$D$9:$W$767,20,0) -> #REF! | K160: =J160-#REF! -> #REF!
A161: 151 | B161: 03.3381.0492 | C161: 3.3381 | D161: Phẫu thuật thoát vị rốn và khe hở thành bụng | E161: Phẫu thuật thoát vị rốn và khe hở thành bụng | F161: P1 | G161: 2929500 | H161: 0 | I161: Chưa bao gồm tấm màng nâng, khóa kẹp mạch máu, vật liệu cầm máu, thuốc và oxy | J161: =VLOOKUP(#REF!,'[2]PL4.PT gây tê'!$D$9:$W$767,20,0) -> #REF! | K161: =J161-#REF! -> #REF!
A162: 152 | B162: 03.3384.0492 | C162: 3.3384 | D162: Phẫu thuật thoát vị khó: đùi, bịt | E162: Phẫu thuật thoát vị khó: đùi, bịt | F162: P1 | G162: 2929500 | H162: 0 | I162: Chưa bao gồm tấm màng nâng, khóa kẹp mạch máu, vật liệu cầm máu, thuốc và oxy | J162: =VLOOKUP(#REF!,'[2]PL4.PT gây tê'!$D$9:$W$767,20,0) -> #REF! | K162: =J162-#REF! -> #REF!
A163: 153 | B163: 03.3395.0492 | C163: 3.3395 | D163: Phẫu thuật thoát vị bẹn nghẹt | E163: Phẫu thuật thoát vị bẹn nghẹt | F163: P2 | G163: 2929500 | H163: 0 | I163: Chưa bao gồm tấm màng nâng, khóa kẹp mạch máu, vật liệu cầm máu, thuốc và oxy | J163: =VLOOKUP(#REF!,'[2]PL4.PT gây tê'!$D$9:$W$767,20,0) -> #REF! | K163: =J163-#REF! -> #REF!
A164: 154 | B164: 03.3396.0492 | C164: 3.3396 | D164: Phẫu thuật thoát vị rốn nghẹt | E164: Phẫu thuật thoát vị rốn nghẹt | F164: P2 | G164: 2929500 | H164: 0 | I164: Chưa bao gồm tấm màng nâng, khóa kẹp mạch máu, vật liệu cầm máu, thuốc và oxy | J164: =VLOOKUP(#REF!,'[2]PL4.PT gây tê'!$D$9:$W$767,20,0) -> #REF! | K164: =J164-#REF! -> #REF!
...

Sheet PL 05A_GIÁ CĐHA PACS_BVĐKHD 
B1: PHỤ LỤC 05A
B2: GIÁ DỊCH VỤ KỸ THUẬT CHẨN ĐOÁN HÌNH ẢNH SỬ DỤNG HỆ THỐNG LƯU TRỮ VÀ TRUYỀN TẢI HÌNH ẢNH (PACS)
B3: (Kèm theo Nghị quyết số 43/NQ-HĐND ngày 25 tháng 9 năm 2026 của Hội đồng nhân dân thành phố Hải Phòng)
H4: Đơn vị tính: đồng
A5: STT | B5: STT (NQ43) | C5: Mã tương đương | D5: Tên dịch vụ kỹ thuật theo Thông tư số 23/2024/TT-BYT | E5: Tên dịch vụ phê duyệt giá | F5: Phân loại PTTT | G5: Mức giá | H5: Ghi chú
G6: Bệnh viện đa khoa Hải Dương
B7: A | C7: B | D7: C | E7: D | F7: 1 | G7: 1 | H7: 6
A8: 1 | B8: 1 | C8: 18.0067.0028 | D8: Chụp X-quang sọ thẳng/nghiêng | E8: Chụp X-quang sọ thẳng/nghiêng | G8: 59800 | H8: Áp dụng cho 01 vị trí | I8: 1800670028 | J8: 59800
A9: 2 | B9: 2 | C9: 18.0068.0028 | D9: Chụp X-quang mặt thẳng nghiêng | E9: Chụp X-quang mặt thẳng nghiêng | G9: 59800 | H9: Áp dụng cho 01 vị trí | I9: 1800680028 | J9: 59800
A10: 3 | B10: 3 | C10: 18.0069.0028 | D10: Chụp X-quang mặt thấp hoặc mặt cao | E10: Chụp X-quang mặt thấp hoặc mặt cao | G10: 59800 | H10: Áp dụng cho 01 vị trí | I10: 1800690028 | J10: 59800
A11: 4 | B11: 4 | C11: 18.0070.0028 | D11: Chụp X-quang sọ tiếp tuyến | E11: Chụp X-quang sọ tiếp tuyến | G11: 59800 | H11: Áp dụng cho 01 vị trí | I11: 1800700028 | J11: 59800
A12: 5 | B12: 5 | C12: 18.0071.0028 | D12: Chụp X-quang hốc mắt thẳng nghiêng | E12: Chụp X-quang hốc mắt thẳng nghiêng | G12: 59800 | H12: Áp dụng cho 01 vị trí | I12: 1800710028 | J12: 59800
A13: 6 | B13: 6 | C13: 18.0072.0028 | D13: Chụp X-quang Blondeau | E13: Chụp X-quang Blondeau [Blondeau + Hirtz] | G13: 59800 | H13: Áp dụng cho 01 vị trí | I13: 1800720028 | J13: 59800
A14: 7 | B14: 7 | C14: 18.0073.0028 | D14: Chụp X-quang Hirtz | E14: Chụp X-quang Hirtz | G14: 59800 | H14: Áp dụng cho 01 vị trí | I14: 1800730028 | J14: 59800
A15: 8 | B15: 8 | C15: 18.0074.0028 | D15: Chụp X-quang hàm chếch một bên | E15: Chụp X-quang hàm chếch một bên | G15: 59800 | H15: Áp dụng cho 01 vị trí | I15: 1800740028 | J15: 59800
A16: 9 | B16: 9 | C16: 18.0075.0028 | D16: Chụp X-quang xương chính mũi nghiêng hoặc tiếp tuyến | E16: Chụp X-quang xương chính mũi nghiêng hoặc tiếp tuyến | G16: 59800 | H16: Áp dụng cho 01 vị trí | I16: 1800750028 | J16: 59800
A17: 10 | B17: 10 | C17: 18.0076.0028 | D17: Chụp X-quang hố yên thẳng hoặc nghiêng | E17: Chụp X-quang hố yên thẳng hoặc nghiêng | G17: 59800 | H17: Áp dụng cho 01 vị trí | I17: 1800760028 | J17: 59800
A18: 11 | B18: 11 | C18: 18.0077.0028 | D18: Chụp X-quang Chausse III | E18: Chụp X-quang Chausse III | G18: 59800 | H18: Áp dụng cho 01 vị trí | I18: 1800770028 | J18: 59800
A19: 12 | B19: 12 | C19: 18.0078.0028 | D19: Chụp X-quang Schuller | E19: Chụp X-quang Schuller | G19: 59800 | H19: Áp dụng cho 01 vị trí | I19: 1800780028 | J19: 59800
... A97: 90 | B97: 90 | C97: 18.0118.0030 | D97: Chụp X-quang toàn bộ chi dưới thẳng | E97: Chụp X-quang toàn bộ chi dưới thẳng | G97: 85400 | H97: Áp dụng cho 01 vị trí | I97: 1801180030 | J97: 93800
A98: 91 | B98: 91 | C98: 18.0124.0034 | D98: Chụp X-quang thực quản cổ nghiêng | E98: Chụp X-quang thực quản cổ nghiêng | G98: 210700 | I98: 1801240034 | J98: 245100
A99: 92 | B99: 92 | C99: 18.0130.0035 | D99: Chụp X-quang thực quản dạ dày | E99: Chụp X-quang thực quản dạ dày | G99: 223100 | I99: 1801300035 | J99: 245100
A100: 93 | B100: 93 | C100: 18.0131.0035 | D100: Chụp X-quang ruột non | E100: Chụp X-quang ruột non | G100: 223100 | I100: 1801310035 | J100: 245100
A101: 94 | B101: 94 | C101: 18.0132.0036 | D101: Chụp X-quang đại tràng | E101: Chụp X-quang đại tràng | G101: 264700 | I101: 1801320036 | J101: 285100
A102: 95 | B102: 95 | C102: 18.0133.0019 | D102: Chụp X-quang đường mật qua Kehr | E102: Chụp X-quang đường mật qua Kehr | G102: 317100 | H102: Chưa bao gồm thuốc cản quang. | I102: 1801330019 | J102: 317100
A103: 96 | B103: 96 | C103: 18.0135.0025 | D103: Chụp X-quang đường rò | E103: Chụp X-quang đường rò | G103: 483100 | I103: 1801350025 | J103: 483100
A104: 97 | B104: 97 | C104: 18.0136.0039 | D104: Chụp X-quang tuyến nước bọt | E104: Chụp X-quang tuyến nước bọt | G104: 449900 | H104: Chưa bao gồm ống thông, kim chọc chuyên dụng. | I104: 1801360039 | J104: 449900
A105: 98 | B105: 98 | C105: 18.0139.0039 | D105: Chụp X-quang ống tuyến sữa | E105: Chụp X-quang ống tuyến sữa | G105: 449900 | H105: Chưa bao gồm ống thông, kim chọc chuyên dụng. | I105: 1801390039 | J105: 449900
A106: 99 | B106: 99 | C106: 18.0142.0033 | D106: Chụp X-quang niệu quản - bể thận ngược dòng | E106: Chụp X-quang niệu quản - bể thận ngược dòng | G106: 576700 | I106: 1801420033 | J106: 585100
A107: 100 | B107: 100 | C107: 18.0143.0033 | D107: Chụp X-quang niệu đạo bàng quang ngược dòng | E107: Chụp X-quang niệu đạo bàng quang ngược dòng | G107: 576700 | I107: 1801430033 | J107: 585100
A108: 101 | B108: 101 | C108: 18.0140.0032 | D108: Chụp X-quang niệu đồ tĩnh mạch (UIV) | E108: Chụp X-quang niệu đồ tĩnh mạch (UIV) | G108: 594400 | I108: 1801400032 | J108: 602100
A109: 102 | B109: 102 | C109: 18.0141.0032 | D109: Chụp X-quang bể thận - niệu quản xuôi dòng | E109: Chụp X-quang bể thận - niệu quản xuôi dòng | G109: 594400 | I109: 1801410032 | J109: 602100
A110: 103 | B110: 103 | C110: 18.0144.0022 | D110: Chụp X-quang bàng quang trên xương mu | E110: Chụp X-quang bàng quang trên xương mu | G110: 274700 | I110: 1801440022 | J110: 274700
A111: 104 | B111: 104 | C111: 18.0138.0031 | D111: Chụp X-quang tử cung vòi trứng | E111: Chụp X-quang tử cung vòi trứng | G111: 446700 | I111: 1801380031 | J111: 446700
A112: 105 | B112: 105 | C112: 18.0148.0027 | D112: Chụp X-quang bao rễ thần kinh | E112: Chụp X-quang bao rễ thần kinh | G112: 422100 | I112: 1801480027 | J112: 422100
A113: 106 | B113: 106 | C113: 18.0126.0026 | D113: Chụp X-quang tuyến vú | E113: Chụp X-quang tuyến vú | G113: 70400 | I113: 1801260026 | J113: 70400
A114: 107 | B114: 107 | C114: 18.0704.0038 | D114: Chụp X-quang số hóa cắt lớp tuyến vú 1 bên (tomosynthesis) | E114: Chụp X-quang số hóa cắt lớp tuyến vú 1 bên (tomosynthesis) | G114: 948400 | I114: 1807040038 | J114: 948400
A115: 108 | B115: 108 | C115: 18.0690.0182 | D115: Chọc sinh thiết vú dưới định vị nổi (Stereotaxic) | E115: Chọc sinh thiết vú dưới định vị nổi (Stereotaxic) | G115: 1677500 | I115: 1806900182 | J115: 1677500
A116: 109 | B116: 109 | C116: 18.0149.0040 | D116: Chụp CLVT sọ não không tiêm thuốc cản quang (từ 1-32 dãy) | E116: Chụp CLVT sọ não không tiêm thuốc cản quang (từ 1-32 dãy) | G116: 502400 | I116: 1801490040 | J116: 502400
A117: 110 | B117: 110 | C117: 18.0155.0040 | D117: Chụp CLVT hàm - mặt không tiêm thuốc cản quang (từ 1-32 dãy) | E117: Chụp CLVT hàm - mặt không tiêm thuốc cản quang (từ 1-32 dãy) | G117: 502400 | I117: 1801550040 | J117: 502400
... A139: 132 | B139: 132 | C139: 18.0264.0040 | D139: Chụp cắt lớp vi tính xương chi không tiêm thuốc cản quang (từ 1- 32 dãy) | E139: Chụp cắt lớp vi tính xương chi không tiêm thuốc cản quang (từ 1- 32 dãy) | G139: 502400 | I139: 1802640040 | J139: 502400
A140: 133 | B140: 133 | C140: 18.0150.0041 | D140: Chụp CLVT sọ não có tiêm thuốc cản quang (từ 1-32 dãy) | E140: Chụp CLVT sọ não có tiêm thuốc cản quang (từ 1-32 dãy) | G140: 653700 | H140: Chưa bao gồm thuốc cản quang. | I140: 1801500041 | J140: 653700
A141: 134 | B141: 134 | C141: 18.0151.0041 | D141: Chụp CLVT hệ động mạch cảnh có tiêm thuốc cản quang (từ 1-32 dãy) | E141: Chụp CLVT hệ động mạch cảnh có tiêm thuốc cản quang (từ 1-32 dãy) | G141: 653700 | H141: Chưa bao gồm thuốc cản quang. | I141: 1801510041 | J141: 653700
A142: 135 | B142: 135 | C142: 18.0152.0041 | D142: Chụp CLVT tưới máu não (CT perfusion) (từ 1-32 dãy) | E142: Chụp CLVT tưới máu não (CT perfusion) (từ 1-32 dãy) | G142: 653700 | H142: Chưa bao gồm thuốc cản quang. | I142: 1801520041 | J142: 653700
A143: 136 | B143: 136 | C143: 18.0153.0041 | D143: Chụp CLVT mạch máu não (từ 1-32 dãy) | E143: Chụp CLVT mạch máu não (từ 1-32 dãy) | G143: 653700 | H143: Chưa bao gồm thuốc cản quang. | I143: 1801530041 | J143: 653700
A144: 137 | B144: 137 | C144: 18.0154.0041 | D144: Chụp CLVT sọ não có dựng hình 3D (từ 1-32 dãy) | E144: Chụp CLVT sọ não có dựng hình 3D (từ 1-32 dãy) | G144: 653700 | H144: Chưa bao gồm thuốc cản quang. | I144: 1801540041 | J144: 653700
A145: 138 | B145: 138 | C145: 18.0156.0041 | D145: Chụp CLVT hàm - mặt có tiêm thuốc cản quang (từ 1-32 dãy) | E145: Chụp CLVT hàm - mặt có tiêm thuốc cản quang (từ 1-32 dãy) | G145: 653700 | H145: Chưa bao gồm thuốc cản quang. | I145: 1801560041 | J145: 653700
A146: 139 | B146: 139 | C146: 18.0159.0041 | D146: Chụp CLVT tai - xương đá có tiêm thuốc cản quang (từ 1-32 dãy) | E146: Chụp CLVT tai - xương đá có tiêm thuốc cản quang (từ 1-32 dãy) | G146: 653700 | H146: Chưa bao gồm thuốc cản quang. | I146: 1801590041 | J146: 653700
A147: 140 | B147: 140 | C147: 18.0160.0041 | D147: Chụp CLVT hốc mắt (từ 1-32 dãy) | E147: Chụp CLVT hốc mắt (từ 1-32 dãy) | G147: 653700 | H147: Chưa bao gồm thuốc cản quang. | I147: 1801600041 | J147: 653700
A148: 141 | B148: 141 | C148: 18.0192.0041 | D148: Chụp cắt lớp vi tính lồng ngực có tiêm thuốc cản quang (từ 1- 32 dãy) | E148: Chụp cắt lớp vi tính lồng ngực có tiêm thuốc cản quang (từ 1- 32 dãy) | G148: 653700 | H148: Chưa bao gồm thuốc cản quang. | I148: 1801920041 | J148: 653700
A149: 142 | B149: 142 | C149: 18.0196.0041 | D149: Chụp cắt lớp vi tính động mạch phổi (từ 1- 32 dãy) | E149: Chụp cắt lớp vi tính động mạch phổi (từ 1- 32 dãy) | G149: 653700 | H149: Chưa bao gồm thuốc cản quang. | I149: 1801960041 | J149: 653700
A150: 143 | B150: 143 | C150: 18.0197.0041 | D150: Chụp cắt lớp vi tính động mạch chủ ngực (từ 1- 32 dãy) | E150: Chụp cắt lớp vi tính động mạch chủ ngực (từ 1- 32 dãy) | G150: 653700 | H150: Chưa bao gồm thuốc cản quang. | I150: 1801970041 | J150: 653700
A151: 144 | B151: 144 | C151: 18.0198.0041 | D151: Chụp cắt lớp vi tính động mạch vành, tim (từ 1- 32 dãy) | E151: Chụp cắt lớp vi tính động mạch vành, tim (từ 1- 32 dãy) | G151: 653700 | H151: Chưa bao gồm thuốc cản quang. | I151: 1801980041 | J151: 653700
... A171: 164 | B171: 164 | C171: 18.0267.0041 | D171: Chụp cắt lớp vi tính mạch máu chi dưới (từ 1- 32 dãy) | E171: Chụp cắt lớp vi tính mạch máu chi dưới (từ 1- 32 dãy) | G171: 653700 | H171: Chưa bao gồm thuốc cản quang. | I171: 1802670041 | J171: 653700
A172: 165 | B172: 165 | C172: 18.0165.0043 | D172: Chụp CLVT sọ não không tiêm thuốc cản quang (từ 64-128 dãy) | E172: Chụp CLVT sọ não không tiêm thuốc cản quang (từ 64-128 dãy) | G172: 1437100 | I172: 1801650043 | J172: 1437100
A173: 166 | B173: 166 | C173: 18.0171.0043 | D173: Chụp CLVT hàm - mặt không tiêm thuốc cản quang (từ 64-128 dãy) | E173: Chụp CLVT hàm-mặt không tiêm thuốc cản quang (từ 64-128 dãy) | G173: 1437100 | I173: 1801710043 | J173: 1437100
A174: 167 | B174: 167 | C174: 18.0173.0043 | D174: Chụp CLVT hàm mặt có ứng dụng phần mềm nha khoa (từ 64-128 dãy) | E174: Chụp CLVT hàm mặt có ứng dụng phần mềm nha khoa (từ 64-128 dãy) | G174: 1437100 | I174: 1801730043 | J174: 1437100
A175: 168 | B175: 168 | C175: 18.0174.0043 | D175: Chụp CLVT tai - xương đá không tiêm thuốc (từ 64-128 dãy) | E175: Chụp CLVT tai-xương đá không tiêm thuốc (từ 64-128 dãy) | G175: 1437100 | I175: 1801740043 | J175: 1437100
A176: 169 | B176: 169 | C176: 18.0176.0043 | D176: Chụp CLVT hốc mắt (từ 64-128 dãy) | E176: Chụp CLVT hốc mắt (từ 64-128 dãy) | G176: 1437100 | I176: 1801760043 | J176: 1437100
A177: 170 | B177: 170 | C177: 18.0177.0043 | D177: Chụp CLVT hàm mặt có dựng hình 3D (từ 64-128 dãy) | E177: Chụp CLVT hàm mặt có dựng hình 3D (từ 64-128 dãy) | G177: 1437100 | I177: 1801770043 | J177: 1437100
A178: 171 | B178: 171 | C178: 18.0200.0043 | D178: Chụp cắt lớp vi tính lồng ngực không tiêm thuốc cản quang (từ 64-128 dãy) | E178: Chụp cắt lớp vi tính lồng ngực không tiêm thuốc cản quang (từ 64- 128 dãy) | G178: 1437100 | I178: 1802000043 | J178: 1437100
A179: 172 | B179: 172 | C179: 18.0202.0043 | D179: Chụp cắt lớp vi tính phổi độ phân giải cao (từ 64-128 dãy) | E179: Chụp cắt lớp vi tính phổi độ phân giải cao (từ 64- 128 dãy) | G179: 1437100 | I179: 1802020043 | J179: 1437100
A180: 173 | B180: 173 | C180: 18.0204.0043 | D180: Chụp cắt lớp vi tính nội soi ảo cây phế quản (từ 64-128 dãy) | E180: Chụp cắt lớp vi tính nội soi ảo cây phế quản (từ 64- 128 dãy) | G180: 1437100 | I180: 1802040043 | J180: 1437100
A181: 174 | B181: 174 | C181: 18.0208.0043 | D181: Chụp cắt lớp vi tính tính điểm vôi hóa mạch vành (từ 64-128 dãy) | E181: Chụp cắt lớp vi tính tính điểm vôi hóa mạch vành (từ 64- 128 dãy) | G181: 1437100 | I181: 1802080043 | J181: 1437100
A182: 175 | B182: 175 | C182: 18.0231.0043 | D182: Chụp cắt lớp vi tính tầng trên ổ bụng thường quy (gồm: chụp cắt lớp vi tính gan - mật, tụy, lách, dạ dày - tá tràng.v.v.) (từ 64-128 dãy) | E182: Chụp cắt lớp vi tính tầng trên ổ bụng thường quy (gồm: chụp Cắt lớp vi tính gan-mật, tụy, lách, dạ dày-tá tràng.v.v.) (từ 64-128 dãy) | G182: 1437100 | I182: 1802310043 | J182: 1437100
A183: 176 | B183: 176 | C183: 18.0232.0043 | D183: Chụp cắt lớp vi tính bụng-tiểu khung thường quy (từ 64-128 dãy) | E183: Chụp cắt lớp vi tính bụng-tiểu khung thường quy (từ 64-128 dãy) | G183: 1437100 | I183: 1802320043 | J183: 1437100
... A192: 185 | B192: 185 | C192: 18.0277.0043 | D192: Chụp cắt lớp vi tính xương chi không tiêm thuốc cản quang (từ 64-128 dãy) | E192: Chụp cắt lớp vi tính xương chi không tiêm thuốc cản quang (từ 64- 128 dãy) | G192: 1437100 | I192: 1802770043 | J192: 1437100
A193: 186 | B193: 186 | C193: 18.0166.0042 | D193: Chụp CLVT sọ não có tiêm thuốc cản quang (từ 64-128 dãy) | E193: Chụp CLVT sọ não có tiêm thuốc cản quang (từ 64-128 dãy) | G193: 1784900 | H193: Chưa bao gồm thuốc cản quang. | I193: 1801660042 | J193: 1784900
A194: 187 | B194: 187 | C194: 18.0167.0042 | D194: Chụp CLVT hệ động mạch cảnh có tiêm thuốc cản quang (từ 64-128 dãy) | E194: Chụp CLVT hệ động mạch cảnh có tiêm thuốc cản quang (từ 64-128 dãy) | G194: 1784900 | H194: Chưa bao gồm thuốc cản quang. | I194: 1801670042 | J194: 1784900
A195: 188 | B195: 188 | C195: 18.0168.0042 | D195: Chụp CLVT tưới máu não (CT perfusion) (từ 64-128 dãy) | E195: Chụp CLVT tưới máu não (CT perfusion) (từ 64-128 dãy) | G195: 1784900 | H195: Chưa bao gồm thuốc cản quang. | I195: 1801680042 | J195: 1784900
A196: 189 | B196: 189 | C196: 18.0169.0042 | D196: Chụp CLVT mạch máu não (từ 64-128 dãy) | E196: Chụp CLVT mạch máu não (từ 64-128 dãy) | G196: 1784900 | H196: Chưa bao gồm thuốc cản quang. | I196: 1801690042 | J196: 1784900
A197: 190 | B197: 190 | C197: 18.0170.0042 | D197: Chụp CLVT sọ não có dựng hình 3D (từ 64-128 dãy) | E197: Chụp CLVT sọ não có dựng hình 3D (từ 64-128 dãy) | G197: 1784900 | H197: Chưa bao gồm thuốc cản quang. | I197: 1801700042 | J197: 1784900
A198: 191 | B198: 191 | C198: 18.0172.0042 | D198: Chụp CLVT hàm - mặt có tiêm thuốc cản quang (từ 64-128 dãy) | E198: Chụp CLVT hàm-mặt có tiêm thuốc cản quang (từ 64-128 dãy) | G198: 1784900 | H198: Chưa bao gồm thuốc cản quang. | I198: 1801720042 | J198: 1784900
A199: 192 | B199: 192 | C199: 18.0175.0042 | D199: Chụp CLVT tai - xương đá có tiêm thuốc cản quang (từ 64-128 dãy) | E199: Chụp CLVT tai-xương đá có tiêm thuốc cản quang (từ 64-128 dãy) | G199: 1784900 | H199: Chưa bao gồm thuốc cản quang. | I199: 1801750042 | J199: 1784900
A200: 193 | B200: 193 | C200: 18.0176.0042 | D200: Chụp CLVT hốc mắt (từ 64-128 dãy) | E200: Chụp CLVT hốc mắt (từ 64-128 dãy) | G200: 1784900 | H200: Chưa bao gồm thuốc cản quang. | I200: 1801760042 | J200: 1784900
A201: 194 | B201: 194 | C201: 18.0201.0042 | D201: Chụp cắt lớp vi tính lồng ngực có tiêm thuốc cản quang (từ 64-128 dãy) | E201: Chụp cắt lớp vi tính lồng ngực có tiêm thuốc cản quang (từ 64- 128 dãy) | G201: 1784900 | H201: Chưa bao gồm thuốc cản quang. | I201: 1802010042 | J201: 1794500
A202: 195 | B202: 195 | C202: 18.0205.0042 | D202: Chụp cắt lớp vi tính động mạch phổi (từ 64-128 dãy) | E202: Chụp cắt lớp vi tính động mạch phổi (từ 64- 128 dãy) | G202: 1784900 | H202: Chưa bao gồm thuốc cản quang. | I202: 1802050042 | J202: 1784900
A203: 196 | B203: 196 | C203: 18.0206.0042 | D203: Chụp cắt lớp vi tính động mạch chủ ngực (từ 64-128 dãy) | E203: Chụp cắt lớp vi tính động mạch chủ ngực (từ 64- 128 dãy) | G203: 1784900 | H203: Chưa bao gồm thuốc cản quang. | I203: 1802060042 | J203: 1784900
A204: 197 | B204: 197 | C204: 18.0207.0042 | D204: Chụp cắt lớp vi tính động mạch vành, tim (từ 64-128 dãy) | E204: Chụp cắt lớp vi tính động mạch vành, tim (từ 64- 128 dãy) | G204: 1784900 | H204: Chưa bao gồm thuốc cản quang. | I204: 1802070042 | J204: 1784900
... A224: 217 | B224: 217 | C224: 18.0281.0042 | D224: Chụp cắt lớp vi tính mạch máu chi dưới (từ 64-128 dãy) | E224: Chụp cắt lớp vi tính mạch máu chi dưới (từ 64- 128 dãy) | G224: 1784900 | H224: Chưa bao gồm thuốc cản quang. | I224: 1802810042 | J224: 1784900
A225: 218 | B225: 218 | C225: 18.0279.0045 | D225: Chụp cắt lớp vi tính tầm soát toàn thân (từ 64-128 dãy) | E225: Chụp cắt lớp vi tính tầm soát toàn thân không tiêm thuốc cản quang (từ 64- 128 dãy) | G225: 3101500 | I225: 1802790045 | J225: 3101500
A226: 219 | B226: 219 | C226: 18.0279.0044 | D226: Chụp cắt lớp vi tính tầm soát toàn thân (từ 64-128 dãy) | E226: Chụp cắt lớp vi tính tầm soát toàn thân có tiêm (từ 64- 128 dãy) | G226: 3577600 | H226: Chưa bao gồm thuốc cản quang. | I226: 1802790044 | J226: 3577600
A227: 220 | B227: 220 | C227: 18.0178.0047 | D227: Chụp CLVT sọ não không tiêm thuốc cản quang (từ ≥ 256 dãy) | E227: Chụp CLVT sọ não không tiêm thuốc cản quang (từ ≥ 256 dãy) | G227: 2706800 | I227: 1801780047 | J227: 2706800
A228: 221 | B228: 221 | C228: 18.0183.0047 | D228: Chụp CLVT sọ não có dựng hình 3D (từ ≥ 256 dãy) | E228: Chụp CLVT sọ não có dựng hình 3D (từ ≥ 256 dãy) | G228: 2706800 | I228: 1801830047 | J228: 2706800
A229: 222 | B229: 222 | C229: 18.0184.0047 | D229: Chụp CLVT hàm - mặt không tiêm thuốc cản quang (từ ≥ 256 dãy) | E229: Chụp CLVT hàm-mặt không tiêm thuốc cản quang (từ ≥ 256 dãy) | G229: 2706800 | I229: 1801840047 | J229: 2706800
A230: 223 | B230: 223 | C230: 18.0186.0047 | D230: Chụp CLVT hàm mặt có ứng dụng phần mềm nha khoa (từ ≥ 256 dãy) | E230: Chụp CLVT hàm mặt có ứng dụng phần mềm nha khoa (từ ≥ 256 dãy) | G230: 2706800 | I230: 1801860047 | J230: 2706800
A231: 224 | B231: 224 | C231: 18.0187.0047 | D231: Chụp CLVT tai - xương đá không tiêm thuốc (từ ≥ 256 dãy) | E231: Chụp CLVT tai-xương đá không tiêm thuốc (từ ≥ 256 dãy) | G231: 2706800 | I231: 1801870047 | J231: 2706800
A232: 225 | B232: 225 | C232: 18.0189.0047 | D232: Chụp CLVT hốc mắt (từ ≥ 256 dãy) | E232: Chụp CLVT hốc mắt (từ ≥ 256 dãy) | G232: 2706800 | I232: 1801890047 | J232: 2706800
A233: 226 | B233: 226 | C233: 18.0190.0047 | D233: Chụp CLVT hàm mặt có dựng hình 3D (từ ≥ 256 dãy) | E233: Chụp CLVT hàm mặt có dựng hình 3D (từ ≥ 256 dãy) | G233: 2706800 | I233: 1801900047 | J233: 2706800
A234: 227 | B234: 227 | C234: 18.0209.0047 | D234: Chụp cắt lớp vi tính lồng ngực không tiêm thuốc cản quang (từ ≥ 256 dãy) | E234: Chụp cắt lớp vi tính lồng ngực không tiêm thuốc cản quang (từ ≥ 256 dãy) | G234: 2706800 | I234: 1802090047 | J234: 2706800
A235: 228 | B235: 228 | C235: 18.0211.0047 | D235: Chụp cắt lớp vi tính phổi độ phân giải cao (từ ≥ 256 dãy) | E235: Chụp cắt lớp vi tính phổi độ phân giải cao (từ ≥ 256 dãy) | G235: 2706800 | I235: 1802110047 | J235: 2706800
A236: 229 | B236: 229 | C236: 18.0212.0047 | D236: Chụp cắt lớp vi tính phổi liều thấp tầm soát u (từ ≥ 256 dãy) | E236: Chụp cắt lớp vi tính phổi liều thấp tầm soát u (từ ≥ 256 dãy) | G236: 2706800 | I236: 1802120047 | J236: 2706800
A237: 230 | B237: 230 | C237: 18.0213.0047 | D237: Chụp cắt lớp vi tính nội soi ảo cây phế quản (từ ≥ 256 dãy) | E237: Chụp cắt lớp vi tính nội soi ảo cây phế quản (từ ≥ 256 dãy) | G237: 2706800 | I237: 1802130047 | J237: 2706800
A238: 231 | B238: 231 | C238: 18.0218.0047 | D238: Chụp cắt lớp vi tính tính điểm vôi hóa mạch vành (từ ≥ 256 dãy) | E238: Chụp cắt lớp vi tính tính điểm vôi hóa mạch vành (từ ≥ 256 dãy) | G238: 2706800 | I238: 1802180047 | J238: 2706800
... A249: 242 | B249: 242 | C249: 18.0293.0049 | D249: Chụp cắt lớp vi tính tầm soát toàn thân (từ ≥256 dãy) | E249: Chụp cắt lớp vi tính tầm soát toàn thân không tiêm thuốc cản quang (từ ≥256 dãy) | G249: 6619400 | I249: 1802930049 | J249: 6619400
A250: 243 | B250: 243 | C250: 18.0216.0046 | D250: Chụp cắt lớp vi tính động mạch vành, tim có dùng thuốc beta block (từ ≥ 256 dãy) | E250: Chụp cắt lớp vi tính động mạch vành, tim có dùng thuốc beta block (từ ≥ 256 dãy) | G250: 3158400 | H250: Chưa bao gồm thuốc cản quang. | I250: 1802160046 | J250: 3158400
A251: 244 | B251: 244 | C251: 18.0217.0046 | D251: Chụp cắt lớp vi tính động mạch vành, tim không dùng thuốc beta block (từ ≥ 256 dãy) | E251: Chụp cắt lớp vi tính động mạch vành, tim không dùng thuốc beta block (từ ≥ 256 dãy) | G251: 3158400 | H251: Chưa bao gồm thuốc cản quang. | I251: 1802170046 | J251: 3158400
A252: 245 | B252: 245 | C252: 18.0179.0046 | D252: Chụp CLVT sọ não có tiêm thuốc cản quang (từ ≥ 256 dãy) | E252: Chụp CLVT sọ não có tiêm thuốc cản quang (từ ≥ 256 dãy) | G252: 3158400 | H252: Chưa bao gồm thuốc cản quang. | I252: 1801790046 | J252: 3158400
A253: 246 | B253: 246 | C253: 18.0180.0046 | D253: Chụp CLVT hệ động mạch cảnh có tiêm thuốc cản quang (từ ≥ 256 dãy) | E253: Chụp CLVT hệ động mạch cảnh có tiêm thuốc cản quang (từ ≥ 256 dãy) | G253: 3158400 | H253: Chưa bao gồm thuốc cản quang. | I253: 1801800046 | J253: 3158400
A254: 247 | B254: 247 | C254: 18.0181.0046 | D254: Chụp CLVT tưới máu não (CT perfusion) (từ ≥ 256 dãy) | E254: Chụp CLVT tưới máu não (CT perfusion) (từ ≥ 256 dãy) | G254: 3158400 | H254: Chưa bao gồm thuốc cản quang. | I254: 1801810046 | J254: 3158400
...

Sheet PL 05B_GIÁ CĐHA PASC_TTBVSKCB
D1: PHỤ LỤC 05B
A2: DỊCH VỤ KỸ THUẬT CHẨN ĐOÁN HÌNH ẢNH SỬ DỤNG HỆ THỐNG LƯU TRỮ VÀ TRUYỀN TẢI HÌNH ẢNH (PACS)
A3: (Kèm theo Nghị quyết số 43/NQ-HĐND ngày 25 tháng 9 năm 2026 của Hội đồng nhân dân thành phố Hải Phòng)
G4: Đơn vị tính: đồng
A5: STT | B5: STT (NQ43) | C5: Mã tương đương | D5: Tên dịch vụ kỹ thuật theo Thông tư số 23/2024/TT-BYT | E5: Tên dịch vụ phê duyệt giá | G5: Ghi chú
F6: Trung tâm Bảo vệ sức khỏe cán bộ thuộc Bệnh viện đa khoa Hải Dương
B7: A | C7: B | D7: C | E7: D | F7: 7 | G7: 8
A8: 1 | B8: 1 | C8: 18.0067.0028 | D8: Chụp X-quang sọ thẳng/nghiêng | E8: Chụp X-quang sọ thẳng/nghiêng | F8: 59800 | G8: Áp dụng cho 01 vị trí | H8: 1800670028 | I8: 59800 | J8: 59800
A9: 2 | B9: 2 | C9: 18.0068.0028 | D9: Chụp X-quang mặt thẳng nghiêng | E9: Chụp X-quang mặt thẳng nghiêng | F9: 59800 | G9: Áp dụng cho 01 vị trí | H9: 1800680028 | I9: 59800 | J9: 59800
A10: 3 | B10: 3 | C10: 18.0069.0028 | D10: Chụp X-quang mặt thấp hoặc mặt cao | E10: Chụp X-quang mặt thấp hoặc mặt cao | G10: Áp dụng cho 01 vị trí | H10: 1800690028 | I10: 59800 | J10: 59800
A11: 4 | B11: 4 | C11: 18.0070.0028 | D11: Chụp X-quang sọ tiếp tuyến | E11: Chụp X-quang sọ tiếp tuyến | G11: Áp dụng cho 01 vị trí | H11: 1800700028 | I11: 59800 | J11: 59800
A12: 5 | B12: 5 | C12: 18.0071.0028 | D12: Chụp X-quang hốc mắt thẳng nghiêng | E12: Chụp X-quang hốc mắt thẳng nghiêng | G12: Áp dụng cho 01 vị trí | H12: 1800710028 | I12: 59800 | J12: 59800
A13: 6 | B13: 6 | C13: 18.0072.0028 | D13: Chụp X-quang Blondeau | E13: Chụp X-quang Blondeau [Blondeau + Hirtz] | F13: 59800 | G13: Áp dụng cho 01 vị trí | H13: 1800720028 | I13: 59800 | J13: 59800
A14: 7 | B14: 7 | C14: 18.0073.0028 | D14: Chụp X-quang Hirtz | E14: Chụp X-quang Hirtz | F14: 59800 | G14: Áp dụng cho 01 vị trí | H14: 1800730028 | I14: 59800 | J14: 59800
A15: 8 | B15: 12 | C15: 18.0078.0028 | D15: Chụp X-quang Schuller | E15: Chụp X-quang Schuller | F15: 59800 | G15: Áp dụng cho 01 vị trí | H15: 1800780028 | I15: 59800 | J15: 59800
A16: 9 | B16: 14 | C16: 18.0080.0028 | D16: Chụp X-quang khớp thái dương hàm | E16: Chụp X-quang khớp thái dương hàm | F16: 59800 | G16: Áp dụng cho 01 vị trí | H16: 1800800028 | I16: 59800 | J16: 59800
A17: 10 | B17: 16 | C17: 18.0086.0028 | D17: Chụp X-quang cột sống cổ thẳng nghiêng | E17: Chụp X-quang cột sống cổ thẳng nghiêng | F17: 59800 | G17: Áp dụng cho 01 vị trí | H17: 1800860028 | I17: 59800 | J17: 59800
A18: 11 | B18: 19 | C18: 18.0090.0028 | D18: Chụp X-quang cột sống ngực thẳng nghiêng hoặc chếch | E18: Chụp X-quang cột sống ngực thẳng nghiêng hoặc chếch | F18: 59800 | G18: Áp dụng cho 01 vị trí | H18: 1800900028 | I18: 59800 | J18: 59800
A19: 12 | B19: 20 | C19: 18.0091.0028 | D19: Chụp X-quang cột sống thắt lưng thẳng nghiêng | E19: Chụp X-quang cột sống thắt lưng thẳng nghiêng | F19: 59800 | G19: Áp dụng cho 01 vị trí | H19: 1800910028 | I19: 59800 | J19: 59800
A20: 13 | B20: 22 | C20: 18.0093.0028 | D20: Chụp X-quang cột sống thắt lưng L5-S1 thẳng nghiêng | E20: Chụp X-quang cột sống thắt lưng L5-S1 thẳng nghiêng | F20: 59800 | G20: Áp dụng cho 01 vị trí | H20: 1800930028 | I20: 59800 | J20: 59800
A21: 14 | B21: 25 | C21: 18.0096.0028 | D21: Chụp X-quang cột sống cùng cụt thẳng nghiêng | E21: Chụp X-quang cột sống cùng cụt thẳng nghiêng | F21: 59800 | G21: Áp dụng cho 01 vị trí | H21: 1800960028 | I21: 59800 | J21: 59800
A22: 15 | B22: 26 | C22: 18.0098.0028 | D22: Chụp X-quang khung chậu thẳng | E22: Chụp X-quang khung chậu thẳng | F22: 59800 | G22: Áp dụng cho 01 vị trí | H22: 1800980028 | I22: 59800 | J22: 59800
A23: 16 | B23: 27 | C23: 18.0099.0028 | D23: Chụp X-quang xương đòn thẳng hoặc chếch | E23: Chụp X-quang xương đòn thẳng hoặc chếch | F23: 59800 | G23: Áp dụng cho 01 vị trí | H23: 1800990028 | I23: 59800 | J23: 59800
A24: 17 | B24: 28 | C24: 18.0100.0028 | D24: Chụp X-quang khớp vai thẳng | E24: Chụp X-quang khớp vai thẳng | F24: 59800 | G24: Áp dụng cho 01 vị trí | H24: 1801000028 | I24: 59800 | J24: 59800
... A60: 53 | B60: 86 | C60: 18.0125.0029 | D60: Chụp X-quang bụng không chuẩn bị thẳng hoặc nghiêng | E60: Chụp X-quang bụng không chuẩn bị thẳng hoặc nghiêng [thẳng và nghiêng] | F60: 80300 | G60: Áp dụng cho 01 vị trí | H60: 1801250029 | I60: 80300 | J60: 80300
C62: Tổng số: 53 danh mục

Sheet CPQL 2021-2025
A1: BẢNG PHÂN LOẠI CHI PHÍ QUẢN LÝ - NĂM 2021 ĐẾN 2025
A2: Bệnh viện Đa khoa Hải Dương | Mã ĐVQHNS: 1019976 | Mã chương: 423 | Đơn vị tính: đồng
A3: Thanh toán dịch vụ công cộng (điện, nước, nhiên liệu,…): 50% Chi phí văn phòng phẩm, công cụ dụng cụ, sửa chữa công nghệ thông tin: 50% Chi phí vệ sinh công nghiệp: 15% Chi sửa chữa nhỏ các khoa phòng: 50% Năm 2023-2025: Chi học phí cán bộ (thuê đào tạo cán bộ) số chi lấy từ quỹ PTHĐSN Chi thường xuyên không bao gồm chi cho hoạt động cho thuê địa điểm (gồm thuế TNDN và chi tiền bồi dưỡng cho bộ phận quản lý hoạt động dịch vụ)
A4: Khoản | B4: Tiểu mục | C4: Nội dung chi | D4: Tổng số 2021 | E4: Phân loại 2021 | F4: Tỷ lệ 2021 | G4: CP QL 2021 | H4: Tổng số 2022 | I4: Phân loại 2022 | J4: Tỷ lệ 2022 | K4: CP QL 2022 | L4: Tổng số 2023 | M4: Phân loại 2023 | N4: Tỷ lệ 2023 | O4: CP QL 2023 | P4: Tổng số 2024 | Q4: Phân loại 2024 | R4: Tỷ lệ 2024 | S4: CP QL 2024 | T4: Tổng số 2025 | U4: Phân loại 2025 | V4: Tỷ lệ 2025 | W4: CP QL 2025
C5: Kinh phí thường xuyên/tự chủ | D5: ='[3]2021'!F5 -> 535485505118 | G5: ='[3]2021'!I5 -> 2.0474536e+10 | H5: ='[3]2022'!F5 -> 467816142949 | K5: ='[3]2022'!I5 -> 1.9517592e+10 | L5: ='[3]2023'!F5 -> 425087252349 | O5: ='[3]2023'!I5 -> 2.1826303e+10 | P5: ='[3]2024'!F5 -> 453589626640 | S5: ='[3]2024'!I5 -> 2.1955599e+10 | T5: ='[3]2025'!F5 -> 608812794737 | W5: ='[3]2025'!I5 -> 25409196394
A6: 6000 | C6: Tiền lương | D6: ='[3]2021'!F6 -> 51979202651 | G6: ='[3]2021'!I6 -> 0 | H6: ='[3]2022'!F6 -> 52098641012 | K6: ='[3]2022'!I6 -> 0 | L6: ='[3]2023'!F6 -> 63220514818 | O6: ='[3]2023'!I6 -> 0 | P6: ='[3]2024'!F6 -> 72216897267 | S6: ='[3]2024'!I6 -> 0 | T6: ='[3]2025'!F6 -> 99407480132 | W6: ='[3]2025'!I6 -> 0
B7: 6001 | C7: ='[3]2021'!E7 -> Lương theo ngạch, bậc | D7: ='[3]2021'!F7 -> 51979202651 | E7: ='[3]2021'!G7 -> Ngoài phạm vi (cấu phần lương) | F7: ='[3]2021'!H7 -> 0 | G7: ='[3]2021'!I7 -> 0 | H7: ='[3]2022'!F7 -> 52098641012 | I7: ='[3]2022'!G7 -> Ngoài phạm vi (cấu phần lương) | J7: ='[3]2022'!H7 -> 0 | K7: ='[3]2022'!I7 -> 0 | L7: ='[3]2023'!F7 -> 63220514818 | M7: ='[3]2023'!G7 -> Ngoài phạm vi (cấu phần lương) | N7: ='[3]2023'!H7 -> 0 | O7: ='[3]2023'!I7 -> 0 | P7: ='[3]2024'!F7 -> 71022039267 | Q7: ='[3]2024'!G7 -> Ngoài phạm vi (cấu phần lương) | R7: ='[3]2024'!H7 -> 0 | S7: ='[3]2024'!I7 -> 0 | T7: ='[3]2025'!F7 -> 98685627359 | U7: ='[3]2025'!G7 -> Ngoài phạm vi (cấu phần lương) | V7: ='[3]2025'!H7 -> 0 | W7: ='[3]2025'!I7 -> 0
B8: 6049 | C8: ='[3]2024'!E8 -> Lương khác | P8: ='[3]2024'!F8 -> 1194858000 | Q8: ='[3]2024'!G8 -> Ngoài phạm vi (cấu phần lương) | R8: ='[3]2024'!H8 -> 0 | S8: ='[3]2024'!I8 -> 0
B9: 6003 | C9: ='[3]2025'!E8 -> Lương hợp đồng theo chế độ | T9: ='[3]2025'!F8 -> 721852773 | U9: ='[3]2025'!G8 -> Ngoài phạm vi (cấu phần lương) | V9: ='[3]2025'!H8 -> 0 | W9: ='[3]2025'!I8 -> 0
A10: 6050 | C10: Tiền công trả cho vị trí lao động thường xuyên theo HĐ | D10: ='[3]2021'!F8 -> 798564318 | G10: ='[3]2021'!I8 -> 0 | H10: ='[3]2022'!F8 -> 2202784228 | K10: ='[3]2022'!I8 -> 0 | L10: ='[3]2023'!F8 -> 1600011353 | O10: ='[3]2023'!I8 -> 0 | P10: ='[3]2024'!F9 -> 578575000 | S10: ='[3]2024'!I9 -> 0 | T10: ='[3]2025'!F9 -> 4943656423 | W10: ='[3]2025'!I9 -> 0
B11: 6051 | C11: ='[3]2021'!E9 -> Tiền công trả cho vị trí lao động thường xuyên theo HĐ | D11: ='[3]2021'!F9 -> 798564318 | E11: ='[3]2021'!G9 -> Ngoài phạm vi (cấu phần lương) | F11: ='[3]2021'!H9 -> 0 | G11: ='[3]2021'!I9 -> 0 | H11: ='[3]2022'!F9 -> 2202784228 | I11: ='[3]2022'!G9 -> Ngoài phạm vi (cấu phần lương) | J11: ='[3]2022'!H9 -> 0 | K11: ='[3]2022'!I9 -> 0 | L11: ='[3]2023'!F9 -> 1600011353 | M11: ='[3]2023'!G9 -> Ngoài phạm vi (cấu phần lương) | N11: ='[3]2023'!H9 -> 0 | O11: ='[3]2023'!I9 -> 0 | P11: ='[3]2024'!F10 -> 578575000 | Q11: ='[3]2024'!G10 -> Ngoài phạm vi (cấu phần lương) | R11: ='[3]2024'!H10 -> 0 | S11: ='[3]2024'!I10 -> 0 | T11: ='[3]2025'!F10 -> 4943656423 | U11: ='[3]2025'!G10 -> Ngoài phạm vi (cấu phần lương) | V11: ='[3]2025'!H10 -> 0 | W11: ='[3]2025'!I10 -> 0
A12: 6100 | C12: Phụ cấp lương | D12: ='[3]2021'!F10 -> 47337831335 | G12: ='[3]2021'!I10 -> 0 | H12: ='[3]2022'!F10 -> 51553567066 | K12: ='[3]2022'!I10 -> 0 | L12: ='[3]2023'!F10 -> 51956864706 | O12: ='[3]2023'!I10 -> 0 | P12: ='[3]2024'!F11 -> 54180305977 | S12: ='[3]2024'!I11 -> 0 | T12: ='[3]2025'!F11 -> 81269251045 | W12: ='[3]2025'!I11 -> 0
B13: 6101 | C13: ='[3]2021'!E11 -> Phụ cấp chức vụ | D13: ='[3]2021'!F11 -> 1421013000 | E13: ='[3]2021'!G11 -> Ngoài phạm vi (cấu phần lương) | F13: ='[3]2021'!H11 -> 0 | G13: ='[3]2021'!I11 -> 0 | H13: ='[3]2022'!F11 -> 1439191000 | I13: ='[3]2022'!G11 -> Ngoài phạm vi (cấu phần lương) | J13: ='[3]2022'!H11 -> 0 | K13: ='[3]2022'!I11 -> 0 | L13: ='[3]2023'!F11 -> 1477405000 | M13: ='[3]2023'!G11 -> Ngoài phạm vi (cấu phần lương) | N13: ='[3]2023'!H11 -> 0 | O13: ='[3]2023'!I11 -> 0 | P13: ='[3]2024'!F12 -> 1659420000 | Q13: ='[3]2024'!G12 -> Ngoài phạm vi (cấu phần lương) | R13: ='[3]2024'!H12 -> 0 | S13: ='[3]2024'!I12 -> 0 | T13: ='[3]2025'!F12 -> 2070556956 | U13: ='[3]2025'!G12 -> Ngoài phạm vi (cấu phần lương) | V13: ='[3]2025'!H12 -> 0 | W13: ='[3]2025'!I12 -> 0
B14: 6105 | C14: ='[3]2021'!E12 -> Phụ cấp làm đêm, làm thêm giờ | D14: ='[3]2021'!F12 -> 1598236253 | E14: ='[3]2021'!G12 -> Ngoài phạm vi (cấu phần lương) | F14: ='[3]2021'!H12 -> 0 | G14: ='[3]2021'!I12 -> 0 | H14: ='[3]2022'!F12 -> 2933033884 | I14: ='[3]2022'!G12 -> Ngoài phạm vi (cấu phần lương) | J14: ='[3]2022'!H12 -> 0 | K14: ='[3]2022'!I12 -> 0 | L14: ='[3]2023'!F12 -> 3671617833 | M14: ='[3]2023'!G12 -> Ngoài phạm vi (cấu phần lương) | N14: ='[3]2023'!H12 -> 0 | O14: ='[3]2023'!I12 -> 0 | P14: ='[3]2024'!F13 -> 3264896564 | Q14: ='[3]2024'!G13 -> Ngoài phạm vi (cấu phần lương) | R14: ='[3]2024'!H13 -> 0 | S14: ='[3]2024'!I13 -> 0 | T14: ='[3]2025'!F13 -> 5239999948 | U14: ='[3]2025'!G13 -> Ngoài phạm vi (cấu phần lương) | V14: ='[3]2025'!H13 -> 0 | W14: ='[3]2025'!I13 -> 0
B15: 6107 | C15: ='[3]2021'!E13 -> Phụ cấp nặng nhọc, độc hại, nguy hiểm | D15: ='[3]2021'!F13 -> 2510568727 | E15: ='[3]2021'!G13 -> Ngoài phạm vi (cấu phần lương) | F15: ='[3]2021'!H13 -> 0 | G15: ='[3]2021'!I13 -> 0 | H15: ='[3]2022'!F13 -> 2436746000 | I15: ='[3]2022'!G13 -> Ngoài phạm vi (cấu phần lương) | J15: ='[3]2022'!H13 -> 0 | K15: ='[3]2022'!I13 -> 0 | L15: ='[3]2023'!F13 -> 2520052000 | M15: ='[3]2023'!G13 -> Ngoài phạm vi (cấu phần lương) | N15: ='[3]2023'!H13 -> 0 | O15: ='[3]2023'!I13 -> 0 | P15: ='[3]2024'!F14 -> 2963358000 | Q15: ='[3]2024'!G14 -> Ngoài phạm vi (cấu phần lương) | R15: ='[3]2024'!H14 -> 0 | S15: ='[3]2024'!I14 -> 0 | T15: ='[3]2025'!F14 -> 4091490000 | U15: ='[3]2025'!G14 -> Ngoài phạm vi (cấu phần lương) | V15: ='[3]2025'!H14 -> 0 | W15: ='[3]2025'!I14 -> 0
B16: 6113 | C16: ='[3]2021'!E14 -> Phụ cấp trách nhiệm theo nghề, theo công việc | D16: ='[3]2021'!F14 -> 181184000 | E16: ='[3]2021'!G14 -> Ngoài phạm vi (cấu phần lương) | F16: ='[3]2021'!H14 -> 0 | G16: ='[3]2021'!I14 -> 0 | H16: ='[3]2022'!F14 -> 193700000 | I16: ='[3]2022'!G14 -> Ngoài phạm vi (cấu phần lương) | J16: ='[3]2022'!H14 -> 0 | K16: ='[3]2022'!I14 -> 0 | L16: ='[3]2023'!F14 -> 201193580 | M16: ='[3]2023'!G14 -> Ngoài phạm vi (cấu phần lương) | N16: ='[3]2023'!H14 -> 0 | O16: ='[3]2023'!I14 -> 0 | P16: ='[3]2024'!F15 -> 221202000 | Q16: ='[3]2024'!G15 -> Ngoài phạm vi (cấu phần lương) | R16: ='[3]2024'!H15 -> 0 | S16: ='[3]2024'!I15 -> 0 | T16: ='[3]2025'!F15 -> 321282000 | U16: ='[3]2025'!G15 -> Ngoài phạm vi (cấu phần lương) | V16: ='[3]2025'!H15 -> 0 | W16: ='[3]2025'!I15 -> 0
B17: 6114 | C17: ='[3]2021'!E15 -> Phụ cấp trực | D17: ='[3]2021'!F15 -> 6073708550 | E17: ='[3]2021'!G15 -> Ngoài phạm vi (cấu phần lương) | F17: ='[3]2021'!H15 -> 0 | G17: ='[3]2021'!I15 -> 0 | H17: ='[3]2022'!F15 -> 6323948525 | I17: ='[3]2022'!G15 -> Ngoài phạm vi (cấu phần lương) | J17: ='[3]2022'!H15 -> 0 | K17: ='[3]2022'!I15 -> 0 | L17: ='[3]2023'!F15 -> 6106770125 | M17: ='[3]2023'!G15 -> Ngoài phạm vi (cấu phần lương) | N17: ='[3]2023'!H15 -> 0 | O17: ='[3]2023'!I15 -> 0 | P17: ='[3]2024'!F16 -> 5889570576 | Q17: ='[3]2024'!G16 -> Ngoài phạm vi (cấu phần lương) | R17: ='[3]2024'!H16 -> 0 | S17: ='[3]2024'!I16 -> 0 | T17: ='[3]2025'!F16 -> 7039905800 | U17: ='[3]2025'!G16 -> Ngoài phạm vi (cấu phần lương) | V17: ='[3]2025'!H16 -> 0 | W17: ='[3]2025'!I16 -> 0
B18: 6115 | C18: ='[3]2021'!E16 -> Phụ cấp thâm niên vượt khung, thâm niên nghề | D18: ='[3]2021'!F16 -> 115380832 | E18: ='[3]2021'!G16 -> Ngoài phạm vi (cấu phần lương) | F18: ='[3]2021'!H16 -> 0 | G18: ='[3]2021'!I16 -> 0 | H18: ='[3]2022'!F16 -> 100253905 | I18: ='[3]2022'!G16 -> Ngoài phạm vi (cấu phần lương) | J18: ='[3]2022'!H16 -> 0 | K18: ='[3]2022'!I16 -> 0 | L18: ='[3]2023'!F16 -> 80763783 | M18: ='[3]2023'!G16 -> Ngoài phạm vi (cấu phần lương) | N18: ='[3]2023'!H16 -> 0 | O18: ='[3]2023'!I16 -> 0 | P18: ='[3]2024'!F17 -> 87484356 | Q18: ='[3]2024'!G17 -> Ngoài phạm vi (cấu phần lương) | R18: ='[3]2024'!H17 -> 0 | S18: ='[3]2024'!I17 -> 0 | T18: ='[3]2025'!F17 -> 509562612 | U18: ='[3]2025'!G17 -> Ngoài phạm vi (cấu phần lương) | V18: ='[3]2025'!H17 -> 0 | W18: ='[3]2025'!I17 -> 0
B19: 6116 | C19: ='[3]2021'!E17 -> Phụ cấp đặc biệt khác của ngành | D19: ='[3]2021'!F17 -> 23419944573 | E19: ='[3]2021'!G17 -> Ngoài phạm vi (cấu phần lương) | F19: ='[3]2021'!H17 -> 0 | G19: ='[3]2021'!I17 -> 0 | H19: ='[3]2022'!F17 -> 23656670526 | I19: ='[3]2022'!G17 -> Ngoài phạm vi (cấu phần lương) | J19: ='[3]2022'!H17 -> 0 | K19: ='[3]2022'!I17 -> 0 | L19: ='[3]2023'!F17 -> 25360582385 | M19: ='[3]2023'!G17 -> Ngoài phạm vi (cấu phần lương) | N19: ='[3]2023'!H17 -> 0 | O19: ='[3]2023'!I17 -> 0 | P19: ='[3]2024'!F18 -> 30978700182 | Q19: ='[3]2024'!G18 -> Ngoài phạm vi (cấu phần lương) | R19: ='[3]2024'!H18 -> 0 | S19: ='[3]2024'!I18 -> 0 | T19: ='[3]2025'!F18 -> 42990133829 | U19: ='[3]2025'!G18 -> Ngoài phạm vi (cấu phần lương) | V19: ='[3]2025'!H18 -> 0 | W19: ='[3]2025'!I18 -> 0
B20: 6123 | C20: ='[3]2021'!E18 -> Phụ cấp công tác Đảng, Đoàn thể chính trị - xã hội | D20: ='[3]2021'!F18 -> 69732000 | E20: ='[3]2021'!G18 -> Ngoài phạm vi (cấu phần lương) | F20: ='[3]2021'!H18 -> 0 | G20: ='[3]2021'!I18 -> 0 | L20: ='[3]2023'!F18 -> 138159000 | M20: ='[3]2023'!G18 -> Ngoài phạm vi (cấu phần lương) | N20: ='[3]2023'!H18 -> 0 | O20: ='[3]2023'!I18 -> 0 | P20: ='[3]2024'!F19 -> 65056499 | Q20: ='[3]2024'!G19 -> Ngoài phạm vi (cấu phần lương) | R20: ='[3]2024'!H19 -> 0 | S20: ='[3]2024'!I19 -> 0
B21: 6149 | C21: ='[3]2021'!E19 -> Phụ cấp khác | D21: ='[3]2021'!F19 -> 11948063400 | E21: ='[3]2021'!G19 -> Ngoài phạm vi (cấu phần lương) | F21: ='[3]2021'!H19 -> 0 | G21: ='[3]2021'!I19 -> 0 | H21: ='[3]2022'!F18 -> 14470023226 | I21: ='[3]2022'!G18 -> Ngoài phạm vi (cấu phần lương) | J21: ='[3]2022'!H18 -> 0 | K21: ='[3]2022'!I18 -> 0 | L21: ='[3]2023'!F19 -> 12400321000 | M21: ='[3]2023'!G19 -> Ngoài phạm vi (cấu phần lương) | N21: ='[3]2023'!H19 -> 0 | O21: ='[3]2023'!I19 -> 0 | P21: ='[3]2024'!F20 -> 9050617800 | Q21: ='[3]2024'!G20 -> Ngoài phạm vi (cấu phần lương) | R21: ='[3]2024'!H20 -> 0 | S21: ='[3]2024'!I20 -> 0 | T21: ='[3]2025'!F19 -> 19006319900 | U21: ='[3]2025'!G19 -> Ngoài phạm vi (cấu phần lương) | V21: ='[3]2025'!H19 -> 0 | W21: ='[3]2025'!I19 -> 0
A22: 6200 | C22: Tiền thưởng | D22: ='[3]2021'!F20 -> 551936000 | G22: ='[3]2021'!I20 -> 0 | H22: ='[3]2022'!F19 -> 482909000 | K22: ='[3]2022'!I19 -> 0 | L22: ='[3]2023'!F20 -> 437166000 | O22: ='[3]2023'!I20 -> 0 | P22: ='[3]2024'!F21 -> 113940000 | S22: ='[3]2024'!I21 -> 0 | T22: ='[3]2025'!F20 -> 491933000 | W22: ='[3]2025'!I20 -> 0
B23: 6201 | C23: ='[3]2021'!E21 -> Thưởng thường xuyên | D23: ='[3]2021'!F21 -> 60196000 | E23: ='[3]2021'!G21 -> Ngoài phạm vi (cấu phần lương) | F23: ='[3]2021'!H21 -> 0 | G23: ='[3]2021'!I21 -> 0 | H23: ='[3]2022'!F20 -> 57812000 | I23: ='[3]2022'!G20 -> Ngoài phạm vi (cấu phần lương) | J23: ='[3]2022'!H20 -> 0 | K23: ='[3]2022'!I20 -> 0 | P23: ='[3]2024'!F22 -> 113940000 | Q23: ='[3]2024'!G22 -> Ngoài phạm vi (cấu phần lương) | R23: ='[3]2024'!H22 -> 0 | S23: ='[3]2024'!I22 -> 0 | T23: ='[3]2025'!F21 -> 491933000 | U23: ='[3]2025'!G21 -> Ngoài phạm vi (cấu phần lương) | V23: ='[3]2025'!H21 -> 0 | W23: ='[3]2025'!I21 -> 0
B24: 6202 | C24: ='[3]2021'!E22 -> Thưởng đột xuất | D24: ='[3]2021'!F22 -> 6000000 | E24: ='[3]2021'!G22 -> Ngoài phạm vi (cấu phần lương) | F24: ='[3]2021'!H22 -> 0 | G24: ='[3]2021'!I22 -> 0
B25: 6249 | C25: ='[3]2021'!E23 -> Thưởng khác | D25: ='[3]2021'!F23 -> 485740000 | E25: ='[3]2021'!G23 -> Ngoài phạm vi (cấu phần lương) | F25: ='[3]2021'!H23 -> 0 | G25: ='[3]2021'!I23 -> 0 | H25: ='[3]2022'!F21 -> 425097000 | I25: ='[3]2022'!G21 -> Ngoài phạm vi (cấu phần lương) | J25: ='[3]2022'!H21 -> 0 | K25: ='[3]2022'!I21 -> 0 | L25: ='[3]2023'!F21 -> 437166000 | M25: ='[3]2023'!G21 -> Ngoài phạm vi (cấu phần lương) | N25: ='[3]2023'!H21 -> 0 | O25: ='[3]2023'!I21 -> 0 | T25: ='[3]2025'!F22 -> 0 | U25: ='[3]2025'!G22 -> Ngoài phạm vi (cấu phần lương) | V25: ='[3]2025'!H22 -> 0 | W25: ='[3]2025'!I22 -> 0
A26: 6300 | C26: Các khoản đóng góp | D26: ='[3]2021'!F24 -> 13048001802 | G26: ='[3]2021'!I24 -> 0 | H26: ='[3]2022'!F22 -> 12835277977 | K26: ='[3]2022'!I22 -> 0 | L26: ='[3]2023'!F22 -> 14491347267 | O26: ='[3]2023'!I22 -> 0 | P26: ='[3]2024'!F23 -> 17627636244 | S26: ='[3]2024'!I23 -> 0 | T26: ='[3]2025'!F23 -> 24905324655 | W26: ='[3]2025'!I23 -> 0
B27: 6301 | C27: ='[3]2021'!E25 -> Bảo hiểm xã hội | D27: ='[3]2021'!F25 -> 9529065295 | E27: ='[3]2021'!G25 -> Ngoài phạm vi (cấu phần lương) | F27: ='[3]2021'!H25 -> 0 | G27: ='[3]2021'!I25 -> 0 | H27: ='[3]2022'!F23 -> 9862575036 | I27: ='[3]2022'!G23 -> Ngoài phạm vi (cấu phần lương) | J27: ='[3]2022'!H23 -> 0 | K27: ='[3]2022'!I23 -> 0 | L27: ='[3]2023'!F23 -> 10810197251 | M27: ='[3]2023'!G23 -> Ngoài phạm vi (cấu phần lương) | N27: ='[3]2023'!H23 -> 0 | O27: ='[3]2023'!I23 -> 0 | P27: ='[3]2024'!F24 -> 13155349425 | Q27: ='[3]2024'!G24 -> Ngoài phạm vi (cấu phần lương) | R27: ='[3]2024'!H24 -> 0 | S27: ='[3]2024'!I24 -> 0 | T27: ='[3]2025'!F24 -> 17071975151 | U27: ='[3]2025'!G24 -> Ngoài phạm vi (cấu phần lương) | V27: ='[3]2025'!H24 -> 0 | W27: ='[3]2025'!I24 -> 0
B28: 6302 | C28: ='[3]2021'!E26 -> Bảo hiểm y tế | D28: ='[3]2021'!F26 -> 1653316714 | E28: ='[3]2021'!G26 -> Ngoài phạm vi (cấu phần lương) | F28: ='[3]2021'!H26 -> 0 | G28: ='[3]2021'!I26 -> 0 | H28: ='[3]2022'!F24 -> 1712196641 | I28: ='[3]2022'!G24 -> Ngoài phạm vi (cấu phần lương) | J28: ='[3]2022'!H24 -> 0 | K28: ='[3]2022'!I24 -> 0 | L28: ='[3]2023'!F24 -> 1848709756 | M28: ='[3]2023'!G24 -> Ngoài phạm vi (cấu phần lương) | N28: ='[3]2023'!H24 -> 0 | O28: ='[3]2023'!I24 -> 0 | P28: ='[3]2024'!F25 -> 2255363546 | Q28: ='[3]2024'!G25 -> Ngoài phạm vi (cấu phần lương) | R28: ='[3]2024'!H25 -> 0 | S28: ='[3]2024'!I25 -> 0 | T28: ='[3]2025'!F25 -> 4647445997 | U28: ='[3]2025'!G25 -> Ngoài phạm vi (cấu phần lương) | V28: ='[3]2025'!H25 -> 0 | W28: ='[3]2025'!I25 -> 0
B29: 6303 | C29: ='[3]2021'!E27 -> Kinh phí công đoàn | D29: ='[3]2021'!F27 -> 1090277954 | E29: ='[3]2021'!G27 -> Ngoài phạm vi (cấu phần lương) | F29: ='[3]2021'!H27 -> 0 | G29: ='[3]2021'!I27 -> 0 | H29: ='[3]2022'!F25 -> 1086815829 | I29: ='[3]2022'!G25 -> Ngoài phạm vi (cấu phần lương) | J29: ='[3]2022'!H25 -> 0 | K29: ='[3]2022'!I25 -> 0 | L29: ='[3]2023'!F25 -> 1214327201 | M29: ='[3]2023'!G25 -> Ngoài phạm vi (cấu phần lương) | N29: ='[3]2023'!H25 -> 0 | O29: ='[3]2023'!I25 -> 0 | P29: ='[3]2024'!F26 -> 1484268892 | Q29: ='[3]2024'!G26 -> Ngoài phạm vi (cấu phần lương) | R29: ='[3]2024'!H26 -> 0 | S29: ='[3]2024'!I26 -> 0 | T29: ='[3]2025'!F26 -> 2113292784 | U29: ='[3]2025'!G26 -> Ngoài phạm vi (cấu phần lương) | V29: ='[3]2025'!H26 -> 0 | W29: ='[3]2025'!I26 -> 0
B30: 6304 | C30: ='[3]2021'!E28 -> Bảo hiểm thất nghiệp | D30: ='[3]2021'!F28 -> 775341839 | E30: ='[3]2021'!G28 -> Ngoài phạm vi (cấu phần lương) | F30: ='[3]2021'!H28 -> 0 | G30: ='[3]2021'!I28 -> 0 | H30: ='[3]2022'!F26 -> 173690471 | I30: ='[3]2022'!G26 -> Ngoài phạm vi (cấu phần lương) | J30: ='[3]2022'!H26 -> 0 | K30: ='[3]2022'!I26 -> 0 | L30: ='[3]2023'!F26 -> 618113059 | M30: ='[3]2023'!G26 -> Ngoài phạm vi (cấu phần lương) | N30: ='[3]2023'!H26 -> 0 | O30: ='[3]2023'!I26 -> 0 | P30: ='[3]2024'!F27 -> 732654381 | Q30: ='[3]2024'!G27 -> Ngoài phạm vi (cấu phần lương) | R30: ='[3]2024'!H27 -> 0 | S30: ='[3]2024'!I27 -> 0 | T30: ='[3]2025'!F27 -> 1072610723 | U30: ='[3]2025'!G27 -> Ngoài phạm vi (cấu phần lương) | V30: ='[3]2025'!H27 -> 0 | W30: ='[3]2025'!I27 -> 0
A31: 6400 | C31: Các khoản thanh toán khác cho cá nhân | D31: ='[3]2021'!F29 -> 10681853454 | G31: ='[3]2021'!I29 -> 0 | H31: ='[3]2022'!F27 -> 8547401894 | K31: ='[3]2022'!I27 -> 0 | L31: ='[3]2023'!F27 -> 4265198804 | O31: ='[3]2023'!I27 -> 0 | P31: ='[3]2024'!F28 -> 3645974076 | S31: ='[3]2024'!I28 -> 0 | T31: ='[3]2025'!F28 -> 5099268702 | W31: ='[3]2025'!I28 -> 0
B32: 6401 | C32: ='[3]2021'!E30 -> Tiền ăn | D32: ='[3]2021'!F30 -> 54600000 | E32: ='[3]2021'!G30 -> Ngoài phạm vi (cấu phần lương) | F32: ='[3]2021'!H30 -> 0 | G32: ='[3]2021'!I30 -> 0
B33: 6449 | C33: ='[3]2021'!E31 -> Chi khác | D33: ='[3]2021'!F31 -> 10627253454 | E33: ='[3]2021'!G31 -> Ngoài phạm vi (cấu phần lương) | F33: ='[3]2021'!H31 -> 0 | G33: ='[3]2021'!I31 -> 0 | H33: ='[3]2022'!F28 -> 8547401894 | I33: ='[3]2022'!G28 -> Ngoài phạm vi (cấu phần lương) | J33: ='[3]2022'!H28 -> 0 | K33: ='[3]2022'!I28 -> 0 | L33: ='[3]2023'!F28 -> 4265198804 | M33: ='[3]2023'!G28 -> Ngoài phạm vi (cấu phần lương) | N33: ='[3]2023'!H28 -> 0 | O33: ='[3]2023'!I28 -> 0 | P33: ='[3]2024'!F29 -> 3645974076 | Q33: ='[3]2024'!G29 -> Ngoài phạm vi (cấu phần lương) | R33: ='[3]2024'!H29 -> 0 | S33: ='[3]2024'!I29 -> 0 | T33: ='[3]2025'!F29 -> 5099268702 | U33: ='[3]2025'!G29 -> Ngoài phạm vi (cấu phần lương) | V33: ='[3]2025'!H29 -> 0 | W33: ='[3]2025'!I29 -> 0
A34: 6500 | C34: Thanh toán dịch vụ công cộng | D34: ='[3]2021'!F32 -> 10682749102 | G34: ='[3]2021'!I32 -> 5341374551 | H34: ='[3]2022'!F29 -> 13098367620 | K34: ='[3]2022'!I29 -> 6549183810 | L34: ='[3]2023'!F29 -> 13034947681 | O34: ='[3]2023'!I29 -> 6.5174738e+09 | P34: ='[3]2024'!F30 -> 14111020147 | S34: ='[3]2024'!I30 -> 7.0555101e+09 | T34: ='[3]2025'!F30 -> 15639077138 | W34: ='[3]2025'!I30 -> 7819538569
B35: 6501 | C35: ='[3]2021'!E33 -> Tiền điện | D35: ='[3]2021'!F33 -> 6740457262 | E35: ='[3]2021'!G33 -> Lưỡng tính | F35: ='[3]2021'!H33 -> 0.5 | G35: ='[3]2021'!I33 -> 3370228631 | H35: ='[3]2022'!F30 -> 8678342606 | I35: ='[3]2022'!G30 -> Lưỡng tính | J35: ='[3]2022'!H30 -> 0.5 | K35: ='[3]2022'!I30 -> 4339171303 | L35: ='[3]2023'!F30 -> 8907928675 | M35: ='[3]2023'!G30 -> Lưỡng tính | N35: ='[3]2023'!H30 -> 0.5 | O35: ='[3]2023'!I30 -> 4.4539643e+09 | P35: ='[3]2024'!F31 -> 9892443091 | Q35: ='[3]2024'!G31 -> Lưỡng tính | R35: ='[3]2024'!H31 -> 0.5 | S35: ='[3]2024'!I31 -> 4.9462215e+09 | T35: ='[3]2025'!F31 -> 9924682329 | U35: ='[3]2025'!G31 -> Lưỡng tính | V35: ='[3]2025'!H31 -> 0.5 | W35: ='[3]2025'!I31 -> 4.9623412e+09
B36: 6502 | C36: ='[3]2021'!E34 -> Tiền nước | D36: ='[3]2021'!F34 -> 3364275710 | E36: ='[3]2021'!G34 -> Lưỡng tính | F36: ='[3]2021'!H34 -> 0.5 | G36: ='[3]2021'!I34 -> 1682137855 | H36: ='[3]2022'!F31 -> 3736449974 | I36: ='[3]2022'!G31 -> Lưỡng tính | J36: ='[3]2022'!H31 -> 0.5 | K36: ='[3]2022'!I31 -> 1868224987 | L36: ='[3]2023'!F31 -> 3707470116 | M36: ='[3]2023'!G31 -> Lưỡng tính | N36: ='[3]2023'!H31 -> 0.5 | O36: ='[3]2023'!I31 -> 1853735058 | P36: ='[3]2024'!F32 -> 3778804584 | Q36: ='[3]2024'!G32 -> Lưỡng tính | R36: ='[3]2024'!H32 -> 0.5 | S36: ='[3]2024'!I32 -> 1889402292 | T36: ='[3]2025'!F32 -> 4616266401 | U36: ='[3]2025'!G32 -> Lưỡng tính | V36: ='[3]2025'!H32 -> 0.5 | W36: ='[3]2025'!I32 -> 2.3081332e+09
B37: 6503 | C37: ='[3]2021'!E35 -> Tiền nhiên liệu | D37: ='[3]2021'!F35 -> 574416130 | E37: ='[3]2021'!G35 -> Lưỡng tính | F37: ='[3]2021'!H35 -> 0.5 | G37: ='[3]2021'!I35 -> 287208065 | H37: ='[3]2022'!F32 -> 679975040 | I37: ='[3]2022'!G32 -> Lưỡng tính | J37: ='[3]2022'!H32 -> 0.5 | K37: ='[3]2022'!I32 -> 339987520 | L37: ='[3]2023'!F32 -> 415948890 | M37: ='[3]2023'!G32 -> Lưỡng tính | N37: ='[3]2023'!H32 -> 0.5 | O37: ='[3]2023'!I32 -> 207974445 | P37: ='[3]2024'!F33 -> 431561712 | Q37: ='[3]2024'!G33 -> Lưỡng tính | R37: ='[3]2024'!H33 -> 0.5 | S37: ='[3]2024'!I33 -> 215780856 | T37: ='[3]2025'!F33 -> 904699677 | U37: ='[3]2025'!G33 -> Lưỡng tính | V37: ='[3]2025'!H33 -> 0.5 | W37: ='[3]2025'!I33 -> 4.5234984e+08
B38: 6504 | C38: ='[3]2021'!E36 -> Tiền vệ sinh, môi trường | D38: ='[3]2021'!F36 -> 3600000 | E38: ='[3]2021'!G36 -> Lưỡng tính | F38: ='[3]2021'!H36 -> 0.5 | G38: ='[3]2021'!I36 -> 1800000 | H38: ='[3]2022'!F33 -> 3600000 | I38: ='[3]2022'!G33 -> Lưỡng tính | J38: ='[3]2022'!H33 -> 0.5 | K38: ='[3]2022'!I33 -> 1800000 | L38: ='[3]2023'!F33 -> 3600000 | M38: ='[3]2023'!G33 -> Lưỡng tính | N38: ='[3]2023'!H33 -> 0.5 | O38: ='[3]2023'!I33 -> 1800000 | P38: ='[3]2024'!F34 -> 8210760 | Q38: ='[3]2024'!G34 -> Lưỡng tính | R38: ='[3]2024'!H34 -> 0.5 | S38: ='[3]2024'!I34 -> 4105380 | T38: ='[3]2025'!F34 -> 8443080 | U38: ='[3]2025'!G34 -> Lưỡng tính | V38: ='[3]2025'!H34 -> 0.5 | W38: ='[3]2025'!I34 -> 4221540
B39: 6549 | C39: ='[3]2025'!E35 -> Chi khác | T39: ='[3]2025'!F35 -> 184985651 | U39: ='[3]2025'!G35 -> Lưỡng tính | V39: ='[3]2025'!H35 -> 0.5 | W39: ='[3]2025'!I35 -> 92492826
A40: 6550 | C40: Vật tư văn phòng | D40: ='[3]2021'!F37 -> 3099899818 | G40: ='[3]2021'!I37 -> 1887208252 | H40: ='[3]2022'!F34 -> 2606818725 | K40: ='[3]2022'!I34 -> 1.5744672e+09 | L40: ='[3]2023'!F34 -> 2390951461 | O40: ='[3]2023'!I34 -> 1.4480808e+09 | P40: ='[3]2024'!F35 -> 2719054432 | S40: ='[3]2024'!I35 -> 1672380341 | T40: ='[3]2025'!F36 -> 3303958972 | W40: ='[3]2025'!I36 -> 2072962649
B41: 6551 | C41: ='[3]2021'!E38 -> Văn phòng phẩm | D41: ='[3]2021'!F38 -> 1459891272 | E41: ='[3]2021'!G38 -> Lưỡng tính | F41: ='[3]2021'!H38 -> 0.5 | G41: ='[3]2021'!I38 -> 729945636 | H41: ='[3]2022'!F35 -> 1468925405 | I41: ='[3]2022'!G35 -> Lưỡng tính | J41: ='[3]2022'!H35 -> 0.5 | K41: ='[3]2022'!I35 -> 7.344627e+08 | L41: ='[3]2023'!F35 -> 1473606866 | M41: ='[3]2023'!G35 -> Lưỡng tính | N41: ='[3]2023'!H35 -> 0.5 | O41: ='[3]2023'!I35 -> 736803433 | P41: ='[3]2024'!F36 -> 1587559076 | Q41: ='[3]2024'!G36 -> Lưỡng tính | R41: ='[3]2024'!H36 -> 0.5 | S41: ='[3]2024'!I36 -> 793779538 | T41: ='[3]2025'!F37 -> 1576009552 | U41: ='[3]2025'!G37 -> Lưỡng tính | V41: ='[3]2025'!H37 -> 0.5 | W41: ='[3]2025'!I37 -> 788004776
B42: 6552 | C42: ='[3]2021'!E39 -> Mua sắm công cụ, dụng cụ văn phòng | D42: ='[3]2021'!F39 -> 965491860 | E42: ='[3]2021'!G39 -> Lưỡng tính | F42: ='[3]2021'!H39 -> 0.5 | G42: ='[3]2021'!I39 -> 482745930 | H42: ='[3]2022'!F36 -> 595777730 | I42: ='[3]2022'!G36 -> Lưỡng tính | J42: ='[3]2022'!H36 -> 0.5 | K42: ='[3]2022'!I36 -> 297888865 | L42: ='[3]2023'!F36 -> 412134369 | M42: ='[3]2023'!G36 -> Chắc chắn QL | N42: ='[3]2023'!H36 -> 0.5 | O42: ='[3]2023'!I36 -> 2.0606718e+08 | P42: ='[3]2024'!F37 -> 505789106 | Q42: ='[3]2024'!G37 -> Lưỡng tính | R42: ='[3]2024'!H37 -> 0.5 | S42: ='[3]2024'!I37 -> 252894553 | T42: ='[3]2025'!F38 -> 885983094 | U42: ='[3]2025'!G38 -> Lưỡng tính | V42: ='[3]2025'!H38 -> 0.5 | W42: ='[3]2025'!I38 -> 442991547
B43: 6599 | C43: ='[3]2021'!E40 -> Vật tư văn phòng khác | D43: ='[3]2021'!F40 -> 674516686 | E43: ='[3]2021'!G40 -> Chắc chắn QL | F43: ='[3]2021'!H40 -> 1 | G43: ='[3]2021'!I40 -> 674516686 | H43: ='[3]2022'!F37 -> 542115590 | I43: ='[3]2022'!G37 -> Chắc chắn QL | J43: ='[3]2022'!H37 -> 1 | K43: ='[3]2022'!I37 -> 542115590 | L43: ='[3]2023'!F37 -> 505210226 | M43: ='[3]2023'!G37 -> Chắc chắn QL | N43: ='[3]2023'!H37 -> 1 | O43: ='[3]2023'!I37 -> 505210226 | P43: ='[3]2024'!F39 -> 624172650 | Q43: ='[3]2024'!G39 -> Chắc chắn QL | R43: ='[3]2024'!H39 -> 1 | S43: ='[3]2024'!I39 -> 624172650 | T43: ='[3]2025'!F39 -> 841966326 | U43: ='[3]2025'!G39 -> Chắc chắn QL | V43: ='[3]2025'!H39 -> 1 | W43: ='[3]2025'!I39 -> 841966326
B44: 6553 | C44: ='[3]2024'!E38 -> Khoán văn phòng phẩm | P44: ='[3]2024'!F38 -> 1533600 | Q44: ='[3]2024'!G38 -> Chắc chắn QL | R44: ='[3]2024'!H38 -> 1 | S44: ='[3]2024'!I38 -> 1533600
A45: 6600 | C45: Thông tin, tuyên truyền, liên lạc | D45: ='[3]2021'!F41 -> 611506097 | G45: ='[3]2021'!I41 -> 611506097 | H45: ='[3]2022'!F38 -> 402348586 | K45: ='[3]2022'!I38 -> 402348586 | L45: ='[3]2023'!F38 -> 355334882 | O45: ='[3]2023'!I38 -> 355334882 | P45: ='[3]2024'!F40 -> 364122885 | S45: ='[3]2024'!I40 -> 364122885 | T45: ='[3]2025'!F40 -> 484140614 | W45: ='[3]2025'!I40 -> 484140614
B46: 6601 | C46: ='[3]2021'!E42 -> Cước phí điện thoại, thuê bao đường điện thoại, fax | D46: ='[3]2021'!F42 -> 256456535 | E46: ='[3]2021'!G42 -> Chắc chắn QL | F46: ='[3]2021'!H42 -> 1 | G46: ='[3]2021'!I42 -> 256456535 | H46: ='[3]2022'!F39 -> 72325599 | I46: ='[3]2022'!G39 -> Chắc chắn QL | J46: ='[3]2022'!H39 -> 1 | K46: ='[3]2022'!I39 -> 72325599 | L46: ='[3]2023'!F39 -> 98368435 | M46: ='[3]2023'!G39 -> Chắc chắn QL | N46: ='[3]2023'!H39 -> 1 | O46: ='[3]2023'!I39 -> 98368435 | P46: ='[3]2024'!F41 -> 158777773 | Q46: ='[3]2024'!G41 -> Chắc chắn QL | R46: ='[3]2024'!H41 -> 1 | S46: ='[3]2024'!I41 -> 158777773 | T46: ='[3]2025'!F41 -> 282529430 | U46: ='[3]2025'!G41 -> Chắc chắn QL | V46: ='[3]2025'!H41 -> 1 | W46: ='[3]2025'!I41 -> 282529430
B47: 6603 | C47: ='[3]2021'!E43 -> Cước phí bưu chính | D47: ='[3]2021'!F43 -> 15933000 | E47: ='[3]2021'!G43 -> Chắc chắn QL | F47: ='[3]2021'!H43 -> 1 | G47: ='[3]2021'!I43 -> 15933000 | H47: ='[3]2022'!F40 -> 12163000 | I47: ='[3]2022'!G40 -> Chắc chắn QL | J47: ='[3]2022'!H40 -> 1 | K47: ='[3]2022'!I40 -> 12163000 | P47: ='[3]2024'!F42 -> 6461683 | Q47: ='[3]2024'!G42 -> Chắc chắn QL | R47: ='[3]2024'!H42 -> 1 | S47: ='[3]2024'!I42 -> 6461683 | T47: ='[3]2025'!F42 -> 11317967 | U47: ='[3]2025'!G42 -> Chắc chắn QL | V47: ='[3]2025'!H42 -> 1 | W47: ='[3]2025'!I42 -> 11317967
B48: 6605 | C48: ='[3]2021'!E44 -> Thuê bao kênh vệ tinh, cáp TH, Internet, đường truyền mạng | D48: ='[3]2021'!F44 -> 254193962 | E48: ='[3]2021'!G44 -> Chắc chắn QL | F48: ='[3]2021'!H44 -> 1 | G48: ='[3]2021'!I44 -> 254193962 | H48: ='[3]2022'!F41 -> 228819987 | I48: ='[3]2022'!G41 -> Chắc chắn QL | J48: ='[3]2022'!H41 -> 1 | K48: ='[3]2022'!I41 -> 228819987 | L48: ='[3]2023'!F40 -> 207071637 | M48: ='[3]2023'!G40 -> Chắc chắn QL | N48: ='[3]2023'!H40 -> 1 | O48: ='[3]2023'!I40 -> 207071637 | P48: ='[3]2024'!F43 -> 122886829 | Q48: ='[3]2024'!G43 -> Chắc chắn QL | R48: ='[3]2024'!H43 -> 1 | S48: ='[3]2024'!I43 -> 122886829 | T48: ='[3]2025'!F43 -> 94495492 | U48: ='[3]2025'!G43 -> Chắc chắn QL | V48: ='[3]2025'!H43 -> 1 | W48: ='[3]2025'!I43 -> 94495492
B49: 6606 | C49: ='[3]2021'!E45 -> Tuyên truyền, quảng cáo | D49: ='[3]2021'!F45 -> 62365800 | E49: ='[3]2021'!G45 -> Chắc chắn QL | F49: ='[3]2021'!H45 -> 1 | G49: ='[3]2021'!I45 -> 62365800 | H49: ='[3]2022'!F42 -> 56795000 | I49: ='[3]2022'!G42 -> Chắc chắn QL | J49: ='[3]2022'!H42 -> 1 | K49: ='[3]2022'!I42 -> 56795000 | L49: ='[3]2023'!F41 -> 11940000 | M49: ='[3]2023'!G41 -> Chắc chắn QL | N49: ='[3]2023'!H41 -> 1 | O49: ='[3]2023'!I41 -> 11940000 | P49: ='[3]2024'!F44 -> 55785000 | Q49: ='[3]2024'!G44 -> Chắc chắn QL | R49: ='[3]2024'!H44 -> 1 | S49: ='[3]2024'!I44 -> 55785000 | T49: ='[3]2025'!F44 -> 72476285 | U49: ='[3]2025'!G44 -> Chắc chắn QL | V49: ='[3]2025'!H44 -> 1 | W49: ='[3]2025'!I44 -> 72476285
B50: 6608 | C50: ='[3]2021'!E46 -> Phim ảnh, ấn phẩm truyền thông, sách, báo, tạp chí thư viện | D50: ='[3]2021'!F46 -> 22556800 | E50: ='[3]2021'!G46 -> Chắc chắn QL | F50: ='[3]2021'!H46 -> 1 | G50: ='[3]2021'!I46 -> 22556800 | H50: ='[3]2022'!F43 -> 32245000 | I50: ='[3]2022'!G43 -> Chắc chắn QL | J50: ='[3]2022'!H43 -> 1 | K50: ='[3]2022'!I43 -> 32245000 | L50: ='[3]2023'!F42 -> 37954810 | M50: ='[3]2023'!G42 -> Chắc chắn QL | N50: ='[3]2023'!H42 -> 1 | O50: ='[3]2023'!I42 -> 37954810 | P50: ='[3]2024'!F45 -> 20211600 | Q50: ='[3]2024'!G45 -> Chắc chắn QL | R50: ='[3]2024'!H45 -> 1 | S50: ='[3]2024'!I45 -> 20211600 | T50: ='[3]2025'!F45 -> 19600800 | U50: ='[3]2025'!G45 -> Chắc chắn QL | V50: ='[3]2025'!H45 -> 1 | W50: ='[3]2025'!I45 -> 19600800
B51: 6649 | C51: ='[3]2025'!E46 -> Khác | T51: ='[3]2025'!F46 -> 3720640 | U51: ='[3]2025'!G46 -> Chắc chắn QL | V51: ='[3]2025'!H46 -> 1 | W51: ='[3]2025'!I46 -> 3720640
A52: 6650 | C52: Hội nghị | D52: ='[3]2021'!F47 -> 30602000 | G52: ='[3]2021'!I47 -> 30602000 | H52: ='[3]2022'!F44 -> 3000000 | K52: ='[3]2022'!I44 -> 3000000 | L52: ='[3]2023'!F43 -> 18450000 | O52: ='[3]2023'!I43 -> 18450000 | P52: ='[3]2024'!F46 -> 11551000 | S52: ='[3]2024'!I46 -> 11551000 | T52: ='[3]2025'!F47 -> 109344345 | W52: ='[3]2025'!I47 -> 109344345
B53: 6657 | C53: ='[3]2021'!E48 -> Các khoản thuê mướn khác (hội nghị) | D53: ='[3]2021'!F48 -> 30602000 | E53: ='[3]2021'!G48 -> Chắc chắn QL | F53: ='[3]2021'!H48 -> 1 | G53: ='[3]2021'!I48 -> 30602000 | L53: ='[3]2023'!F44 -> 13250000 | M53: ='[3]2023'!G44 -> Chắc chắn QL | N53: ='[3]2023'!H44 -> 1 | O53: ='[3]2023'!I44 -> 13250000 | T53: ='[3]2025'!F49 -> 4400000 | U53: ='[3]2025'!G49 -> Chắc chắn QL | V53: ='[3]2025'!H49 -> 1 | W53: ='[3]2025'!I49 -> 4400000
B54: 6699 | C54: ='[3]2022'!E45 -> Chi phí khác (hội nghị) | H54: ='[3]2022'!F45 -> 3000000 | I54: ='[3]2022'!G45 -> Chắc chắn QL | J54: ='[3]2022'!H45 -> 1 | K54: ='[3]2022'!I45 -> 3000000 | L54: ='[3]2023'!F45 -> 5200000 | M54: ='[3]2023'!G45 -> Chắc chắn QL | N54: ='[3]2023'!H45 -> 1 | O54: ='[3]2023'!I45 -> 5200000 | P54: ='[3]2024'!F50 -> 1600000 | Q54: ='[3]2024'!G50 -> Chắc chắn QL | R54: ='[3]2024'!H50 -> 1 | S54: ='[3]2024'!I50 -> 1600000 | T54: ='[3]2025'!F50 -> 57249274 | U54: ='[3]2025'!G50 -> Chắc chắn QL | V54: ='[3]2025'!H50 -> 1 | W54: ='[3]2025'!I50 -> 57249274
B55: 6651 | C55: ='[3]2024'!E47 -> In, mua tài liệu | P55: ='[3]2024'!F47 -> 3060000 | Q55: ='[3]2024'!G47 -> Chắc chắn QL | R55: ='[3]2024'!H47 -> 1 | S55: ='[3]2024'!I47 -> 3060000 | T55: ='[3]2025'!F48 -> 47695071 | U55: ='[3]2025'!G48 -> Chắc chắn QL | V55: ='[3]2025'!H48 -> 1 | W55: ='[3]2025'!I48 -> 47695071
B56: 6652 | C56: ='[3]2024'!E48 -> Bồi dưỡng giảng viên, báo cáo viên | P56: ='[3]2024'!F48 -> 6000000 | Q56: ='[3]2024'!G48 -> Chắc chắn QL | R56: ='[3]2024'!H48 -> 1 | S56: ='[3]2024'!I48 -> 6000000
B57: 6654 | C57: ='[3]2024'!E49 -> Tiền thuê phòng ngủ | P57: ='[3]2024'!F49 -> 891000 | Q57: ='[3]2024'!G49 -> Chắc chắn QL | R57: ='[3]2024'!H49 -> 1 | S57: ='[3]2024'!I49 -> 891000
A58: 6700 | C58: Công tác phí | D58: ='[3]2021'!F49 -> 161570000 | G58: ='[3]2021'!I49 -> 161570000 | H58: ='[3]2022'!F46 -> 222980000 | K58: ='[3]2022'!I46 -> 222980000 | L58: ='[3]2023'!F46 -> 338470720 | O58: ='[3]2023'!I46 -> 338470720 | P58: ='[3]2024'!F51 -> 301068000 | S58: ='[3]2024'!I51 -> 301068000 | T58: ='[3]2025'!F51 -> 521981598 | W58: ='[3]2025'!I51 -> 521981598
B59: 6701 | C59: ='[3]2021'!E50 -> Tiền vé máy bay, tàu, xe | D59: ='[3]2021'!F50 -> 15560000 | E59: ='[3]2021'!G50 -> Chắc chắn QL | F59: ='[3]2021'!H50 -> 1 | G59: ='[3]2021'!I50 -> 15560000 | H59: ='[3]2022'!F47 -> 16760000 | I59: ='[3]2022'!G47 -> Chắc chắn QL | J59: ='[3]2022'!H47 -> 1 | K59: ='[3]2022'!I47 -> 16760000 | L59: ='[3]2023'!F47 -> 38765000 | M59: ='[3]2023'!G47 -> Chắc chắn QL | N59: ='[3]2023'!H47 -> 1 | O59: ='[3]2023'!I47 -> 38765000 | P59: ='[3]2024'!F52 -> 69228000 | Q59: ='[3]2024'!G52 -> Chắc chắn QL | R59: ='[3]2024'!H52 -> 1 | S59: ='[3]2024'!I52 -> 69228000 | T59: ='[3]2025'!F52 -> 116430398 | U59: ='[3]2025'!G52 -> Chắc chắn QL | V59: ='[3]2025'!H52 -> 1 | W59: ='[3]2025'!I52 -> 116430398
B60: 6702 | C60: ='[3]2021'!E51 -> Phụ cấp công tác phí | D60: ='[3]2021'!F51 -> 3420000 | E60: ='[3]2021'!G51 -> Chắc chắn QL | F60: ='[3]2021'!H51 -> 1 | G60: ='[3]2021'!I51 -> 3420000 | H60: ='[3]2022'!F48 -> 1800000 | I60: ='[3]2022'!G48 -> Chắc chắn QL | J60: ='[3]2022'!H48 -> 1 | K60: ='[3]2022'!I48 -> 1800000 | L60: ='[3]2023'!F48 -> 8100000 | M60: ='[3]2023'!G48 -> Chắc chắn QL | N60: ='[3]2023'!H48 -> 1 | O60: ='[3]2023'!I48 -> 8100000 | P60: ='[3]2024'!F53 -> 10240000 | Q60: ='[3]2024'!G53 -> Chắc chắn QL | R60: ='[3]2024'!H53 -> 1 | S60: ='[3]2024'!I53 -> 10240000 | T60: ='[3]2025'!F53 -> 94200000 | U60: ='[3]2025'!G53 -> Chắc chắn QL | V60: ='[3]2025'!H53 -> 1 | W60: ='[3]2025'!I53 -> 94200000
B61: 6703 | C61: ='[3]2021'!E52 -> Tiền thuê phòng ngủ | D61: ='[3]2021'!F52 -> 84540000 | E61: ='[3]2021'!G52 -> Chắc chắn QL | F61: ='[3]2021'!H52 -> 1 | G61: ='[3]2021'!I52 -> 84540000 | H61: ='[3]2022'!F49 -> 146520000 | I61: ='[3]2022'!G49 -> Chắc chắn QL | J61: ='[3]2022'!H49 -> 1 | K61: ='[3]2022'!I49 -> 146520000 | L61: ='[3]2023'!F49 -> 201021720 | M61: ='[3]2023'!G49 -> Chắc chắn QL | N61: ='[3]2023'!H49 -> 1 | O61: ='[3]2023'!I49 -> 201021720 | P61: ='[3]2024'!F54 -> 137000000 | Q61: ='[3]2024'!G54 -> Chắc chắn QL | R61: ='[3]2024'!H54 -> 1 | S61: ='[3]2024'!I54 -> 137000000 | T61: ='[3]2025'!F54 -> 291900000 | U61: ='[3]2025'!G54 -> Chắc chắn QL | V61: ='[3]2025'!H54 -> 1 | W61: ='[3]2025'!I54 -> 291900000
B62: 6704 | C62: ='[3]2021'!E53 -> Khoán công tác phí | D62: ='[3]2021'!F53 -> 58050000 | E62: ='[3]2021'!G53 -> Chắc chắn QL | F62: ='[3]2021'!H53 -> 1 | G62: ='[3]2021'!I53 -> 58050000 | H62: ='[3]2022'!F50 -> 57900000 | I62: ='[3]2022'!G50 -> Chắc chắn QL | J62: ='[3]2022'!H50 -> 1 | K62: ='[3]2022'!I50 -> 57900000 | L62: ='[3]2023'!F50 -> 47772000 | M62: ='[3]2023'!G50 -> Chắc chắn QL | N62: ='[3]2023'!H50 -> 1 | O62: ='[3]2023'!I50 -> 47772000 | P62: ='[3]2024'!F55 -> 84600000 | Q62: ='[3]2024'!G55 -> Chắc chắn QL | R62: ='[3]2024'!H55 -> 1 | S62: ='[3]2024'!I55 -> 84600000 | T62: ='[3]2025'!F55 -> 19451200 | U62: ='[3]2025'!G55 -> Chắc chắn QL | V62: ='[3]2025'!H55 -> 1 | W62: ='[3]2025'!I55 -> 19451200
B63: 6749 | C63: ='[3]2023'!E51 -> Chi khác (công tác phí) | L63: ='[3]2023'!F51 -> 42812000 | M63: ='[3]2023'!G51 -> Chắc chắn QL | N63: ='[3]2023'!H51 -> 1 | O63: ='[3]2023'!I51 -> 42812000
A64: 6750 | C64: Chi phí thuê mướn | D64: ='[3]2021'!F54 -> 21538132549 | G64: ='[3]2021'!I54 -> 5.2634607e+09 | H64: ='[3]2022'!F51 -> 10942667651 | K64: ='[3]2022'!I51 -> 5.8920712e+09 | L64: ='[3]2023'!F52 -> 21272353653 | O64: ='[3]2023'!I52 -> 5.6760979e+09 | P64: ='[3]2024'!F56 -> 19097053645 | S64: ='[3]2024'!I56 -> 5.5547039e+09 | T64: ='[3]2025'!F56 -> 16466916353 | W64: ='[3]2025'!I56 -> 7.0835537e+09
B65: 6751 | C65: ='[3]2021'!E55 -> Thuê phương tiện vận chuyển | D65: ='[3]2021'!F55 -> 496080000 | E65: ='[3]2021'!G55 -> Chắc chắn QL | F65: ='[3]2021'!H55 -> 1 | G65: ='[3]2021'!I55 -> 496080000 | H65: ='[3]2022'!F52 -> 350979500 | I65: ='[3]2022'!G52 -> Chắc chắn QL | J65: ='[3]2022'!H52 -> 1 | K65: ='[3]2022'!I52 -> 350979500 | L65: ='[3]2023'!F53 -> 1010088800 | M65: ='[3]2023'!G53 -> Chắc chắn QL | N65: ='[3]2023'!H53 -> 1 | O65: ='[3]2023'!I53 -> 1010088800 | P65: ='[3]2024'!F57 -> 651485000 | Q65: ='[3]2024'!G57 -> Chắc chắn QL | R65: ='[3]2024'!H57 -> 1 | S65: ='[3]2024'!I57 -> 651485000 | T65: ='[3]2025'!F57 -> 432452000 | U65: ='[3]2025'!G57 -> Chắc chắn QL | V65: ='[3]2025'!H57 -> 1 | W65: ='[3]2025'!I57 -> 432452000
B66: 6758 | C66: ='[3]2021'!E56 -> Thuê đào tạo lại cán bộ | D66: ='[3]2021'!F56 -> 344130000 | E66: ='[3]2021'!G56 -> Chắc chắn QL | F66: ='[3]2021'!H56 -> 1 | G66: ='[3]2021'!I56 -> 344130000 | H66: ='[3]2022'!F53 -> 2959823100 | I66: ='[3]2022'!G53 -> Chắc chắn QL | J66: ='[3]2022'!H53 -> 1 | K66: ='[3]2022'!I53 -> 2959823100 | L66: ='[3]2023'!F54 -> 110449562 | M66: ='[3]2023'!G54 -> Chắc chắn QL | N66: ='[3]2023'!H54 -> 1 | O66: ='[3]2023'!I54 -> 110449562 | P66: ='[3]2024'!F58 -> 111500000 | Q66: ='[3]2024'!G58 -> Chắc chắn QL | R66: ='[3]2024'!H58 -> 1 | S66: ='[3]2024'!I58 -> 111500000 | T66: ='[3]2025'!F59 -> 89000000 | U66: ='[3]2025'!G59 -> Chắc chắn QL | V66: ='[3]2025'!H59 -> 1 | W66: ='[3]2025'!I59 -> 89000000
B67: 6799 | C67: ='[3]2021'!E57 -> Chi phí thuê mướn khác | D67: ='[3]2021'!F57 -> 20697922549 | E67: ='[3]2021'!G57 -> Lưỡng tính | F67: ='[3]2021'!H57 -> 20697907200 | G67: ='[3]2021'!I57 -> 4.4232507e+09 | H67: ='[3]2022'!F54 -> 7631865051 | I67: ='[3]2022'!G54 -> Lưỡng tính | J67: ='[3]2022'!H54 -> 7631863808 | K67: ='[3]2022'!I54 -> 2.5812686e+09 | L67: ='[3]2023'!F55 -> 20151815291 | M67: ='[3]2023'!G55 -> Lưỡng tính | N67: ='[3]2023'!H55 -> 20151812096 | O67: ='[3]2023'!I55 -> 4.5555595e+09 | P67: ='[3]2024'!F59 -> 18334068645 | Q67: ='[3]2024'!G59 -> Lưỡng tính | R67: ='[3]2024'!H59 -> 18334056448 | S67: ='[3]2024'!I59 -> 4.7917189e+09 | T67: ='[3]2025'!F60 -> 15863383353 | U67: ='[3]2025'!G60 -> Lưỡng tính | V67: ='[3]2025'!H60 -> 15863382016 | W67: ='[3]2025'!I60 -> 6.4800207e+09
B68: 6754 | C68: ='[3]2025'!E58 -> Thuê thiết bị các loại | T68: ='[3]2025'!F58 -> 82081000 | U68: ='[3]2025'!G58 -> Chắc chắn QL | V68: ='[3]2025'!H58 -> 1 | W68: ='[3]2025'!I58 -> 82081000
A69: 6900 | C69: Sửa chữa, duy tu tài sản phục vụ công tác chuyên môn và các công trình cơ sở hạ tầng | D69: ='[3]2021'!F60 -> 7437178686 | G69: ='[3]2021'!I60 -> 1939291874 | H69: ='[3]2022'!F57 -> 4004578487 | K69: ='[3]2022'!I57 -> 1255422511 | L69: ='[3]2023'!F58 -> 5849472957 | O69: ='[3]2023'!I58 -> 1662805484 | P69: ='[3]2024'!F62 -> 2666284684 | S69: ='[3]2024'!I62 -> 1101307013 | T69: ='[3]2025'!F63 -> 9360915530 | W69: ='[3]2025'!I63 -> 2.1322811e+09
B70: 6901 | C70: ='[3]2021'!E61 -> Ô tô dùng chung | D70: ='[3]2021'!F61 -> 1393150 | E70: ='[3]2021'!G61 -> Chắc chắn QL | F70: ='[3]2021'!H61 -> 1 | G70: ='[3]2021'!I61 -> 1393150 | T70: ='[3]2025'!F64 -> 5096360 | U70: ='[3]2025'!G64 -> Chắc chắn QL | V70: ='[3]2025'!H64 -> 1 | W70: ='[3]2025'!I64 -> 5096360
B71: 6903 | C71: ='[3]2021'!E62 -> Ô tô chuyên dùng | D71: ='[3]2021'!F62 -> 185862396 | E71: ='[3]2021'!G62 -> Chắc chắn TT (loại) | F71: ='[3]2021'!H62 -> 0 | G71: ='[3]2021'!I62 -> 0 | H71: ='[3]2022'!F58 -> 144652706 | I71: ='[3]2022'!G58 -> Chắc chắn TT (loại) | J71: ='[3]2022'!H58 -> 0 | K71: ='[3]2022'!I58 -> 0 | L71: ='[3]2023'!F59 -> 129785998 | M71: ='[3]2023'!G59 -> Chắc chắn TT (loại) | N71: ='[3]2023'!H59 -> 0 | O71: ='[3]2023'!I59 -> 0 | P71: ='[3]2024'!F63 -> 60069796 | Q71: ='[3]2024'!G63 -> Chắc chắn TT (loại) | R71: ='[3]2024'!H63 -> 0 | S71: ='[3]2024'!I63 -> 0 | T71: ='[3]2025'!F65 -> 144101821 | U71: ='[3]2025'!G65 -> Chắc chắn TT (loại) | V71: ='[3]2025'!H65 -> 0 | W71: ='[3]2025'!I65 -> 0
B72: 6905 | C72: ='[3]2021'!E63 -> Tài sản và thiết bị chuyên dùng | D72: ='[3]2021'!F63 -> 2982404970 | E72: ='[3]2021'!G63 -> Chắc chắn TT (loại) | F72: ='[3]2021'!H63 -> 0 | G72: ='[3]2021'!I63 -> 0 | H72: ='[3]2022'!F59 -> 943851370 | I72: ='[3]2022'!G59 -> Chắc chắn TT (loại) | J72: ='[3]2022'!H59 -> 0 | K72: ='[3]2022'!I59 -> 0 | L72: ='[3]2023'!F60 -> 1816089630 | M72: ='[3]2023'!G60 -> Lưỡng tính | N72: ='[3]2023'!H60 -> 0 | O72: ='[3]2023'!I60 -> 0 | P72: ='[3]2024'!F64 -> 844196350 | Q72: ='[3]2024'!G64 -> Lưỡng tính | R72: ='[3]2024'!H64 -> 0 | S72: ='[3]2024'!I64 -> 0 | T72: ='[3]2025'!F66 -> 1009292847 | U72: ='[3]2025'!G66 -> Chắc chắn TT (loại) | V72: ='[3]2025'!H66 -> 0 | W72: ='[3]2025'!I66 -> 0
B73: 6912 | C73: ='[3]2021'!E64 -> Các thiết bị công nghệ thông tin | D73: ='[3]2021'!F64 -> 1581575552 | E73: ='[3]2021'!G64 -> Lưỡng tính | F73: ='[3]2021'!H64 -> 0.5 | G73: ='[3]2021'!I64 -> 790787776 | H73: ='[3]2022'!F60 -> 1050594000 | I73: ='[3]2022'!G60 -> Lưỡng tính | J73: ='[3]2022'!H60 -> 0.5 | K73: ='[3]2022'!I60 -> 525297000 | L73: ='[3]2023'!F61 -> 1188714750 | M73: ='[3]2023'!G61 -> Chắc chắn QL | N73: ='[3]2023'!H61 -> 0.5 | O73: ='[3]2023'!I61 -> 594357375 | P73: ='[3]2024'!F65 -> 449191600 | Q73: ='[3]2024'!G65 -> Chắc chắn QL | R73: ='[3]2024'!H65 -> 0.5 | S73: ='[3]2024'!I65 -> 224595800 | T73: ='[3]2025'!F67 -> -24000000 | U73: ='[3]2025'!G67 -> Chắc chắn QL | V73: ='[3]2025'!H67 -> 0.5 | W73: ='[3]2025'!I67 -> -12000000
B74: 6913 | C74: ='[3]2021'!E65 -> Tài sản và thiết bị văn phòng | D74: ='[3]2021'!F65 -> 655196200 | E74: ='[3]2021'!G65 -> Chắc chắn QL | F74: ='[3]2021'!H65 -> 1 | G74: ='[3]2021'!I65 -> 655196200 | H74: ='[3]2022'!F61 -> 440269675 | I74: ='[3]2022'!G61 -> Chắc chắn QL | J74: ='[3]2022'!H61 -> 1 | K74: ='[3]2022'!I61 -> 440269675 | L74: ='[3]2023'!F62 -> 390153934 | M74: ='[3]2023'!G62 -> Chắc chắn QL | N74: ='[3]2023'!H62 -> 1 | O74: ='[3]2023'!I62 -> 390153934 | P74: ='[3]2024'!F66 -> 207919448 | Q74: ='[3]2024'!G66 -> Chắc chắn QL | R74: ='[3]2024'!H66 -> 1 | S74: ='[3]2024'!I66 -> 207919448 | T74: ='[3]2025'!F68 -> 50029000 | U74: ='[3]2025'!G68 -> Chắc chắn QL | V74: ='[3]2025'!H68 -> 1 | W74: ='[3]2025'!I68 -> 50029000
B75: 6921 | C75: ='[3]2021'!E66 -> Đường điện, cấp thoát nước | D75: ='[3]2021'!F66 -> 160746678 | E75: ='[3]2021'!G66 -> Chắc chắn QL | F75: ='[3]2021'!H66 -> 1 | G75: ='[3]2021'!I66 -> 160746678 | H75: ='[3]2022'!F62 -> 196198936 | I75: ='[3]2022'!G62 -> Chắc chắn QL | J75: ='[3]2022'!H62 -> 1 | K75: ='[3]2022'!I62 -> 196198936 | L75: ='[3]2023'!F63 -> 158470000 | M75: ='[3]2023'!G63 -> Chắc chắn QL | N75: ='[3]2023'!H63 -> 1 | O75: ='[3]2023'!I63 -> 158470000 | P75: ='[3]2024'!F67 -> 214474000 | Q75: ='[3]2024'!G67 -> Chắc chắn QL | R75: ='[3]2024'!H67 -> 1 | S75: ='[3]2024'!I67 -> 214474000 | T75: ='[3]2025'!F69 -> 505600610 | U75: ='[3]2025'!G69 -> Chắc chắn QL | V75: ='[3]2025'!H69 -> 1 | W75: ='[3]2025'!I69 -> 505600610
B76: 6949 | C76: ='[3]2021'!E67 -> Các tài sản và công trình hạ tầng cơ sở khác | D76: ='[3]2021'!F67 -> 1869999740 | E76: ='[3]2021'!G67 -> Lưỡng tính | F76: ='[3]2021'!H67 -> 0 | G76: ='[3]2021'!I67 -> 331168070 | H76: ='[3]2022'!F63 -> 1229011800 | I76: ='[3]2022'!G63 -> Lưỡng tính | J76: ='[3]2022'!H63 -> 0 | K76: ='[3]2022'!I63 -> 93656900 | L76: ='[3]2023'!F64 -> 2166258645 | M76: ='[3]2023'!G64 -> Lưỡng tính | N76: ='[3]2023'!H64 -> 2166257664 | O76: ='[3]2023'!I64 -> 519824175 | P76: ='[3]2024'!F68 -> 890433490 | Q76: ='[3]2024'!G68 -> Lưỡng tính | R76: ='[3]2024'!H68 -> 890433024 | S76: ='[3]2024'!I68 -> 454317765 | T76: ='[3]2025'!F70 -> 7670794892 | U76: ='[3]2025'!G70 -> Lưỡng tính | V76: ='[3]2025'!H70 -> 0 | W76: ='[3]2025'!I70 -> 1.5835551e+09
A77: 6950 | C77: Mua sắm tài sản phục vụ công tác chuyên môn | H77: ='[3]2022'!F64 -> 108395999 | K77: ='[3]2022'!I64 -> 0 | L77: ='[3]2023'!F65 -> 93497100 | O77: ='[3]2023'!I65 -> 0 | T77: ='[3]2025'!F71 -> 174964500 | W77: ='[3]2025'!I71 -> 0
B78: 6953 | C78: ='[3]2022'!E65 -> Ô tô chuyên dùng (mua sắm) | H78: ='[3]2022'!F65 -> 11627999 | I78: ='[3]2022'!G65 -> Ngoài phạm vi (cấu phần khấu hao) | J78: ='[3]2022'!H65 -> 0 | K78: ='[3]2022'!I65 -> 0 | L78: ='[3]2023'!F66 -> 1206700 | M78: ='[3]2023'!G66 -> Ngoài phạm vi (cấu phần khấu hao) | N78: ='[3]2023'!H66 -> 0 | O78: ='[3]2023'!I66 -> 0
B79: 6999 | C79: ='[3]2022'!E66 -> Tài sản và thiết bị khác (mua sắm) | H79: ='[3]2022'!F66 -> 96768000 | I79: ='[3]2022'!G66 -> Ngoài phạm vi (cấu phần khấu hao) | J79: ='[3]2022'!H66 -> 0 | K79: ='[3]2022'!I66 -> 0
B80: 6954 | C80: ='[3]2023'!E67 -> Tài sản và thiết bị chuyên dùng (mua sắm) | L80: ='[3]2023'!F67 -> 92290400 | M80: ='[3]2023'!G67 -> Ngoài phạm vi (cấu phần khấu hao) | N80: ='[3]2023'!H67 -> 0 | O80: ='[3]2023'!I67 -> 0 | T80: ='[3]2025'!F72 -> 78834000 | U80: ='[3]2025'!G72 -> Ngoài phạm vi (cấu phần khấu hao) | V80: ='[3]2025'!H72 -> 0 | W80: ='[3]2025'!I72 -> 0
B81: 6955 | C81: ='[3]2025'!E73 -> Tài sản và thiết bị văn phòng (mua sắm) | T81: ='[3]2025'!F73 -> 11209000 | U81: ='[3]2025'!G73 -> Ngoài phạm vi (cấu phần khấu hao) | V81: ='[3]2025'!H73 -> 0 | W81: ='[3]2025'!I73 -> 0
B82: 6956 | C82: ='[3]2025'!E74 -> Các thiết bị công nghệ thông tin (mua sắm) | T82: ='[3]2025'!F74 -> 84921500 | U82: ='[3]2025'!G74 -> Ngoài phạm vi (cấu phần khấu hao) | V82: ='[3]2025'!H74 -> 0 | W82: ='[3]2025'!I74 -> 0
A83: 7000 | C83: Chi phí nghiệp vụ chuyên môn của từng ngành | D83: ='[3]2021'!F68 -> 361047663381 | G83: ='[3]2021'!I68 -> 680708229 | H83: ='[3]2022'!F67 -> 304650983082 | K83: ='[3]2022'!I67 -> 270110326 | L83: ='[3]2023'!F68 -> 239693143467 | O83: ='[3]2023'!I68 -> 606441885 | P83: ='[3]2024'!F69 -> 260174649592 | S83: ='[3]2024'!I69 -> 124550484 | T83: ='[3]2025'!F75 -> 341585666282 | W83: ='[3]2025'!I75 -> 158724344
B84: 7001 | C84: ='[3]2021'!E69 -> Chi mua hàng hóa, vật tư | D84: ='[3]2021'!F69 -> 337581961035 | E84: ='[3]2021'!G69 -> Chắc chắn TT (loại) | F84: ='[3]2021'!H69 -> 0 | G84: ='[3]2021'!I69 -> 0 | H84: ='[3]2022'!F68 -> 285917631798 | I84: ='[3]2022'!G68 -> Chắc chắn TT (loại) | J84: ='[3]2022'!H68 -> 0 | K84: ='[3]2022'!I68 -> 0 | L84: ='[3]2023'!F69 -> 218817819721 | M84: ='[3]2023'!G69 -> Chắc chắn TT (loại) | N84: ='[3]2023'!H69 -> 0 | O84: ='[3]2023'!I69 -> 0 | P84: ='[3]2024'!F70 -> 232273623614 | Q84: ='[3]2024'!G70 -> Chắc chắn TT (loại) | R84: ='[3]2024'!H70 -> 0 | S84: ='[3]2024'!I70 -> 0 | T84: ='[3]2025'!F76 -> 318188309667 | U84: ='[3]2025'!G76 -> Chắc chắn TT (loại) | V84: ='[3]2025'!H76 -> 0 | W84: ='[3]2025'!I76 -> 0
B85: 7004 | C85: ='[3]2021'!E70 -> Đồng phục, trang phục, bảo hộ lao động | D85: ='[3]2021'!F70 -> 680708229 | E85: ='[3]2021'!G70 -> Chắc chắn QL | F85: ='[3]2021'!H70 -> 1 | G85: ='[3]2021'!I70 -> 680708229 | H85: ='[3]2022'!F69 -> 265110326 | I85: ='[3]2022'!G69 -> Chắc chắn QL | J85: ='[3]2022'!H69 -> 1 | K85: ='[3]2022'!I69 -> 265110326 | L85: ='[3]2023'!F70 -> 255076885 | M85: ='[3]2023'!G70 -> Chắc chắn QL | N85: ='[3]2023'!H70 -> 1 | O85: ='[3]2023'!I70 -> 255076885 | P85: ='[3]2024'!F71 -> 124550484 | Q85: ='[3]2024'!G71 -> Chắc chắn QL | R85: ='[3]2024'!H71 -> 1 | S85: ='[3]2024'!I71 -> 124550484 | T85: ='[3]2025'!F77 -> 158724344 | U85: ='[3]2025'!G77 -> Chắc chắn QL | V85: ='[3]2025'!H77 -> 1 | W85: ='[3]2025'!I77 -> 158724344
B86: 7012 | C86: ='[3]2021'!E71 -> Chi phí hoạt động nghiệp vụ chuyên ngành | D86: ='[3]2021'!F71 -> 2986069000 | E86: ='[3]2021'!G71 -> Chắc chắn TT (loại) | F86: ='[3]2021'!H71 -> 0 | G86: ='[3]2021'!I71 -> 0 | H86: ='[3]2022'!F70 -> 4864806600 | I86: ='[3]2022'!G70 -> Chắc chắn TT (loại) | J86: ='[3]2022'!H70 -> 0 | K86: ='[3]2022'!I70 -> 0 | L86: ='[3]2023'!F71 -> 4028306700 | M86: ='[3]2023'!G71 -> Chắc chắn TT (loại) | N86: ='[3]2023'!H71 -> 0 | O86: ='[3]2023'!I71 -> 0 | P86: ='[3]2024'!F72 -> 5687506500 | Q86: ='[3]2024'!G72 -> Chắc chắn TT (loại) | R86: ='[3]2024'!H72 -> 0 | S86: ='[3]2024'!I72 -> 0 | T86: ='[3]2025'!F79 -> 3677998000 | U86: ='[3]2025'!G79 -> Chắc chắn TT (loại) | V86: ='[3]2025'!H79 -> 0 | W86: ='[3]2025'!I79 -> 0
B87: 7049 | C87: ='[3]2021'!E72 -> Chi khác | D87: ='[3]2021'!F72 -> 19798925117 | E87: ='[3]2021'!G72 -> Lưỡng tính | F87: ='[3]2021'!H72 -> 0 | G87: ='[3]2021'!I72 -> 0 | H87: ='[3]2022'!F72 -> 13598434358 | I87: ='[3]2022'!G72 -> Lưỡng tính | J87: ='[3]2022'!H72 -> 0 | K87: ='[3]2022'!I72 -> 0 | L87: ='[3]2023'!F72 -> 16591940161 | M87: ='[3]2023'!G72 -> Lưỡng tính | N87: ='[3]2023'!H72 -> 16591937536 | O87: ='[3]2023'!I72 -> 351365000 | P87: ='[3]2024'!F73 -> 22088968994 | Q87: ='[3]2024'!G73 -> Chắc chắn TT (loại) | R87: ='[3]2024'!H73 -> 0 | S87: ='[3]2024'!I73 -> 0 | T87: ='[3]2025'!F80 -> 19547800000 | U87: ='[3]2025'!G80 -> Chắc chắn TT (loại) | V87: ='[3]2025'!H80 -> 0 | W87: ='[3]2025'!I80 -> 0
B88: 7017 | C88: ='[3]2022'!E71 -> Chi khoán thực hiện đề tài nghiên cứu khoa học | H88: ='[3]2022'!F71 -> 5000000 | I88: ='[3]2022'!G71 -> Chắc chắn QL | J88: ='[3]2022'!H71 -> 1 | K88: ='[3]2022'!I71 -> 5000000
B89: 7011 | C89: ='[3]2025'!E78 -> Chi nuôi phạm nhân, can phạm | T89: ='[3]2025'!F78 -> 12834271 | U89: ='[3]2025'!G78 -> Loại khỏi cấu thành giá | V89: ='[3]2025'!H78 -> 0 | W89: ='[3]2025'!I78 -> 0
A90: 7700 | C90: Chi hoàn trả giữa các cấp ngân sách | H90: ='[3]2022'!F73 -> 40700000 | K90: ='[3]2022'!I73 -> 0 | T90: ='[3]2025'!F81 -> 22246000 | W90: ='[3]2025'!I81 -> 0
B91: 7701 | C91: ='[3]2022'!E74 -> Chi hoàn trả các khoản phát sinh trong niên độ ngân sách | H91: ='[3]2022'!F74 -> 40700000 | I91: ='[3]2022'!G74 -> Loại khỏi cấu thành giá | J91: ='[3]2022'!H74 -> 0 | K91: ='[3]2022'!I74 -> 0 | T91: ='[3]2025'!F82 -> 22246000 | U91: ='[3]2025'!G82 -> Loại khỏi cấu thành giá | V91: ='[3]2025'!H82 -> 0 | W91: ='[3]2025'!I82 -> 0
A92: 7750 | C92: Chi khác | D92: ='[3]2021'!F73 -> 6478813925 | G92: ='[3]2021'!I73 -> 4558814675 | H92: ='[3]2022'!F75 -> 4014721622 | K92: ='[3]2022'!I75 -> 3348008522 | L92: ='[3]2023'!F73 -> 6069527480 | O92: ='[3]2023'!I73 -> 5203147480 | P92: ='[3]2024'!F74 -> 5781493691 | S92: ='[3]2024'!I74 -> 5770405371 | T92: ='[3]2025'!F83 -> 5026669448 | W92: ='[3]2025'!I83 -> 5026669448
B93: 7753 | C93: ='[3]2021'!E74 -> Chi khắc phục hậu quả thiên tai, thảm họa, dịch bệnh | D93: ='[3]2021'!F74 -> 1919999250 | E93: ='[3]2021'!G74 -> Loại khỏi cấu thành giá | F93: ='[3]2021'!H74 -> 0 | G93: ='[3]2021'!I74 -> 0 | H93: ='[3]2022'!F76 -> 666713100 | I93: ='[3]2022'!G76 -> Loại khỏi cấu thành giá | J93: ='[3]2022'!H76 -> 0 | K93: ='[3]2022'!I76 -> 0 | L93: ='[3]2023'!F74 -> 866380000 | M93: ='[3]2023'!G74 -> Loại khỏi cấu thành giá | N93: ='[3]2023'!H74 -> 0 | O93: ='[3]2023'!I74 -> 0 | P93: ='[3]2024'!F75 -> 11088320 | Q93: ='[3]2024'!G75 -> Loại khỏi cấu thành giá | R93: ='[3]2024'!H75 -> 0 | S93: ='[3]2024'!I75 -> 0
B94: 7756 | C94: ='[3]2021'!E75 -> Chi các khoản phí và lệ phí | D94: ='[3]2021'!F75 -> 4389809965 | E94: ='[3]2021'!G75 -> Chắc chắn QL | F94: ='[3]2021'!H75 -> 1 | G94: ='[3]2021'!I75 -> 4389809965 | H94: ='[3]2022'!F77 -> 3202550554 | I94: ='[3]2022'!G77 -> Chắc chắn QL | J94: ='[3]2022'!H77 -> 1 | K94: ='[3]2022'!I77 -> 3202550554 | L94: ='[3]2023'!F75 -> 5057108350 | M94: ='[3]2023'!G75 -> Chắc chắn QL | N94: ='[3]2023'!H75 -> 1 | O94: ='[3]2023'!I75 -> 5057108350 | P94: ='[3]2024'!F76 -> 5506729429 | Q94: ='[3]2024'!G76 -> Chắc chắn QL | R94: ='[3]2024'!H76 -> 1 | S94: ='[3]2024'!I76 -> 5506729429 | T94: ='[3]2025'!F84 -> 4781858976 | U94: ='[3]2025'!G84 -> Chắc chắn QL | V94: ='[3]2025'!H84 -> 1 | W94: ='[3]2025'!I84 -> 4781858976
B95: 7757 | C95: ='[3]2021'!E76 -> Chi bảo hiểm tài sản và phương tiện | D95: ='[3]2021'!F76 -> 98412710 | E95: ='[3]2021'!G76 -> Chắc chắn QL | F95: ='[3]2021'!H76 -> 1 | G95: ='[3]2021'!I76 -> 98412710 | H95: ='[3]2022'!F78 -> 90051060 | I95: ='[3]2022'!G78 -> Chắc chắn QL | J95: ='[3]2022'!H78 -> 1 | K95: ='[3]2022'!I78 -> 90051060 | L95: ='[3]2023'!F76 -> 74215660 | M95: ='[3]2023'!G76 -> Chắc chắn QL | N95: ='[3]2023'!H76 -> 1 | O95: ='[3]2023'!I76 -> 74215660 | P95: ='[3]2024'!F77 -> 59267920 | Q95: ='[3]2024'!G77 -> Chắc chắn QL | R95: ='[3]2024'!H77 -> 1 | S95: ='[3]2024'!I77 -> 59267920 | T95: ='[3]2025'!F85 -> 2463120 | U95: ='[3]2025'!G85 -> Chắc chắn QL | V95: ='[3]2025'!H85 -> 1 | W95: ='[3]2025'!I85 -> 2463120
B96: 7761 | C96: ='[3]2021'!E77 -> Chi tiếp khách | D96: ='[3]2021'!F77 -> 70592000 | E96: ='[3]2021'!G77 -> Chắc chắn QL | F96: ='[3]2021'!H77 -> 1 | G96: ='[3]2021'!I77 -> 70592000 | H96: ='[3]2022'!F79 -> 55406908 | I96: ='[3]2022'!G79 -> Chắc chắn QL | J96: ='[3]2022'!H79 -> 1 | K96: ='[3]2022'!I79 -> 55406908 | L96: ='[3]2023'!F77 -> 31943470 | M96: ='[3]2023'!G77 -> Chắc chắn QL | N96: ='[3]2023'!H77 -> 1 | O96: ='[3]2023'!I77 -> 31943470 | P96: ='[3]2024'!F78 -> 167408022 | Q96: ='[3]2024'!G78 -> Chắc chắn QL | R96: ='[3]2024'!H78 -> 1 | S96: ='[3]2024'!I78 -> 167408022 | T96: ='[3]2025'!F86 -> 227345192 | U96: ='[3]2025'!G86 -> Chắc chắn QL | V96: ='[3]2025'!H86 -> 1 | W96: ='[3]2025'!I86 -> 227345192
B97: 7799 | C97: ='[3]2023'!E78 -> Chi các khoản khác | L97: ='[3]2023'!F78 -> 39880000 | M97: ='[3]2023'!G78 -> Chắc chắn QL | N97: ='[3]2023'!H78 -> 1 | O97: ='[3]2023'!I78 -> 39880000 | P97: ='[3]2024'!F79 -> 37000000 | Q97: ='[3]2024'!G79 -> Chắc chắn QL | R97: ='[3]2024'!H79 -> 1 | S97: ='[3]2024'!I79 -> 37000000 | T97: ='[3]2025'!F87 -> 15002160 | U97: ='[3]2025'!G87 -> Lưỡng tính | V97: ='[3]2025'!H87 -> 0 | W97: ='[3]2025'!I87 -> 15002160
C98: TỔNG CỘNG (theo Tổng số chi NSNN/tự chủ) | D98: =D5 -> 535485505118 | H98: =H5 -> 467816142949 | L98: =L5 -> 425087252349 | P98: =P5 -> 453589626640 | T98: =T5 -> 608812794737
C99: TỔNG CHI PHÍ QUẢN LÝ (cộng cột CP QL toàn bộ tiểu mục) | G99: =+G92+G90+G83+G77+G69+G64+G58+G52+G45+G40+G34+G31+G26+G22+G12+G10+G6 -> 2.0474536e+10 | K99: =+K92+K90+K83+K77+K69+K64+K58+K52+K45+K40+K34+K31+K26+K22+K12+K10+K6 -> 1.9517592e+10 | O99: =+O92+O90+O83+O77+O69+O64+O58+O52+O45+O40+O34+O31+O26+O22+O12+O10+O6 -> 2.1826303e+10 | S99: =+S92+S90+S83+S77+S69+S64+S58+S52+S45+S40+S34+S31+S26+S22+S12+S10+S6 -> 2.1955599e+10 | W99: =+W92+W90+W83+W77+W69+W64+W58+W52+W45+W40+W34+W31+W26+W22+W12+W10+W6 -> 25409196394 | X99: TRUNG BÌNH
C100: Tỷ trọng chi phí quản lý / Tổng chi | G100: =G99/D98 -> 0.038235463 | K100: =K99/H98 -> 0.041720647 | O100: =O99/L98 -> 0.051345466 | S100: =S99/P98 -> 0.048404103 | W100: =W99/T98 -> 0.041735648 | X100: =SUBTOTAL(1,D100:W100) -> 0.044288265

Sheet Bảng tính chi phí PACs
A1: BỘ CÔNG CỤ TÍNH GIÁ PACS
A3: STT | B3: Loại máy | C3: SL máy | D3: Tên nhóm dịch vụ | E3: Số ảnh | F3: Số ca trung bình | G3: Số ca TB theo máy/ngày | H3: Dung lượng/1 ảnh (MB) | I3: Dung lượng/1 ca (MB) | J3: Dung lượng/ 1 máy (MB) | K3: Dung lượng TB theo nhóm/ngày (MB) | L3: CP dung lượng phân bổ (đồng)
A4: 1 | B4: Xquang chẩn đoán | C4: 4 | D4: Xquang 1 phim | E4: 1 | F4: 74 | G4: =((F4+F5+F6+F7)*C4)/4 -> 120 | H4: 17 | I4: =E4*H4 -> 17 | J4: =F4*I4 -> 1258 | K4: =((J4+J5+J6+J7)*C4)/4 -> 3502 | L4: =+$J$45*I4 -> 4155.1649
A5: 2 | B5: Xquang chẩn đoán | D5: Xquang 2 phim | E5: 2 | F5: 22 | H5: 17 | I5: =E5*H5 -> 34 | J5: =F5*I5 -> 748 | L5: =+$J$45*I5 -> 8310.3299
A6: 3 | B6: Xquang chẩn đoán | D6: Xquang 3 phim | E6: 3 | F6: 16 | H6: 17 | I6: =E6*H6 -> 51 | J6: =F6*I6 -> 816 | L6: =+$J$45*I6 -> 12465.495
A7: 4 | B7: Xquang chẩn đoán | D7: Xquang có thuốc cản quang | E7: 5 | F7: 8 | H7: 17 | I7: =E7*H7 -> 85 | J7: =F7*I7 -> 680 | L7: =+$J$45*I7 -> 20775.825
A8: 5 | B8: Xquang vú | C8: 1 | D8: Xquang vú 2D (1 bên) | E8: 2 | F8: 21 | G8: =((F8+F9+F10)*C8)/3 -> 20.333333 | H8: 17 | I8: =E8*H8 -> 34 | J8: =F8*I8 -> 714 | K8: =((J8+J9+J10)*C8)/3 -> 2110 | L8: =+$J$45*I8 -> 8310.3299
A9: 6 | B9: Xquang vú | D9: Xquang vú 3D (1 bên) | E9: 83 | F9: 32 | H9: 1.5 | I9: =E9*H9 -> 124.5 | J9: =F9*I9 -> 3984 | L9: =+$J$45*I9 -> 30430.473
A10: 7 | B10: Xquang vú | D10: Xquang can thiệp | E10: 12 | F10: 8 | H10: 17 | I10: =E10*H10 -> 204 | J10: =F10*I10 -> 1632 | L10: =+$J$45*I10 -> 49861.979
A11: 8 | B11: Xquang răng | C11: 1 | D11: Xquang răng cận chóp | E11: 1 | F11: 100 | G11: =((F11+F12)*C11)/2 -> 65 | H11: 0.16 | I11: =E11*H11 -> 0.16 | J11: =F11*I11 -> 16 | K11: =((J11+J12)*C11)/2 -> 69.5 | L11: =+$J$45*I11 -> 39.107435
A12: 9 | B12: Xquang răng | D12: Xquang răng toàn cảnh | E12: 1 | F12: 30 | H12: 4.1 | I12: =E12*H12 -> 4.1 | J12: =F12*I12 -> 123 | L12: =+$J$45*I12 -> 1002.128
A13: 10 | B13: UB | C13: 1 | D13: PET/CT | E13: 658 | F13: 5 | G13: =((F13+F14+F15)*C13)/3 -> 10.333333 | H13: 0.5 | I13: =E13*H13 -> 329 | J13: =F13*I13 -> 1645 | K13: =((J13+J14+J15)*C13)/3 -> 1815 | L13: =+$J$45*I13 -> 80414.663
A14: 11 | B14: UB | D14: SPECT | E14: 30 | F14: 16 | H14: 0.5 | I14: =E14*H14 -> 15 | J14: =F14*I14 -> 240 | L14: =+$J$45*I14 -> 3666.322
A15: 12 | B15: UB | D15: SPECT/CT | E15: 712 | F15: 10 | H15: 0.5 | I15: =E15*H15 -> 356 | J15: =F15*I15 -> 3560 | L15: =+$J$45*I15 -> 87014.042
A16: 13 | B16: CLVT 32 dãy | C16: 2 | D16: CLVT 32 dãy không tiêm thuốc | E16: 356 | F16: 62 | G16: =((F16+F17+F18)*C16)/3 -> 56.666667 | H16: 0.5 | I16: =E16*H16 -> 178 | J16: =F16*I16 -> 11036 | K16: =((J16+J17+J18)*C16)/3 -> 12071.333 | L16: =+$J$45*I16 -> 43507.021
A17: 14 | B17: CLVT 32 dãy | D17: CLVT 32 dãy có tiêm thuốc | E17: 634 | F17: 15 | H17: 0.5 | I17: =E17*H17 -> 317 | J17: =F17*I17 -> 4755 | L17: =+$J$45*I17 -> 77481.605
A18: 15 | B18: CLVT 32 dãy | D18: Can thiệp dưới CLVT | E18: 579 | F18: 8 | H18: 0.5 | I18: =E18*H18 -> 289.5 | J18: =F18*I18 -> 2316 | L18: =+$J$45*I18 -> 70760.015
A19: 16 | B19: CLVT 64-128 dãy | C19: 1 | D19: CLVT 64-128 dãy không tiêm | E19: 527 | F19: 16 | G19: =((F19+F20+F21+F22+F23)*C19)/5 -> 11.8 | H19: 0.5 | I19: =E19*H19 -> 263.5 | J19: =F19*I19 -> 4216 | K19: =((J19+J20+J21+J22+J23)*C19)/5 -> 5737.6 | L19: =+$J$45*I19 -> 64405.057
A20: 17 | B20: CLVT 64-128 dãy | D20: CLVT 64-128 dãy có tiêm | E20: 1056 | F20: 11 | H20: 0.5 | I20: =E20*H20 -> 528 | J20: =F20*I20 -> 5808 | L20: =+$J$45*I20 -> 129054.53
A21: 18 | B21: CLVT 64-128 dãy | D21: Chụp CT Scanner toàn thân 64-128 dãy không thuốc | E21: 1071 | F21: 16 | H21: 0.5 | I21: =E21*H21 -> 535.5 | J21: =F21*I21 -> 8568 | L21: =+$J$45*I21 -> 130887.7
A22: 19 | B22: CLVT 64-128 dãy | D22: Chụp CT Scanner toàn thân 64-128 dãy có thuốc | E22: 1945 | F22: 8 | H22: 0.5 | I22: =E22*H22 -> 972.5 | J22: =F22*I22 -> 7780 | L22: =+$J$45*I22 -> 237699.88
A23: 20 | B23: CLVT 64-128 dãy | D23: Can thiệp dưới CLVT | E23: 579 | F23: 8 | H23: 0.5 | I23: =E23*H23 -> 289.5 | J23: =F23*I23 -> 2316 | L23: =+$J$45*I23 -> 70760.015
A24: 21 | B24: CLVT 256 dãy | C24: 1 | D24: CLVT 256 dãy không tiêm thuốc | E24: 830 | F24: 14 | G24: =((F24+F25+F26+F27+F28)*C24)/5 -> 10.2 | H24: 0.5 | I24: =E24*H24 -> 415 | J24: =F24*I24 -> 5810 | K24: =((J24+J25+J26+J27+J28)*C24)/5 -> 6542.8 | L24: =+$J$45*I24 -> 101434.91
A25: 22 | B25: CLVT 256 dãy | D25: CLVT 256 dãy có tiêm thuốc | E25: 1852 | F25: 10 | H25: 0.5 | I25: =E25*H25 -> 926 | J25: =F25*I25 -> 9260 | L25: =+$J$45*I25 -> 226334.28
A26: 23 | B26: CLVT 256 dãy | D26: Chụp CT Scanner toàn thân từ 256 dãy không thuốc | E26: 1084 | F26: 14 | H26: 0.5 | I26: =E26*H26 -> 542 | J26: =F26*I26 -> 7588 | L26: =+$J$45*I26 -> 132476.44
A27: 24 | B27: CLVT 256 dãy | D27: Chụp CT Scanner toàn thân từ 256 dãy có thuốc | E27: 3096 | F27: 5 | H27: 0.5 | I27: =E27*H27 -> 1548 | J27: =F27*I27 -> 7740 | L27: =+$J$45*I27 -> 378364.43
A28: 25 | B28: CLVT 256 dãy | D28: Can thiệp dưới CLVT | E28: 579 | F28: 8 | H28: 0.5 | I28: =E28*H28 -> 289.5 | J28: =F28*I28 -> 2316 | L28: =+$J$45*I28 -> 70760.015
A29: 26 | B29: MRI | C29: 2 | D29: MRI không tiêm thuốc | E29: 252 | F29: 18 | G29: =((F29+F30+F31+F32)*C29)/4 -> 23 | H29: 0.5 | I29: =E29*H29 -> 126 | J29: =F29*I29 -> 2268 | K29: =((J29+J30+J31+J32)*C29)/4 -> 11624.5 | L29: =+$J$45*I29 -> 30797.105
A30: 27 | B30: MRI | D30: MRI có tiêm thuốc | E30: 489 | F30: 6 | H30: 0.5 | I30: =E30*H30 -> 244.5 | J30: =F30*I30 -> 1467 | L30: =+$J$45*I30 -> 59761.049
A31: 28 | B31: MRI | D31: Chụp CHT với chất tương phản đặc hiệu | E31: 952 | F31: 11 | H31: 0.5 | I31: =E31*H31 -> 476 | J31: =F31*I31 -> 5236 | L31: =+$J$45*I31 -> 116344.62
A32: 29 | B32: MRI | D32: Chụp CHT tưới máu - phổ - chức năng | E32: 2596 | F32: 11 | H32: 0.5 | I32: =E32*H32 -> 1298 | J32: =F32*I32 -> 14278 | L32: =+$J$45*I32 -> 317259.06
A33: 30 | B33: DSA | C33: 1 | D33: Chụp can thiệp động mạch vành và các động mạch khác dưới DSA | E33: 596 | F33: 3 | G33: =((F33+F34+F35+F36+F37+F38+F39+F40+F41)*C33)/9 -> 3.1111111 | H33: 0.5 | I33: =E33*H33 -> 298 | J33: =F33*I33 -> 894 | K33: =((J33+J34+J35+J36+J37+J38+J39+J40+J41)*C33)/9 -> 727.16667 | L33: =+$J$45*I33 -> 72837.597
A34: 31 | B34: DSA | D34: Chụp và can thiệp tim cấu trúc và tim bẩm sinh dưới DSA | E34: 852 | F34: 3 | H34: 0.5 | I34: =E34*H34 -> 426 | J34: =F34*I34 -> 1278 | L34: =+$J$45*I34 -> 104123.55
A35: 32 | B35: DSA | D35: Chụp DSA | E35: 216 | F35: 4 | H35: 0.5 | I35: =E35*H35 -> 108 | J35: =F35*I35 -> 432 | L35: =+$J$45*I35 -> 26397.518
A36: 33 | B36: DSA | D36: Chụp và can thiệp mạch chủ bụng hoặc ngực và mạch chi dưới DSA | E36: 368 | F36: 3 | H36: 0.5 | I36: =E36*H36 -> 184 | J36: =F36*I36 -> 552 | L36: =+$J$45*I36 -> 44973.55
A37: 34 | B37: DSA | D37: Chụp nút dị dạng và can thiệp các bệnh lý mạch thần kinh dưới DSA | E37: 1207 | F37: 3 | H37: 0.5 | I37: =E37*H37 -> 603.5 | J37: =F37*I37 -> 1810.5 | L37: =+$J$45*I37 -> 147508.36
A38: 35 | B38: DSA | D38: Can thiệp đường mạch máu cho các tạng dưới DSA | E38: 322 | F38: 3 | H38: 0.5 | I38: =E38*H38 -> 161 | J38: =F38*I38 -> 483 | L38: =+$J$45*I38 -> 39351.856
A39: 36 | B39: DSA | D39: Can thiệp vào lòng mạch trực tiếp qua da hoặc mở thông dạ dày qua da, dẫn lưu các ổ áp xe và tạng ổ bụng dưới DSA | E39: 308 | F39: 3 | H39: 0.5 | I39: =E39*H39 -> 154 | J39: =F39*I39 -> 462 | L39: =+$J$45*I39 -> 37640.906
A40: 37 | B40: DSA | D40: Dẫn lưu, nong đặt Stend, lấy dị vật đường mật hoặc đặt sonde JJ qua da dưới DSA | E40: 307 | F40: 3 | H40: 0.5 | I40: =E40*H40 -> 153.5 | J40: =F40*I40 -> 460.5 | L40: =+$J$45*I40 -> 37518.695
A41: 38 | B41: DSA | D41: Điều trị các tổn thương xương khớp, cột sống và các tạng dưới DSA | E41: 115 | F41: 3 | H41: 0.5 | I41: =E41*H41 -> 57.5 | J41: =F41*I41 -> 172.5 | L41: =+$J$45*I41 -> 14054.234
E42: DL lưu trữ trung bình 1 ngày: | J42: =SUM(K4:K41) -> 44199.9 | L42: (MB)
E43: Tổng DL lưu trữ/năm (264 ngày): | J43: =+J42*264 -> 11668774 | L43: (MB)
E44: CP thuê PACS 1 năm: | J44: =+'CP THUE PAC'!D8 -> 2.8520988e+09 | L44: (đồng)
E45: CP lưu trữ/1đv MB: | J45: =+J44/J43 -> 244.42147 | L45: (đồng)

Sheet CP THUE PAC
A1: CHI PHÍ THUÊ PHẦN MỀM PACS (Bước 3, Bước 4)
A2: Bước 3: CP thuê phần mềm PACS/Mb = CP thuê PM PACS 01 năm / (Tổng dung lượng lưu trữ 01 ngày toàn viện x Số ngày làm việc/năm)
A3: CP thuê phần mềm PACS 01 năm (VNĐ) (*) | B3: Tổng dung lượng lưu trữ 01 ngày toàn viện (MB) (tự động - Sheet 1) | C3: Số ngày làm việc/năm (*) | D3: CP thuê phần mềm PACS/Mb (VNĐ/MB)
A4: =+D8 -> 2.8520988e+09 | B4: =+'Bảng tính chi phí PACs'!J42:J42 -> 44199.9 | C4: 264 | D4: =IFERROR(A4/(B4*C4),0) -> 244.42147
A7: Phần mềm PACS | B7: Giá trị | C7: Đơn vị | D7: Chi phí thuê/năm | E7: Chứng từ
A8: Dịch vụ phần mềm Hệ thống phần mềm CĐHA (PACS) | B8: 6417222225 | C8: đ/ 2,25 năm | D8: =B8/2.25 -> 2.8520988e+09 | E8: Chứng thư thẩm định giá số : 212/2026/64/CTTĐ ngày 25/03/2026 của công ty cổ phần thẩm định giá Bảo Việt

Sheet HTTT PAC
A1: CHI PHÍ ĐẦU TƯ HẠ TẦNG TRỰC TIẾP CHO PACS (CP_HT)
A2: Công thức: CP hạ tầng trực tiếp/ca = CP đầu tư hạ tầng trực tiếp PACS/năm / (Số ngày làm việc/năm x Tổng số máy sinh ảnh toàn viện x Định mức số ca/máy/ngày của từng dịch vụ). Gồm máy trạm, màn hình chuyên dụng đọc ảnh...
A3: CP đầu tư hạ tầng trực tiếp cho PACS/năm (VNĐ) (*) | B3: Số ngày làm việc/năm (*) (mặc định 264) | C3: Tổng số máy sinh ảnh toàn viện (tự động) *số ca thực hiện DVKT trong 01 ngày | D3: Chi phí hạ tầng trực tiếp/ca (VND)
A4: =+F11 -> 18177600 | B4: 264 | C4: =+SUMPRODUCT('Bảng tính chi phí PACs'!G4:G41,'Bảng tính chi phí PACs'!C4:C41) -> 760.11111 | D4: =+A4/(B4*C4) -> 90.584843
A6: KHOA | B6: LOAI | C6: SL | D6: DONGIA | E6: THÀNH TIỀN | F6: Chi phí 1 năm (2%) | G6: Chứng từ
A7: CDHA | B7: Máy tính | C7: 12 | D7: 17820000 | E7: =D7*C7 -> 213840000 | F7: =+E7*0.02 -> 4276800 | G7: Chứng thư thẩm định giá số : 278/2026/217 của công ty cổ phần tư vấn thẩm định giá Duyên Hải
A8: CDHA | B8: Màn hình chuyên dụng | C8: 6 | D8: 80200000 | E8: =D8*C8 -> 481200000 | F8: =+E8*0.02 -> 9624000
A9: UB | B9: Máy tính | C9: 9 | D9: 17820000 | E9: =D9*C9 -> 160380000 | F9: =+E9*0.02 -> 3207600
A10: DSA | B10: Máy tính | C10: 3 | D10: 17820000 | E10: =D10*C10 -> 53460000 | F10: =+E10*0.02 -> 1069200
C11: =SUM(C7:C10) -> 30 | E11: =SUM(E7:E10) -> 908880000 | F11: =SUM(F7:F10) -> 18177600

Sheet HTDC PAC
A1: CHI PHÍ ĐẦU TƯ HẠ TẦNG DÙNG CHUNG PHÂN BỔ CHO PACS (CP_DC)
A2: Bước 1: Tỉ lệ phân bổ = Tổng Mb lưu trữ PACS/tháng / Tổng Mb lưu trữ các hệ thống dùng chung CNTT/tháng
A3: Tổng Mb lưu trữ PACS /tháng (tự động, x30 ngày) | B3: Tổng Mb lưu trữ hệ thống dùng chung CNTT/tháng (*) | C3: Tỉ lệ phân bổ (%) | E3: MB lưu trữ HIS,EMR../tháng | F3: Tổng MB dùng chung CNTT/tháng
A4: ='[4]1.DuLieu_NhomDV'!K44*30 -> 1325997 | B4: =+F4 -> 1675997 | C4: =IFERROR(A4/B4,0) -> 0.79116908 | E4: 350000 | F4: =A4+E4 -> 1675997
A6: Bước 2: Chi phí đầu tư hạ tầng CNTT cho PACS/năm = Tổng CP đầu tư hạ tầng dùng chung/năm x Tỉ lệ phân bổ
A7: Tổng CP đầu tư hạ tầng dùng chung/năm (VNĐ) (*) | B7: Tỉ lệ phân bổ (lấy từ Bước 1) | C7: CP đầu tư hạ tầng CNTT cho PACS/năm (VNĐ) | D7: Số ngày làm việc/năm (*) (mặc định 264) | E7: Tổng số máy sinh ảnh toàn viện (tự động)*số ca thực hiện DVKT trong 01 ngày | F7: Chi phí hạ tầng dùng chung/ca (VND)
A8: =+D11 -> 4.0745399e+09 | B8: =C4 -> 0.79116908 | C8: =A8*B8 -> 3.22365e+09 | D8: 264 | E8: =+SUMPRODUCT('Bảng tính chi phí PACs'!G4:G41,'Bảng tính chi phí PACs'!C4:C41) -> 760.11111 | F8: =+C8/(D8*E8) -> 16064.487
A11: Hạ tầng dùng chung | B11: Chi phí | C11: ĐVT | D11: =SUM(D12:D20) -> 4.0745399e+09 | E11: Chứng từ
A12: Tổng chi phí thuê phần mềm chuyển đổi số (trừ thuê PACS) | B12: 6610736291 | C12: đ / 2,25 năm | D12: =B12/2.25 -> 2.938105e+09 | E12: Chứng thư thẩm định giá số : 212/2026/64/CTTĐ ngày 25/03/2026 của công ty cổ phần thẩm định giá Bảo Việt
A13: Thuê hạ tầng máy chủ lưu trữ PACS | B13: 1800000014 | C13: đ/ 5 năm | D13: =B13/5 -> 3.6e+08 | E13: Chứng thư thẩm định giá số : 099/2026/805/10-CTTĐ ngày 09/07/2026 của công ty cổ phần định giá và đầu tư Việt - Chi nhánh VIV Hà Nội
A14: Hạ tầng cloud cài đặt HIS-LIS-EMR-PACS | B14: 3168660000 | C14: đ/ 5 năm | D14: =B14/5 -> 633732000 | E14: Chứng thư thẩm định giá số : 099/2026/805/10-CTTĐ ngày 09/07/2026 của công ty cổ phần định giá và đầu tư Việt - Chi nhánh VIV Hà Nội
A15: Máy chủ bệnh viện | B15: 1250810000 | C15: 0.02 | D15: =B15*0.02 -> 25016200 | E15: Số: 1037/2025/HĐ/BVĐKHD-NQC
A16: Thiết bị lưu trữ | B16: 388800000 | C16: 0.02 | D16: =B16*0.02 -> 7776000 | E16: Hợp đồng số :1176/2025/HĐ/BVDKHD-HT
A17: Hệ thống Wifi nội bộ phục vụ bệnh án điện tử | B17: 2226292000 | C17: 0.02 | D17: =B17*2/100 -> 44525840 | E17: Hợp đồng số :1457/2025/HĐ/BVĐKHD-IDS
A18: Hệ thống Wifi cho bệnh nhân thanh toán Qrcode | B18: 607160000 | C18: 0.02 | D18: =B18*2/100 -> 12143200 | E18: Hợp đồng số: 0506/HĐ/BVĐKHD-VTHD
A19: Thiết bị máy tính, máy in triển khai bệnh án điện tử và các hoạt động chuyên môn bệnh viện | B19: 2662082400 | C19: 0.02 | D19: =B19*2/100 -> 53241648 | E19: Các hợp đồng số : 1267/2024/HĐ/BVĐK-HA,2290/2024/HĐ/BVĐK-DNC,1511/2024/BVĐK-VTHD,497/2025/HĐ/BVĐK-THT,1540/2025/HĐ/BVĐKHD-STARTECHSOLUTIONS

Sheet NHAN LUC PAC
A1: CHI PHÍ NHÂN CÔNG CNTT (CP_NCCNTT)
A2: Công thức: CP nhân công CNTT/ca = Tổng CP nhân công CNTT/năm / (Số ngày làm việc/năm x Tổng số máy sinh ảnh toàn viện x Định mức số ca/máy/ngày của từng dịch vụ).
A3: Tổng CP nhân công CNTT/năm (VNĐ) (*) | B3: Số ngày làm việc/năm (*) (mặc định 264) | C3: Tổng số máy sinh ảnh toàn viện (tự động)*số ca thực hiện DVKT trong 01 ngày | D3: Chi phí nhân công CNTT/ca (VND)
A4: 44695038 | B4: 264 | C4: =+SUMPRODUCT('Bảng tính chi phí PACs'!G4:G41,'Bảng tính chi phí PACs'!C4:C41) -> 760.11111 | D4: =+A4/(B4*C4) -> 222.72979
A6: STT | B6: TEN | C6: TONG_LUONG | D6: NAM | E6: %PACS | F6: NHAN_CONG | G6: CP NHÂN CÔNG
A7: 1 | B7: Nguyễn Quốc Dũng | C7: 13074516 | D7: 156894192 | E7: 0.04 | F7: =E7*D7 -> 6275767.7 | G7: CP Nhân công CNTT cho PACS/năm = Tổng Lương CNTT/ Năm * (Số lượng DVKT có dùng PACS / Tổng số lượng DVKT toàn viện)
A8: 2 | B8: Nguyễn Thị Hương | C8: 12818286 | D8: 153819432 | E8: 0.04 | F8: =E8*D8 -> 6152777.3
A9: 3 | B9: Đỗ Hoàng Anh | C9: 9026082 | D9: 108312984 | E9: 0.04 | F9: =E9*D9 -> 4332519.4 | G9: Tổng tiền DVKT có dùng PACS / Tổng tiền DVKT toàn viện = khoảng 4%
A10: 4 | B10: Nguyễn Thành Đông | C10: 11127168 | D10: 133526016 | E10: 0.04 | F10: =E10*D10 -> 5341040.6
A11: 5 | B11: Nguyễn Đức Hùng | C11: 8231769 | D11: 98781228 | E11: 0.04 | F11: =E11*D11 -> 3951249.1
A12: 6 | B12: Nguyễn Duy Giáp | C12: 8231769 | D12: 98781228 | E12: 0.04 | F12: =E12*D12 -> 3951249.1
A13: 7 | B13: Đoàn Thái Sơn | C13: 6463782 | D13: 77565384 | E13: 0.04 | F13: =E13*D13 -> 3102615.4
A14: 8 | B14: Nguyễn Thị Mai | C14: 6463782 | D14: 77565384 | E14: 0.04 | F14: =E14*D14 -> 3102615.4
A15: 9 | B15: Nguyễn Thị Thu Hà | C15: 6463782 | D15: 77565384 | E15: 0.04 | F15: =E15*D15 -> 3102615.4
A16: 10 | B16: Trịnh Trung Hiếu | C16: 6463782 | D16: 77565384 | E16: 0.04 | F16: =E16*D16 -> 3102615.4
A17: 11 | B17: Nguyễn Kiên Cường | C17: 4749944 | D17: 56999328 | E17: 0.04 | F17: =E17*D17 -> 2279973.1
D18: 1117375944 | E18: 0.04 | F18: =SUM(F7:F17) -> 44695038

Sheet GIÁ PHIM
E1: T1.2026 | H1: T2.2026 | K1: T3.2026 | N1: T4.2026 | Q1: T5.2026 | T1: T6 | W1: T7 | Z1: T8 | AC1: T9 | AF1: T10 | AI1: T11 | AL1: T12 | AO1: TỔNG
A2: STT | B2: TÊN MÁY | C2: LOẠI PHIM | D2: ĐVT | E2: SỐ LƯỢNG | F2: ĐƠN GIÁ (Đ) | G2: THÀNH TIỀN (Đ) | H2: SỐ LƯỢNG | I2: ĐƠN GIÁ (Đ) | J2: THÀNH TIỀN (Đ) | K2: SỐ LƯỢNG | L2: ĐƠN GIÁ (Đ) | M2: THÀNH TIỀN (Đ) | N2: SỐ LƯỢNG | O2: ĐƠN GIÁ (Đ) | P2: THÀNH TIỀN (Đ) | Q2: SỐ LƯỢNG | R2: ĐƠN GIÁ (Đ) | S2: THÀNH TIỀN (Đ) | T2: SỐ LƯỢNG | U2: ĐƠN GIÁ (Đ) | V2: THÀNH TIỀN (Đ) | W2: SỐ LƯỢNG | X2: ĐƠN GIÁ (Đ) | Y2: THÀNH TIỀN (Đ) | Z2: SỐ LƯỢNG | AA2: ĐƠN GIÁ (Đ) | AB2: THÀNH TIỀN (Đ) | AC2: SỐ LƯỢNG | AD2: ĐƠN GIÁ (Đ) | AE2: THÀNH TIỀN (Đ) | AF2: SỐ LƯỢNG | AG2: ĐƠN GIÁ (Đ) | AH2: THÀNH TIỀN (Đ) | AI2: SỐ LƯỢNG | AJ2: ĐƠN GIÁ (Đ) | AK2: THÀNH TIỀN (Đ) | AL2: SỐ LƯỢNG | AM2: ĐƠN GIÁ (Đ) | AN2: THÀNH TIỀN (Đ) | AO2: SỐ LƯỢNG | AP2: ĐƠN GIÁ (Đ) | AQ2: THÀNH TIỀN (Đ)
A3: 1 | B3: Máy chụp cộng hưởng từ | C3: DI-HT 35x43cm | D3: Tờ | E3: 1778 | F3: 37380 | G3: =E3*F3 -> 66461640 | H3: 2009 | I3: 37380 | J3: 75096420 | K3: 2395 | L3: 37380 | M3: 89525100 | N3: 2264 | O3: 37380 | P3: 84628320 | Q3: 2276 | R3: 37380 | S3: 85076880 | T3: 1940 | U3: 37380 | V3: 72517200 | W3: 2859 | X3: 37380 | Y3: 106869420 | Z3: 1983 | AA3: 37380 | AB3: 74124540 | AC3: 2859 | AD3: 37380 | AE3: 106869420 | AF3: 1465 | AG3: 37380 | AH3: 54761700 | AI3: 1659 | AJ3: 37380 | AK3: 62013420 | AL3: 2126 | AM3: 37380 | AN3: 79469880 | AO3: =+AL3+AI3+AF3+AC3+Z3+W3+T3+Q3+N3+K3+H3+E3 -> 25613 | AP3: 37380 | AQ3: =+AN3+AK3+AH3+AE3+AB3+Y3+V3+S3+P3+M3+J3+G3 -> 957413940
A4: 2 | B4: Máy chụp CT 16 dãy | C4: DI-HL 35x43cm | D4: Tờ | E4: 0 | F4: 75000 | G4: =E4*F4 -> 0 | H4: 0 | I4: 75000 | J4: 0 | K4: 0 | L4: 75000 | M4: 0 | N4: 0 | O4: 75000 | P4: 0 | Q4: 0 | R4: 75000 | S4: 0 | AO4: =+AL4+AI4+AF4+AC4+Z4+W4+T4+Q4+N4+K4+H4+E4 -> 0 | AQ4: =+AN4+AK4+AH4+AE4+AB4+Y4+V4+S4+P4+M4+J4+G4 -> 0
A5: 3 | B5: Máy chụp CT khu xạ trị | C5: DI-HL 35x43cm | D5: Tờ | E5: 0 | F5: 75000 | G5: =E5*F5 -> 0 | H5: 0 | I5: 75000 | J5: 0 | K5: 0 | L5: 75000 | M5: 0 | N5: 0 | O5: 75000 | P5: 0 | Q5: 0 | R5: 75000 | S5: 0 | AO5: =+AL5+AI5+AF5+AC5+Z5+W5+T5+Q5+N5+K5+H5+E5 -> 0 | AQ5: =+AN5+AK5+AH5+AE5+AB5+Y5+V5+S5+P5+M5+J5+G5 -> 0
A6: 4 | B6: Máy chụp CT 128 dãy | C6: DI-HL 35x43cm | D6: Tờ | E6: 7138 | F6: 52000 | G6: =E6*F6 -> 371176000 | H6: 10524 | I6: 52000 | J6: 547248000 | K6: 10763 | L6: 52000 | M6: 559676000 | N6: 9962 | O6: 52000 | P6: 518024000 | Q6: 9445 | R6: 52000 | S6: 491140000 | T6: 6827 | U6: 52000 | V6: 355004000 | W6: 8511 | X6: 52000 | Y6: 442572000 | Z6: 6620 | AA6: 52000 | AB6: 344240000 | AC6: 7263 | AD6: 52000 | AE6: 377676000 | AF6: 7522 | AG6: 52000 | AH6: 391144000 | AI6: 6838 | AJ6: 52000 | AK6: 355576000 | AL6: 4315 | AM6: 52000 | AN6: 224380000 | AO6: =+AL6+AI6+AF6+AC6+Z6+W6+T6+Q6+N6+K6+H6+E6 -> 95728 | AP6: 52000 | AQ6: =+AN6+AK6+AH6+AE6+AB6+Y6+V6+S6+P6+M6+J6+G6 -> 4977856000 | AR6: =+AQ6+AQ7 -> 5975060000
B7: Máy chụp CT 128 dãy (Nhà B) | C7: DI-HL 35x43cm | D7: Tờ | T7: 405 | U7: 52000 | V7: 21060000 | W7: 3794 | X7: 52000 | Y7: 197288000 | Z7: 2539 | AA7: 52000 | AB7: 132028000 | AC7: 2675 | AD7: 52000 | AE7: 139100000 | AF7: 2810 | AG7: 52000 | AH7: 146120000 | AI7: 2440 | AJ7: 52000 | AK7: 126880000 | AL7: 4514 | AM7: 52000 | AN7: 234728000 | AO7: =+AL7+AI7+AF7+AC7+Z7+W7+T7+Q7+N7+K7+H7+E7 -> 19177 | AP7: 52000 | AQ7: =+AN7+AK7+AH7+AE7+AB7+Y7+V7+S7+P7+M7+J7+G7 -> 997204000
A8: 5 | B8: Máy chụp CT 16 dãy | C8: 125SH 35x43cm | D8: Tờ | E8: 0 | F8: 52000 | G8: =E8*F8 -> 0 | H8: 0 | I8: 52000 | J8: 0 | K8: 0 | L8: 52000 | M8: 0 | N8: 0 | O8: 52000 | P8: 0 | Q8: 0 | R8: 52000 | S8: 0 | AO8: =+AL8+AI8+AF8+AC8+Z8+W8+T8+Q8+N8+K8+H8+E8 -> 0 | AQ8: =+AN8+AK8+AH8+AE8+AB8+Y8+V8+S8+P8+M8+J8+G8 -> 0
A9: 6 | B9: Máy chụp XQ (Phòng CHT) | C9: DI-HL 20x25cm | D9: Tờ | E9: 1942 | F9: 16000 | G9: =E9*F9 -> 31072000 | H9: 2516 | I9: 16000 | J9: 40256000 | K9: 4556 | L9: 16000 | M9: 72896000 | N9: 4447 | O9: 16000 | P9: 71152000 | Q9: 4353 | R9: 16000 | S9: 69648000 | T9: 3984 | U9: 16000 | V9: 63744000 | W9: 5085 | X9: 16000 | Y9: 81360000 | Z9: 3969 | AA9: 16000 | AB9: 63504000 | AC9: 3843 | AD9: 16000 | AE9: 61488000 | AF9: 5932 | AG9: 16000 | AH9: 94912000 | AI9: 7499 | AJ9: 16000 | AK9: 119984000 | AL9: 4667 | AM9: 16000 | AN9: 74672000 | AO9: =+AL9+AI9+AF9+AC9+Z9+W9+T9+Q9+N9+K9+H9+E9 -> 52793 | AP9: 16000 | AQ9: =+AN9+AK9+AH9+AE9+AB9+Y9+V9+S9+P9+M9+J9+G9 -> 844688000 | AR9: =+AQ9+AQ10+AQ11 -> 2003296000
A10: 7 | B10: Máy chụp XQ (Nhà A) | C10: DI-HL 20x25cm | D10: Tờ | E10: 5708 | F10: 16000 | G10: =E10*F10 -> 91328000 | H10: 9351 | I10: 16000 | J10: 149616000 | K10: 7024 | L10: 16000 | M10: 112384000 | N10: 6177 | O10: 16000 | P10: 98832000 | Q10: 6725 | R10: 16000 | S10: 107600000 | T10: 5910 | U10: 16000 | V10: 94560000 | W10: 8180 | X10: 16000 | Y10: 130880000 | Z10: 6232 | AA10: 16000 | AB10: 99712000 | AC10: 6946 | AD10: 16000 | AE10: 111136000 | AF10: 5013 | AG10: 16000 | AH10: 80208000 | AL10: 1566 | AM10: 16000 | AN10: 25056000 | AO10: =+AL10+AI10+AF10+AC10+Z10+W10+T10+Q10+N10+K10+H10+E10 -> 68832 | AP10: 16000 | AQ10: =+AN10+AK10+AH10+AE10+AB10+Y10+V10+S10+P10+M10+J10+G10 -> 1101312000
A11: 8 | B11: Máy chụp XQ (Tầng 2 Nhà B) | C11: 125SH 20x25cm | D11: Tờ | E11: 0 | F11: 75000 | G11: =E11*F11 -> 0 | H11: 0 | I11: 75000 | J11: 0 | K11: 0 | L11: 75000 | M11: 0 | N11: 0 | O11: 75000 | P11: 0 | Q11: 0 | R11: 75000 | S11: 0 | AL11: 3581 | AM11: 16000 | AN11: 57296000 | AO11: =+AL11+AI11+AF11+AC11+Z11+W11+T11+Q11+N11+K11+H11+E11 -> 3581 | AP11: 16000 | AQ11: =+AN11+AK11+AH11+AE11+AB11+Y11+V11+S11+P11+M11+J11+G11 -> 57296000
E12: ĐVT: Đồng | AO12: =+AO6+AO7 -> 114905 | AQ12: =+AQ6+AQ7 -> 5975060000
A13: STT | B13: TÊN MÁY | C13: LOẠI PHIM | D13: ĐVT | E13: GIÁ PHIM | F13: GIÁ TÚI PHIM | G13: Ghi chú
A14: 1 | B14: XQ | C14: DI-HL 20x25cm | D14: Tờ | E14: 17010 | F14: 1296 | G14: Công ty cổ phần dược - TBYT Hà Dương; Hợp đồng số 07/2026/HĐ/BVĐKHD-HADUONG, ngày 03/7/2026 | AO14: =+AO9+AO10+AO11 -> 125206 | AQ14: =+AQ9+AQ10+AQ11 -> 2003296000
A15: 2 | B15: CT | C15: DI-HL 35x43cm | D15: Tờ | E15: 42000 | F15: 2160 | G15: Công ty cổ phần dược - TBYT Hà Dương; Hợp đồng số 07/2026/HĐ/BVĐKHD-HADUONG, ngày 03/7/2026
A16: 3 | B16: MRI | C16: DI-HT 35x43cm | D16: Tờ | E16: 37620 | F16: 3348 | G16: Công ty cổ phần dược - TBYT Hà Dương; Hợp đồng số 1051/2025/HĐ/BVĐK- HD , ngày 05/11/2025
A17: 4 | B17: DSA | C17: DI-HL 35x43cm | D17: Tờ | E17: 42000 | F17: 2160 | G17: Công ty cổ phần dược - TBYT Hà Dương; Hợp đồng số 07/2026/HĐ/BVĐKHD-HADUONG, ngày 03/7/2026
