Workbook

Sheet PL 01A_GIÁ KHÁM BỆNH_BVĐKHD
A1: PHỤ LỤC 01A
A2: GIÁ DỊCH VỤ KHÁM BỆNH, HỘI CHẨN
A3: (Kèm theo Nghị quyết số 43/NQ-HĐND ngày 25 tháng 9 năm 2026 của Hội đồng nhân dân thành phố Hải Phòng)
A5: Áp dụng tại :
A6: - Bệnh viện đa khoa Hải Dương; Bệnh viện Kiến An; Bệnh viện Mắt Hải Phòng; Bệnh viện Phổi Hải Dương; Bệnh viện Sức khỏe tâm thần Hải Phòng.
D8: Đơn vị tính: đồng | E8: NQ17
A9: STT | B9: Danh mục dịch vụ | C9: Mức giá | D9: Ghi chú
A10: A | B10: B | C10: 1 | D10: 2
A11: I | B11: Danh mục do quỹ BHYT thanh toán
A12: 1 | B12: Khám bệnh | C12: 52600 | E12: 50600
A13: 2 | B13: Hội chẩn để xác định ca bệnh khó (chuyên gia/ca; Chỉ áp dụng đối với trường hợp mời chuyên gia đơn vị khác đến hội chẩn tại cơ sở khám, chữa bệnh). | C13: 208000 | E13: 200000
A14: II | B14: Danh mục không thuộc quỹ BHYT thanh toán nhưng không phải là dịch vụ theo yêu cầu
A15: 1 | B15: Khám cấp giấy chứng thương, giám định y khoa (không kể xét nghiệm, X-quang) | C15: 166400 | E15: 160000
A16: 2 | B16: Khám sức khỏe toàn diện lao động, lái xe, khám sức khỏe định kỳ (không kể xét nghiệm, X-quang) | C16: 166400 | E16: 160000
A17: 3 | B17: Khám sức khỏe toàn diện cho người đi xuất khẩu lao động (không kể xét nghiệm, X-quang) | C17: 468000 | E17: 450000
A19: Tổng số: 05 danh mục

Sheet PL 01B_GIÁ KHÁM BỆNH_TTBVSKCB
A1: PHỤ LỤC 01B
A2: GIÁ DỊCH VỤ KHÁM BỆNH, HỘI CHẨN
A3: (Kèm theo Nghị quyết số 43/NQ-HĐND ngày 25 tháng 9 năm 2026 của Hội đồng nhân dân thành phố Hải Phòng)
A4: Áp dụng tại :
A5: - Bệnh viện Mắt và Da liễu Hải Dương; Bệnh viện Nhi Hải Dương; Bệnh viện Bệnh nhiệt đới Hải Dương; Bệnh viện Phổi Hải Phòng; Bệnh viện Phụ sản Hải Dương; Bệnh viện Phục hồi chức năng Hải Dương; Bệnh viện Sức khỏe Tâm thần Hải Dương; Bệnh viện Y học cổ truyền Hải Dương; Bệnh viện Y học cổ truyền Hải Phòng; Trung tâm Da liễu.
A6: - Trung tâm y tế An Lão; Trung tâm y tế Chí Linh; Trung tâm y tế Gia Lộc; Trung tâm y tế Kinh Môn; Trung tâm y tế Ngô Quyền; Trung tâm y tế Ninh Giang; Trung tâm y tế Thủy Nguyên; Trung tâm y tế Tứ Kỳ; Trung tâm y tế Vĩnh Bảo.
A7: - Cơ sở điều trị II thuộc Trung tâm y tế An Lão; Cơ sở điều trị 2 Nam Am thuộc Bệnh viện đa khoa huyện Vĩnh Bảo nay là Trung tâm y tế Vĩnh Bảo; Cơ sở 2 Nhị Chiểu trực thuộc Trung tâm y tế Kinh Môn.
A8: - Trung tâm Bảo vệ sức khỏe cán bộ thuộc Bệnh viện đa khoa Hải Dương.
D9: Đơn vị tính: đồng
A10: STT | B10: Danh mục dịch vụ | C10: Mức giá | D10: Ghi chú
A11: A | B11: B | C11: 1 | D11: 2
A12: I | B12: Danh mục do quỹ BHYT thanh toán
A13: 1 | B13: Khám bệnh | C13: 46800
A14: 2 | B14: Hội chẩn để xác định ca bệnh khó (chuyên gia/ca; Chỉ áp dụng đối với trường hợp mời chuyên gia đơn vị khác đến hội chẩn tại cơ sở khám, chữa bệnh). | C14: 208000
A15: II | B15: Danh mục không thuộc quỹ BHYT thanh toán nhưng không phải là dịch vụ theo yêu cầu
A16: 1 | B16: Khám cấp giấy chứng thương, giám định y khoa (không kể xét nghiệm, X-quang) | C16: 166400
A17: 2 | B17: Khám sức khỏe toàn diện lao động, lái xe, khám sức khỏe định kỳ (không kể xét nghiệm, X-quang) | C17: 166400
A18: 3 | B18: Khám sức khỏe toàn diện cho người đi xuất khẩu lao động (không kể xét nghiệm, X-quang) | C18: 468000 | F18: 450000
A20: Tổng số: 05 danh mục | D20: =COUNT(D12:D18,0) -> 1

Sheet PL 02A_GIÁ NGÀY GIƯỜNG
A1: PHỤ LỤC 02A
A2: GIÁ DỊCH VỤ NGÀY GIƯỜNG BỆNH
A3: (Kèm theo Nghị quyết số 43/NQ-HĐND ngày 25 tháng 9 năm 2026 của Hội đồng nhân dân thành phố Hải Phòng)
A4: Áp dụng tại :
A5: - Bệnh viện đa khoa Hải Dương; Bệnh viện Kiến An; Bệnh viện Mắt Hải Phòng; Bệnh viện Phổi Hải Dương; Bệnh viện Sức khỏe tâm thần Hải Phòng
D6: Đơn vị tính: đồng
A7: STT | B7: Các loại dịch vụ | C7: Mức giá | D7: Ghi chú | F7: NQ17
A8: A | B8: B | C8: 1 | D8: 2
A9: 1 | B9: Ngày điều trị Hồi sức tích cực (ICU)/ghép tạng/ghép tủy /ghép tế bào gốc | C9: 965200 | F9: 928100
A10: 2 | B10: Ngày giường bệnh Hồi sức cấp cứu | C10: 580900 | F10: 558600
A11: 3 | B11: Ngày giường bệnh Nội khoa:
A12: 3.1 | B12: Loại 1: Các khoa: Truyền nhiễm, Hô hấp, Huyết học, Ung thư, Tim mạch, Tâm thần, Thần kinh, Lão, Nhi, Tiêu hoá, Thận học; Nội tiết; Dị ứng (đối với bệnh nhân dị ứng thuốc nặng: Stevens Johnson/ Lyell) | C12: 317700 | F12: 305500
A13: 3.2 | B13: Loại 2: Các Khoa: Cơ-Xương-Khớp, Da liễu, Dị ứng, Tai-Mũi-Họng, Mắt, Răng Hàm Mặt, Ngoại, Phụ -Sản không mổ; YHDT/ PHCN cho nhóm người bệnh tổn thương tủy sống, tai biến mạch máu não, chấn thương sọ não. | C13: 284800 | F13: 273800
A14: 3.3 | B14: Loại 3: Các khoa: YHDT, Phục hồi chức năng | C14: 242200 | F14: 232900
A15: 4 | B15: Ngày giường bệnh ngoại khoa, bỏng;
A16: 4.1 | B16: Loại 1 : Sau các phẫu thuật loại đặc biệt; Bỏng độ 3-4 trên 70% diện tích cơ thể | C16: 416400 | F16: 400400
A17: 4.2 | B17: Loại 2 : Sau các phẫu thuật loại 1; Bỏng độ 3-4 từ 25 -70% diện tích cơ thể | C17: 378900 | F17: 364400
A18: 4.3 | B18: Loại 3 : Sau các phẫu thuật loại 2; Bỏng độ 2 trên 30% diện tích cơ thể, Bỏng độ 3-4 dưới 25% diện tích cơ thể | C18: 333600 | F18: 320700
A19: 4.4 | B19: Loại 4 : Sau các phẫu thuật loại 3; Bỏng độ 1, độ 2 dưới 30% diện tích cơ thể | C19: 298200 | F19: 286700
A20: 5 | B20: Ngày giường điều trị ban ngày | C20: Bằng 0,3 lần giá ngày giường của các khoa tương ứng | F20: Bằng 0,3 lần giá ngày giường của các khoa tương ứng
A22: Ghi chú: Giá ngày giường điều trị nội trú chưa bao gồm chi phí máy thở và khí y tế.
B23: Tổng số: 10 danh mục
C25: =COUNT(C9:C20,0) -> 10 | D25: =COUNT(D9:D20,0) -> 1

Sheet PL3_ GIÁ DV kỹ thuật, XN
E3: Phụ lục 3
A5: GIÁ DỊCH VỤ KỸ THUẬT VÀ XÉT NGHIỆM
A6: (Kèm theo Nghị quyết số 43/NQ-HĐND ngày 25 tháng 9 năm 2026 của Hội đồng nhân dân thành phố Hải Phòng)
A9: STT | B9: Mã tương đương | C9: Tên chương theo TT 23/2024 | D9: Mã kỹ thuật theo TT23/2024 | E9: Tên dịch vụ kỹ thuật theo Thông tư 23/2024/TT-BYT | F9: Tên dịch vụ dịch vụ giá (Tên KT theo TT 23/2024) | G9: Phân Loại PTTT | H9: Đề xuất mức giá | I9: Tổng giá thành (I+II+III+IV) | J9: Mức giá | K9: Ghi chú
L10: BYT ko có mã tương đương
A11: 1 | B11: 01.0020.0001 | C11: 01. HỒI SỨC CẤP CỨU VÀ CHỐNG ĐỘC | D11: 1.20 | E11: Siêu âm dẫn đường đặt catheter tĩnh mạch cấp cứu | F11: Siêu âm dẫn đường đặt catheter tĩnh mạch cấp cứu | G11: T2 | H11: 58600 | I11: 58694.617 | J11: 61000 | M11: =VLOOKUP(#REF!,'[1]PL3 Danh muc đầy đủ'!$E$9:$X$9281,20,0) -> #REF! | N11: =M11-#REF! -> #REF!
A12: 2 | B12: 01.0021.0001 | C12: 01. HỒI SỨC CẤP CỨU VÀ CHỐNG ĐỘC | D12: 1.21 | E12: Siêu âm dẫn đường đặt catheter động mạch cấp cứu | F12: Siêu âm dẫn đường đặt catheter động mạch cấp cứu | G12: T2 | H12: 58600 | I12: 58694.617 | J12: 61000 | M12: =VLOOKUP(#REF!,'[1]PL3 Danh muc đầy đủ'!$E$9:$X$9281,20,0) -> #REF! | N12: =M12-#REF! -> #REF!
A13: 3 | B13: 01.0092.0001 | C13: 01. HỒI SỨC CẤP CỨU VÀ CHỐNG ĐỘC | D13: 1.92 | E13: Siêu âm màng phổi cấp cứu | F13: Siêu âm màng phổi cấp cứu | G13: T1 | H13: 58600 | I13: 58694.617 | J13: 61000 | M13: =VLOOKUP(#REF!,'[1]PL3 Danh muc đầy đủ'!$E$9:$X$9281,20,0) -> #REF! | N13: =M13-#REF! -> #REF!
A14: 4 | B14: 01.0239.0001 | C14: 01. HỒI SỨC CẤP CỨU VÀ CHỐNG ĐỘC | D14: 1.239 | E14: Siêu âm ổ bụng tại giường cấp cứu | F14: Siêu âm ổ bụng tại giường cấp cứu | G14: T2 | H14: 58600 | I14: 58694.617 | J14: 61000 | M14: =VLOOKUP(#REF!,'[1]PL3 Danh muc đầy đủ'!$E$9:$X$9281,20,0) -> #REF! | N14: =M14-#REF! -> #REF!
A15: 5 | B15: 01.0303.0001 | C15: 01. HỒI SỨC CẤP CỨU VÀ CHỐNG ĐỘC | D15: 1.303 | E15: Siêu âm cấp cứu tại giường bệnh | F15: Siêu âm cấp cứu tại giường bệnh | G15: T2 | H15: 58600 | I15: 58694.617 | J15: 61000 | M15: =VLOOKUP(#REF!,'[1]PL3 Danh muc đầy đủ'!$E$9:$X$9281,20,0) -> #REF! | N15: =M15-#REF! -> #REF!
A16: 6 | B16: 02.0063.0001 | C16: 02. NỘI KHOA | D16: 2.63 | E16: Siêu âm màng phổi cấp cứu | F16: Siêu âm màng phổi cấp cứu | H16: 58600 | I16: 58694.617 | J16: 61000 | M16: =VLOOKUP(#REF!,'[1]PL3 Danh muc đầy đủ'!$E$9:$X$9281,20,0) -> #REF! | N16: =M16-#REF! -> #REF!
A17: 7 | B17: 02.0314.0001 | C17: 02. NỘI KHOA | D17: 2.314 | E17: Siêu âm ổ bụng | F17: Siêu âm ổ bụng | H17: 58600 | I17: 58694.617 | J17: 61000 | M17: =VLOOKUP(#REF!,'[1]PL3 Danh muc đầy đủ'!$E$9:$X$9281,20,0) -> #REF! | N17: =M17-#REF! -> #REF!
A18: 8 | B18: 02.0373.0001 | C18: 02. NỘI KHOA | D18: 2.373 | E18: Siêu âm khớp (một vị trí) | F18: Siêu âm khớp (một vị trí) | H18: 58600 | I18: 58694.617 | J18: 61000 | M18: =VLOOKUP(#REF!,'[1]PL3 Danh muc đầy đủ'!$E$9:$X$9281,20,0) -> #REF! | N18: =M18-#REF! -> #REF!
A19: 9 | B19: 02.0374.0001 | C19: 02. NỘI KHOA | D19: 2.374 | E19: Siêu âm phần mềm (một vị trí) | F19: Siêu âm phần mềm (một vị trí) | H19: 58600 | I19: 58694.617 | J19: 61000 | M19: =VLOOKUP(#REF!,'[1]PL3 Danh muc đầy đủ'!$E$9:$X$9281,20,0) -> #REF! | N19: =M19-#REF! -> #REF!
A20: 10 | B20: 03.0069.0001 | C20: 03. NHI KHOA | D20: 3.69 | E20: Siêu âm màng ngoài tim cấp cứu | F20: Siêu âm màng ngoài tim cấp cứu | G20: T3 | H20: 58600 | I20: 58694.617 | J20: 61000 | M20: =VLOOKUP(#REF!,'[1]PL3 Danh muc đầy đủ'!$E$9:$X$9281,20,0) -> #REF! | N20: =M20-#REF! -> #REF!
A21: 11 | B21: 03.0070.0001 | C21: 03. NHI KHOA | D21: 3.70 | E21: Siêu âm màng phổi | F21: Siêu âm màng phổi | G21: T1 | H21: 58600 | I21: 58694.617 | J21: 61000 | M21: =VLOOKUP(#REF!,'[1]PL3 Danh muc đầy đủ'!$E$9:$X$9281,20,0) -> #REF! | N21: =M21-#REF! -> #REF!
A22: 12 | B22: 18.0001.0001 | C22: 18. ĐIỆN QUANG | D22: 18.1 | E22: Siêu âm tuyến giáp | F22: Siêu âm tuyến giáp | H22: 58600 | I22: 58694.617 | J22: 61000 | M22: =VLOOKUP(#REF!,'[1]PL3 Danh muc đầy đủ'!$E$9:$X$9281,20,0) -> #REF! | N22: =M22-#REF! -> #REF!
A23: 13 | B23: 18.0002.0001 | C23: 18. ĐIỆN QUANG | D23: 18.2 | E23: Siêu âm các tuyến nước bọt | F23: Siêu âm các tuyến nước bọt | H23: 58600 | I23: 58694.617 | J23: 61000 | M23: =VLOOKUP(#REF!,'[1]PL3 Danh muc đầy đủ'!$E$9:$X$9281,20,0) -> #REF! | N23: =M23-#REF! -> #REF!
A24: 14 | B24: 18.0003.0001 | C24: 18. ĐIỆN QUANG | D24: 18.3 | E24: Siêu âm cơ phần mềm vùng cổ mặt | F24: Siêu âm cơ phần mềm vùng cổ mặt | H24: 58600 | I24: 58694.617 | J24: 61000 | M24: =VLOOKUP(#REF!,'[1]PL3 Danh muc đầy đủ'!$E$9:$X$9281,20,0) -> #REF! | N24: =M24-#REF! -> #REF!
A25: 15 | B25: 18.0004.0001 | C25: 18. ĐIỆN QUANG | D25: 18.4 | E25: Siêu âm hạch vùng cổ | F25: Siêu âm hạch vùng cổ | H25: 58600 | I25: 58694.617 | J25: 61000 | M25: =VLOOKUP(#REF!,'[1]PL3 Danh muc đầy đủ'!$E$9:$X$9281,20,0) -> #REF! | N25: =M25-#REF! -> #REF!
A26: 16 | B26: 18.0006.0001 | C26: 18. ĐIỆN QUANG | D26: 18.6 | E26: Siêu âm hốc mắt | F26: Siêu âm hốc mắt | H26: 58600 | I26: 58694.617 | J26: 61000 | M26: =VLOOKUP(#REF!,'[1]PL3 Danh muc đầy đủ'!$E$9:$X$9281,20,0) -> #REF! | N26: =M26-#REF! -> #REF!
A27: 17 | B27: 18.0008.0001 | C27: 18. ĐIỆN QUANG | D27: 18.8 | E27: Siêu âm nhãn cầu | F27: Siêu âm nhãn cầu | H27: 58600 | I27: 58694.617 | J27: 61000 | M27: =VLOOKUP(#REF!,'[1]PL3 Danh muc đầy đủ'!$E$9:$X$9281,20,0) -> #REF! | N27: =M27-#REF! -> #REF!
A28: 18 | B28: 18.0011.0001 | C28: 18. ĐIỆN QUANG | D28: 18.11 | E28: Siêu âm màng phổi | F28: Siêu âm màng phổi | H28: 58600 | I28: 58694.617 | J28: 61000 | M28: =VLOOKUP(#REF!,'[1]PL3 Danh muc đầy đủ'!$E$9:$X$9281,20,0) -> #REF! | N28: =M28-#REF! -> #REF!
A29: 19 | B29: 18.0012.0001 | C29: 18. ĐIỆN QUANG | D29: 18.12 | E29: Siêu âm thành ngực (cơ, phần mềm thành ngực) | F29: Siêu âm thành ngực (cơ, phần mềm thành ngực) | H29: 58600 | I29: 58694.617 | J29: 61000 | M29: =VLOOKUP(#REF!,'[1]PL3 Danh muc đầy đủ'!$E$9:$X$9281,20,0) -> #REF! | N29: =M29-#REF! -> #REF!
A30: 20 | B30: 18.0013.0001 | C30: 18. ĐIỆN QUANG | D30: 18.13 | E30: Siêu âm các khối u phổi ngoại vi | F30: Siêu âm các khối u phổi ngoại vi | H30: 58600 | I30: 58694.617 | J30: 61000 | M30: =VLOOKUP(#REF!,'[1]PL3 Danh muc đầy đủ'!$E$9:$X$9281,20,0) -> #REF! | N30: =M30-#REF! -> #REF!
A31: 21 | B31: 18.0015.0001 | C31: 18. ĐIỆN QUANG | D31: 18.15 | E31: Siêu âm ổ bụng (gan mật, tụy, lách, thận, bàng quang) | F31: Siêu âm ổ bụng (gan mật, tụy, lách, thận, bàng quang) | H31: 58600 | I31: 58694.617 | J31: 61000 | M31: =VLOOKUP(#REF!,'[1]PL3 Danh muc đầy đủ'!$E$9:$X$9281,20,0) -> #REF! | N31: =M31-#REF! -> #REF!
A32: 22 | B32: 18.0016.0001 | C32: 18. ĐIỆN QUANG | D32: 18.16 | E32: Siêu âm hệ tiết niệu (thận, tuyến thượng thận, bàng quang, tiền liệt tuyến) | F32: Siêu âm hệ tiết niệu (thận, tuyến thượng thận, bàng quang, tiền liệt tuyến) | H32: 58600 | I32: 58694.617 | J32: 61000 | M32: =VLOOKUP(#REF!,'[1]PL3 Danh muc đầy đủ'!$E$9:$X$9281,20,0) -> #REF! | N32: =M32-#REF! -> #REF!
A33: 23 | B33: 18.0018.0001 | C33: 18. ĐIỆN QUANG | D33: 18.18 | E33: Siêu âm tử cung phần phụ | F33: Siêu âm tử cung phần phụ | H33: 58600 | I33: 58694.617 | J33: 61000 | M33: =VLOOKUP(#REF!,'[1]PL3 Danh muc đầy đủ'!$E$9:$X$9281,20,0) -> #REF! | N33: =M33-#REF! -> #REF!
... A46: 36 | B46: 14.0293.0002 | C46: 14. MẮT | D46: 14.293 | E46: Siêu âm + đo trục nhãn cầu | F46: Siêu âm + đo trục nhãn cầu | H46: 90300 | I46: 90364.348 | J46: 93900 | M46: =VLOOKUP(#REF!,'[1]PL3 Danh muc đầy đủ'!$E$9:$X$9281,20,0) -> #REF! | N46: =M46-#REF! -> #REF!
A47: 37 | B47: 03.4253.0003 | C47: 03. NHI KHOA | D47: 3.4253 | E47: Siêu âm tim thai qua đường âm đạo | F47: Siêu âm tim thai qua đường âm đạo | G47: T2 | H47: 195600 | I47: 195660.87 | J47: 203400 | M47: =VLOOKUP(#REF!,'[1]PL3 Danh muc đầy đủ'!$E$9:$X$9281,20,0) -> #REF! | N47: =M47-#REF! -> #REF!
A48: 38 | B48: 18.0031.0003 | C48: 18. ĐIỆN QUANG | D48: 18.31 | E48: Siêu âm tử cung buồng trứng qua đường âm đạo | F48: Siêu âm tử cung buồng trứng qua đường âm đạo | G48: T2 | H48: 195600 | I48: 195660.87 | J48: 203400 | M48: =VLOOKUP(#REF!,'[1]PL3 Danh muc đầy đủ'!$E$9:$X$9281,20,0) -> #REF! | N48: =M48-#REF! -> #REF!
A49: 39 | B49: 01.0018.0004 | C49: 01. HỒI SỨC CẤP CỨU VÀ CHỐNG ĐỘC | D49: 1.18 | E49: Siêu âm tim cấp cứu tại giường | F49: Siêu âm tim cấp cứu tại giường | G49: T1 | H49: 252300 | I49: 252391.3 | J49: 262400 | M49: =VLOOKUP(#REF!,'[1]PL3 Danh muc đầy đủ'!$E$9:$X$9281,20,0) -> #REF! | N49: =M49-#REF! -> #REF!
A50: 40 | B50: 01.0019.0004 | C50: 01. HỒI SỨC CẤP CỨU VÀ CHỐNG ĐỘC | D50: 1.19 | E50: Siêu âm doppler mạch cấp cứu tại giường | F50: Siêu âm doppler mạch cấp cứu tại giường | G50: T1 | H50: 252300 | I50: 252391.3 | J50: 262400 | M50: =VLOOKUP(#REF!,'[1]PL3 Danh muc đầy đủ'!$E$9:$X$9281,20,0) -> #REF! | N50: =M50-#REF! -> #REF!
A51: 41 | B51: 01.0025.0004 | C51: 01. HỒI SỨC CẤP CỨU VÀ CHỐNG ĐỘC | D51: 1.25 | E51: Kỹ thuật đánh giá huyết động cấp cứu không xâm nhập bằng USCOM | F51: Kỹ thuật đánh giá huyết động cấp cứu không xâm nhập bằng USCOM | G51: T1 | H51: 252300 | I51: 252391.3 | J51: 262400 | M51: =VLOOKUP(#REF!,'[1]PL3 Danh muc đầy đủ'!$E$9:$X$9281,20,0) -> #REF! | N51: =M51-#REF! -> #REF!
A52: 42 | B52: 01.0208.0004 | C52: 01. HỒI SỨC CẤP CỨU VÀ CHỐNG ĐỘC | D52: 1.208 | E52: Siêu âm doppler xuyên sọ | F52: Siêu âm doppler xuyên sọ | G52: T2 | H52: 252300 | I52: 252391.3 | J52: 262400 | M52: =VLOOKUP(#REF!,'[1]PL3 Danh muc đầy đủ'!$E$9:$X$9281,20,0) -> #REF! | N52: =M52-#REF! -> #REF!
A53: 43 | B53: 02.0112.0004 | C53: 02. NỘI KHOA | D53: 2.112 | E53: Siêu âm doppler mạch máu | F53: Siêu âm doppler mạch máu | G53: T3 | H53: 252300 | I53: 252391.3 | J53: 262400 | M53: =VLOOKUP(#REF!,'[1]PL3 Danh muc đầy đủ'!$E$9:$X$9281,20,0) -> #REF! | N53: =M53-#REF! -> #REF!
A54: 44 | B54: 02.0113.0004 | C54: 02. NỘI KHOA | D54: 2.113 | E54: Siêu âm doppler tim | F54: Siêu âm doppler tim | G54: T3 | H54: 252300 | I54: 252391.3 | J54: 262400 | M54: =VLOOKUP(#REF!,'[1]PL3 Danh muc đầy đủ'!$E$9:$X$9281,20,0) -> #REF! | N54: =M54-#REF! -> #REF!
A55: 45 | B55: 02.0119.0004 | C55: 02. NỘI KHOA | D55: 2.119 | E55: Siêu âm tim cấp cứu tại giường | F55: Siêu âm tim cấp cứu tại giường | G55: T3 | H55: 252300 | I55: 252391.3 | J55: 262400 | M55: =VLOOKUP(#REF!,'[1]PL3 Danh muc đầy đủ'!$E$9:$X$9281,20,0) -> #REF! | N55: =M55-#REF! -> #REF!
A56: 46 | B56: 02.0154.0004 | C56: 02. NỘI KHOA | D56: 2.154 | E56: Siêu âm doppler xuyên sọ cấp cứu tại giường | F56: Siêu âm doppler xuyên sọ cấp cứu tại giường | H56: 252300 | I56: 252391.3 | J56: 262400 | M56: =VLOOKUP(#REF!,'[1]PL3 Danh muc đầy đủ'!$E$9:$X$9281,20,0) -> #REF! | N56: =M56-#REF! -> #REF!
A57: 47 | B57: 02.0315.0004 | C57: 02. NỘI KHOA | D57: 2.315 | E57: Siêu âm doppler mạch máu khối u gan | F57: Siêu âm doppler mạch máu khối u gan | H57: 252300 | I57: 252391.3 | J57: 262400 | M57: =VLOOKUP(#REF!,'[1]PL3 Danh muc đầy đủ'!$E$9:$X$9281,20,0) -> #REF! | N57: =M57-#REF! -> #REF!
...

Sheet PL4_PT gây tê 
A1: SỞ Y TẾ THÀNH PHỐ HẢI PHÒNG
A2: BỆNH VIỆN ĐA KHOA HẢI DƯƠNG
D3: Phụ lục 4
A5: GIÁ CÁC DỊCH VỤ KỸ THUẬT THỰC HIỆN BẰNG PHƯƠNG PHÁP VÔ CẢM GÂY TÊ CHƯA BAO GỒM THUỐC VÀ OXY SỬ DỤNG TRONG DỊCH VỤ ĐỀ XUẤT ĐIỀU CHỈNH
A6: (Kèm theo Nghị quyết số 43/NQ-HĐND ngày 25 tháng 9 năm 2026 của Hội đồng nhân dân thành phố Hải Phòng)
C8: Đơn vị tính: Đồng
A9: STT | B9: Mã tương đương | C9: Mã kỹ thuật theo TT23/2024 | D9: Tên dịch vụ kỹ thuật theo Thông tư 23/2024/TT-BYT | E9: Tên dịch vụ dịch vụ giá (Tên KT theo TT 23/2024) | F9: Phân Loại PTTT | H9: V. Tích lũy hoặc lợi nhuận/ Nghĩa vụ tài chính (nếu có) | I9: Ghi chú
G10: Mức giá
A11: 1 | B11: 10.1113.0398 | C11: 10.1113 | D11: Phẫu thuật đặt Catheter ổ bụng để lọc màng bụng chu kỳ | E11: Phẫu thuật đặt Catheter ổ bụng để lọc màng bụng chu kỳ | F11: P2 | G11: 7451100 | H11: 0 | I11: Chưa bao gồm thuốc và oxy | J11: =VLOOKUP(#REF!,'[2]PL4.PT gây tê'!$D$9:$W$767,20,0) -> #REF! | K11: =J11-#REF! -> #REF!
A12: 2 | B12: 10.0260.0399 | C12: 10.260 | D12: Phẫu thuật tạo thông động - tĩnh mạch để chạy thận nhân tạo | E12: Phẫu thuật tạo thông động - tĩnh mạch để chạy thận nhân tạo | F12: P1 | G12: 2177400 | H12: 0 | I12: Chưa bao gồm mạch máu nhân tạo, động mạch chủ nhân tạo, thuốc và oxy | J12: =VLOOKUP(#REF!,'[2]PL4.PT gây tê'!$D$9:$W$767,20,0) -> #REF! | K12: =J12-#REF! -> #REF!
A13: 3 | B13: 03.3234.0400 | C13: 3.3234 | D13: Mở lồng ngực thăm dò | E13: Mở lồng ngực thăm dò | F13: P3 | G13: 2827600 | H13: 0 | I13: Chưa bao gồm thuốc và oxy | J13: =VLOOKUP(#REF!,'[2]PL4.PT gây tê'!$D$9:$W$767,20,0) -> #REF! | K13: =J13-#REF! -> #REF!
A14: 4 | B14: 03.3919.0400 | C14: 3.3919 | D14: Phẫu thuật lấy dị vật lồng ngực, ổ bụng | E14: Phẫu thuật lấy dị vật lồng ngực, ổ bụng [lồng ngực] | F14: P1 | G14: 2827600 | H14: 0 | I14: Chưa bao gồm thuốc và oxy | J14: =VLOOKUP(#REF!,'[2]PL4.PT gây tê'!$D$9:$W$767,20,0) -> #REF! | K14: =J14-#REF! -> #REF!
A15: 5 | B15: 10.0238.0400 | C15: 10.238 | D15: Phẫu thuật dẫn lưu dịch khoang màng tim | E15: Phẫu thuật dẫn lưu dịch khoang màng tim | F15: P2 | G15: 2827600 | H15: 0 | I15: Chưa bao gồm thuốc và oxy | J15: =VLOOKUP(#REF!,'[2]PL4.PT gây tê'!$D$9:$W$767,20,0) -> #REF! | K15: =J15-#REF! -> #REF!
A16: 6 | B16: 10.0289.0400 | C16: 10.289 | D16: Mở ngực thăm dò, sinh thiết | E16: Mở ngực thăm dò, sinh thiết | F16: P1 | G16: 2827600 | H16: 0 | I16: Chưa bao gồm thuốc và oxy | J16: =VLOOKUP(#REF!,'[2]PL4.PT gây tê'!$D$9:$W$767,20,0) -> #REF! | K16: =J16-#REF! -> #REF!
A17: 7 | B17: 10.0414.0400 | C17: 10.414 | D17: Mở ngực thăm dò | E17: Mở ngực thăm dò | F17: P2 | G17: 2827600 | H17: 0 | I17: Chưa bao gồm thuốc và oxy | J17: =VLOOKUP(#REF!,'[2]PL4.PT gây tê'!$D$9:$W$767,20,0) -> #REF! | K17: =J17-#REF! -> #REF!
A18: 8 | B18: 10.0415.0400 | C18: 10.415 | D18: Mở ngực thăm dò, sinh thiết | E18: Mở ngực thăm dò, sinh thiết | F18: P2 | G18: 2827600 | H18: 0 | I18: Chưa bao gồm thuốc và oxy | J18: =VLOOKUP(#REF!,'[2]PL4.PT gây tê'!$D$9:$W$767,20,0) -> #REF! | K18: =J18-#REF! -> #REF!
A19: 9 | B19: 12.0166.0400 | C19: 12.166 | D19: Mở lồng ngực thăm dò, sinh thiết | E19: Mở lồng ngực thăm dò, sinh thiết | F19: P2 | G19: 2827600 | H19: 0 | I19: Chưa bao gồm thuốc và oxy | J19: =VLOOKUP(#REF!,'[2]PL4.PT gây tê'!$D$9:$W$767,20,0) -> #REF! | K19: =J19-#REF! -> #REF!
A20: 10 | B20: 12.0169.0400 | C20: 12.169 | D20: Phẫu thuật bóc kén màng phổi | E20: Phẫu thuật bóc kén màng phổi | F20: P1 | G20: 2827600 | H20: 0 | I20: Chưa bao gồm thuốc và oxy | J20: =VLOOKUP(#REF!,'[2]PL4.PT gây tê'!$D$9:$W$767,20,0) -> #REF! | K20: =J20-#REF! -> #REF!
A21: 11 | B21: 12.0171.0400 | C21: 12.171 | D21: Phẫu thuật cắt kén khí phổi | E21: Phẫu thuật cắt kén khí phổi | F21: P1 | G21: 2827600 | H21: 0 | I21: Chưa bao gồm thuốc và oxy | J21: =VLOOKUP(#REF!,'[2]PL4.PT gây tê'!$D$9:$W$767,20,0) -> #REF! | K21: =J21-#REF! -> #REF!
A22: 12 | B22: 03.2629.0407 | C22: 3.2629 | D22: Cắt u máu, u bạch huyết đường kính trên 10 cm | E22: Cắt u máu, u bạch huyết đường kính trên 10 cm | F22: P1 | G22: 2533500 | H22: 0 | I22: Chưa bao gồm thuốc và oxy | J22: =VLOOKUP(#REF!,'[2]PL4.PT gây tê'!$D$9:$W$767,20,0) -> #REF! | K22: =J22-#REF! -> #REF!
... A30: 20 | B30: 03.2708.0416 | C30: 3.2708 | D30: Cắt thận và niệu quản do u niệu quản, u đường bài xuất | E30: Cắt thận và niệu quản do u niệu quản, u đường bài xuất | F30: P1 | G30: 3721500 | H30: 0 | I30: Chưa bao gồm dao siêu âm hoặc dao hàn mô hoặc dao hàn mạch, thuốc và oxy | J30: =VLOOKUP(#REF!,'[2]PL4.PT gây tê'!$D$9:$W$767,20,0) -> #REF! | K30: =J30-#REF! -> #REF!
A31: 21 | B31: 03.2713.0416 | C31: 3.2713 | D31: Cắt ung thư thận | E31: Cắt ung thư thận | G31: 3721500 | H31: 0 | I31: Chưa bao gồm dao siêu âm hoặc dao hàn mô hoặc dao hàn mạch, thuốc và oxy | J31: =VLOOKUP(#REF!,'[2]PL4.PT gây tê'!$D$9:$W$767,20,0) -> #REF! | K31: =J31-#REF! -> #REF!
A32: 22 | B32: 03.2714.0416 | C32: 3.2714 | D32: Cắt u thận kèm lấy huyết khối tĩnh mạch chủ dưới | E32: Cắt u thận kèm lấy huyết khối tĩnh mạch chủ dưới | F32: P1 | G32: 3721500 | H32: 0 | I32: Chưa bao gồm dao siêu âm hoặc dao hàn mô hoặc dao hàn mạch, thuốc và oxy | J32: =VLOOKUP(#REF!,'[2]PL4.PT gây tê'!$D$9:$W$767,20,0) -> #REF! | K32: =J32-#REF! -> #REF!
A33: 23 | B33: 03.2715.0416 | C33: 3.2715 | D33: Cắt toàn bộ thận và niệu quản | E33: Cắt toàn bộ thận và niệu quản | F33: P1 | G33: 3721500 | H33: 0 | I33: Chưa bao gồm dao siêu âm hoặc dao hàn mô hoặc dao hàn mạch, thuốc và oxy | J33: =VLOOKUP(#REF!,'[2]PL4.PT gây tê'!$D$9:$W$767,20,0) -> #REF! | K33: =J33-#REF! -> #REF!
A34: 24 | B34: 03.3470.0416 | C34: 3.3470 | D34: Cắt toàn bộ thận và niệu quản | E34: Cắt toàn bộ thận và niệu quản | F34: P1 | G34: 3721500 | H34: 0 | I34: Chưa bao gồm dao siêu âm hoặc dao hàn mô hoặc dao hàn mạch, thuốc và oxy | J34: =VLOOKUP(#REF!,'[2]PL4.PT gây tê'!$D$9:$W$767,20,0) -> #REF! | K34: =J34-#REF! -> #REF!
A35: 25 | B35: 03.3471.0416 | C35: 3.3471 | D35: Cắt thận đơn thuần | E35: Cắt thận đơn thuần | F35: P1 | G35: 3721500 | H35: 0 | I35: Chưa bao gồm dao siêu âm hoặc dao hàn mô hoặc dao hàn mạch, thuốc và oxy | J35: =VLOOKUP(#REF!,'[2]PL4.PT gây tê'!$D$9:$W$767,20,0) -> #REF! | K35: =J35-#REF! -> #REF!
A36: 26 | B36: 03.3472.0416 | C36: 3.3472 | D36: Cắt một nửa thận | E36: Cắt một nửa thận | F36: P1 | G36: 3721500 | H36: 0 | I36: Chưa bao gồm dao siêu âm hoặc dao hàn mô hoặc dao hàn mạch, thuốc và oxy | J36: =VLOOKUP(#REF!,'[2]PL4.PT gây tê'!$D$9:$W$767,20,0) -> #REF! | K36: =J36-#REF! -> #REF!
A37: 27 | B37: 10.0301.0416 | C37: 10.301 | D37: Cắt thận thận phụ (thận dư số) với niệu quản lạc chỗ | E37: Cắt thận thận phụ (thận dư số) với niệu quản lạc chỗ | F37: P1 | G37: 3721500 | H37: 0 | I37: Chưa bao gồm dao siêu âm hoặc dao hàn mô hoặc dao hàn mạch, thuốc và oxy | J37: =VLOOKUP(#REF!,'[2]PL4.PT gây tê'!$D$9:$W$767,20,0) -> #REF! | K37: =J37-#REF! -> #REF!
A38: 28 | B38: 10.0302.0416 | C38: 10.302 | D38: Cắt toàn bộ thận và niệu quản | E38: Cắt toàn bộ thận và niệu quản | F38: PDB | G38: 3721500 | H38: 0 | I38: Chưa bao gồm dao siêu âm hoặc dao hàn mô hoặc dao hàn mạch, thuốc và oxy | J38: =VLOOKUP(#REF!,'[2]PL4.PT gây tê'!$D$9:$W$767,20,0) -> #REF! | K38: =J38-#REF! -> #REF!
A39: 29 | B39: 10.0303.0416 | C39: 10.303 | D39: Cắt thận đơn thuần | E39: Cắt thận đơn thuần | F39: P1 | G39: 3721500 | H39: 0 | I39: Chưa bao gồm dao siêu âm hoặc dao hàn mô hoặc dao hàn mạch, thuốc và oxy | J39: =VLOOKUP(#REF!,'[2]PL4.PT gây tê'!$D$9:$W$767,20,0) -> #REF! | K39: =J39-#REF! -> #REF!
A40: 30 | B40: 10.0304.0416 | C40: 10.304 | D40: Cắt một nửa thận (cắt thận bán phần) | E40: Cắt một nửa thận (cắt thận bán phần) | F40: P1 | G40: 3721500 | H40: 0 | I40: Chưa bao gồm dao siêu âm hoặc dao hàn mô hoặc dao hàn mạch, thuốc và oxy | J40: =VLOOKUP(#REF!,'[2]PL4.PT gây tê'!$D$9:$W$767,20,0) -> #REF! | K40: =J40-#REF! -> #REF!
A41: 31 | B41: 10.0322.0416 | C41: 10.322 | D41: Cắt thận rộng rãi + nạo vét hạch | E41: Cắt thận rộng rãi + nạo vét hạch | F41: PDB | G41: 3721500 | H41: 0 | I41: Chưa bao gồm dao siêu âm hoặc dao hàn mô hoặc dao hàn mạch, thuốc và oxy | J41: =VLOOKUP(#REF!,'[2]PL4.PT gây tê'!$D$9:$W$767,20,0) -> #REF! | K41: =J41-#REF! -> #REF!
A42: 32 | B42: 12.0257.0416 | C42: 12.257 | D42: Cắt thận và niệu quản do u niệu quản, u đường tiết niệu | E42: Cắt thận và niệu quản do u niệu quản, u đường tiết niệu | F42: P1 | G42: 3721500 | H42: 0 | I42: Chưa bao gồm dao siêu âm hoặc dao hàn mô hoặc dao hàn mạch, thuốc và oxy | J42: =VLOOKUP(#REF!,'[2]PL4.PT gây tê'!$D$9:$W$767,20,0) -> #REF! | K42: =J42-#REF! -> #REF!
A43: 33 | B43: 12.0259.0416 | C43: 12.259 | D43: Cắt ung thư thận có hoặc không vét hạch hệ thống | E43: Cắt ung thư thận có hoặc không vét hạch hệ thống | G43: 3721500 | H43: 0 | I43: Chưa bao gồm dao siêu âm hoặc dao hàn mô hoặc dao hàn mạch, thuốc và oxy | J43: =VLOOKUP(#REF!,'[2]PL4.PT gây tê'!$D$9:$W$767,20,0) -> #REF! | K43: =J43-#REF! -> #REF!
A44: 34 | B44: 12.0260.0416 | C44: 12.260 | D44: Cắt toàn bộ thận và niệu quản | E44: Cắt toàn bộ thận và niệu quản | F44: P1 | G44: 3721500 | H44: 0 | I44: Chưa bao gồm dao siêu âm hoặc dao hàn mô hoặc dao hàn mạch, thuốc và oxy | J44: =VLOOKUP(#REF!,'[2]PL4.PT gây tê'!$D$9:$W$767,20,0) -> #REF! | K44: =J44-#REF! -> #REF!
A45: 35 | B45: 03.3475.0421 | C45: 3.3475 | D45: Lấy sỏi san hô thận | E45: Lấy sỏi san hô thận | F45: P2 | G45: 3688400 | H45: 0 | I45: Chưa bao gồm thuốc và oxy | J45: =VLOOKUP(#REF!,'[2]PL4.PT gây tê'!$D$9:$W$767,20,0) -> #REF! | K45: =J45-#REF! -> #REF!
A46: 36 | B46: 03.3476.0421 | C46: 3.3476 | D46: Lấy sỏi mở bể thận trong xoang | E46: Lấy sỏi mở bể thận trong xoang | F46: P2 | G46: 3688400 | H46: 0 | I46: Chưa bao gồm thuốc và oxy | J46: =VLOOKUP(#REF!,'[2]PL4.PT gây tê'!$D$9:$W$767,20,0) -> #REF! | K46: =J46-#REF! -> #REF!
A47: 37 | B47: 03.3477.0421 | C47: 3.3477 | D47: Lấy sỏi mở bể thận, đài thận có dẫn lưu thận | E47: Lấy sỏi mở bể thận, đài thận có dẫn lưu thận | F47: P2 | G47: 3688400 | H47: 0 | I47: Chưa bao gồm thuốc và oxy | J47: =VLOOKUP(#REF!,'[2]PL4.PT gây tê'!$D$9:$W$767,20,0) -> #REF! | K47: =J47-#REF! -> #REF!
A48: 38 | B48: 03.3479.0421 | C48: 3.3479 | D48: Lấy sỏi bể thận ngoài xoang | E48: Lấy sỏi bể thận ngoài xoang | F48: P2 | G48: 3688400 | H48: 0 | I48: Chưa bao gồm thuốc và oxy | J48: =VLOOKUP(#REF!,'[2]PL4.PT gây tê'!$D$9:$W$767,20,0) -> #REF! | K48: =J48-#REF! -> #REF!
A49: 39 | B49: 03.3492.0421 | C49: 3.3492 | D49: Lấy sỏi niệu quản | E49: Lấy sỏi niệu quản | F49: P1 | G49: 3688400 | H49: 0 | I49: Chưa bao gồm thuốc và oxy | J49: =VLOOKUP(#REF!,'[2]PL4.PT gây tê'!$D$9:$W$767,20,0) -> #REF! | K49: =J49-#REF! -> #REF!
...

Sheet PL 05A_GIÁ CĐHA PACS_BVĐKHD 
B1: PHỤ LỤC 05A
B2: GIÁ DỊCH VỤ KỸ THUẬT CHẨN ĐOÁN HÌNH ẢNH SỬ DỤNG HỆ THỐNG LƯU TRỮ VÀ TRUYỀN TẢI HÌNH ẢNH (PACS)
B3: (Kèm theo Nghị quyết số 43/NQ-HĐND ngày 25 tháng 9 năm 2026 của Hội đồng nhân dân thành phố Hải Phòng)
H4: Đơn vị tính: đồng
A5: STT | B5: STT (NQ43) | C5: Mã tương đương | D5: Tên dịch vụ kỹ thuật theo Thông tư số 23/2024/TT-BYT | E5: Tên dịch vụ phê duyệt giá | F5: Phân loại PTTT | G5: Mức giá | H5: Ghi chú
G6: Bệnh viện đa khoa Hải Dương
B7: A | C7: B | D7: C | E7: D | F7: 1 | G7: 1 | H7: 6
A8: 1 | B8: 1 | C8: 18.0067.0028 | D8: Chụp X-quang sọ thẳng/nghiêng | E8: Chụp X-quang sọ thẳng/nghiêng | G8: 59800 | H8: Áp dụng cho 01 vị trí | I8: 1800670028 | J8: 59800
A9: 2 | B9: 2 | C9: 18.0068.0028 | D9: Chụp X-quang mặt thẳng nghiêng | E9: Chụp X-quang mặt thẳng nghiêng | G9: 59800 | H9: Áp dụng cho 01 vị trí | I9: 1800680028 | J9: 59800
A10: 3 | B10: 3 | C10: 18.0069.0028 | D10: Chụp X-quang mặt thấp hoặc mặt cao | E10: Chụp X-quang mặt thấp hoặc mặt cao | G10: 59800 | H10: Áp dụng cho 01 vị trí | I10: 1800690028 | J10: 59800
A11: 4 | B11: 4 | C11: 18.0070.0028 | D11: Chụp X-quang sọ tiếp tuyến | E11: Chụp X-quang sọ tiếp tuyến | G11: 59800 | H11: Áp dụng cho 01 vị trí | I11: 1800700028 | J11: 59800
A12: 5 | B12: 5 | C12: 18.0071.0028 | D12: Chụp X-quang hốc mắt thẳng nghiêng | E12: Chụp X-quang hốc mắt thẳng nghiêng | G12: 59800 | H12: Áp dụng cho 01 vị trí | I12: 1800710028 | J12: 59800
A13: 6 | B13: 6 | C13: 18.0072.0028 | D13: Chụp X-quang Blondeau | E13: Chụp X-quang Blondeau [Blondeau + Hirtz] | G13: 59800 | H13: Áp dụng cho 01 vị trí | I13: 1800720028 | J13: 59800
A14: 7 | B14: 7 | C14: 18.0073.0028 | D14: Chụp X-quang Hirtz | E14: Chụp X-quang Hirtz | G14: 59800 | H14: Áp dụng cho 01 vị trí | I14: 1800730028 | J14: 59800
A15: 8 | B15: 8 | C15: 18.0074.0028 | D15: Chụp X-quang hàm chếch một bên | E15: Chụp X-quang hàm chếch một bên | G15: 59800 | H15: Áp dụng cho 01 vị trí | I15: 1800740028 | J15: 59800
A16: 9 | B16: 9 | C16: 18.0075.0028 | D16: Chụp X-quang xương chính mũi nghiêng hoặc tiếp tuyến | E16: Chụp X-quang xương chính mũi nghiêng hoặc tiếp tuyến | G16: 59800 | H16: Áp dụng cho 01 vị trí | I16: 1800750028 | J16: 59800
A17: 10 | B17: 10 | C17: 18.0076.0028 | D17: Chụp X-quang hố yên thẳng hoặc nghiêng | E17: Chụp X-quang hố yên thẳng hoặc nghiêng | G17: 59800 | H17: Áp dụng cho 01 vị trí | I17: 1800760028 | J17: 59800
A18: 11 | B18: 11 | C18: 18.0077.0028 | D18: Chụp X-quang Chausse III | E18: Chụp X-quang Chausse III | G18: 59800 | H18: Áp dụng cho 01 vị trí | I18: 1800770028 | J18: 59800
A19: 12 | B19: 12 | C19: 18.0078.0028 | D19: Chụp X-quang Schuller | E19: Chụp X-quang Schuller | G19: 59800 | H19: Áp dụng cho 01 vị trí | I19: 1800780028 | J19: 59800
... A97: 90 | B97: 90 | C97: 18.0118.0030 | D97: Chụp X-quang toàn bộ chi dưới thẳng | E97: Chụp X-quang toàn bộ chi dưới thẳng | G97: 85400 | H97: Áp dụng cho 01 vị trí | I97: 1801180030 | J97: 93800
A98: 91 | B98: 91 | C98: 18.0124.0034 | D98: Chụp X-quang thực quản cổ nghiêng | E98: Chụp X-quang thực quản cổ nghiêng | G98: 210700 | I98: 1801240034 | J98: 245100
A99: 92 | B99: 92 | C99: 18.0130.0035 | D99: Chụp X-quang thực quản dạ dày | E99: Chụp X-quang thực quản dạ dày | G99: 223100 | I99: 1801300035 | J99: 245100
A100: 93 | B100: 93 | C100: 18.0131.0035 | D100: Chụp X-quang ruột non | E100: Chụp X-quang ruột non | G100: 223100 | I100: 1801310035 | J100: 245100
A101: 94 | B101: 94 | C101: 18.0132.0036 | D101: Chụp X-quang đại tràng | E101: Chụp X-quang đại tràng | G101: 264700 | I101: 1801320036 | J101: 285100
A102: 95 | B102: 95 | C102: 18.0133.0019 | D102: Chụp X-quang đường mật qua Kehr | E102: Chụp X-quang đường mật qua Kehr | G102: 317100 | H102: Chưa bao gồm thuốc cản quang. | I102: 1801330019 | J102: 317100
A103: 96 | B103: 96 | C103: 18.0135.0025 | D103: Chụp X-quang đường rò | E103: Chụp X-quang đường rò | G103: 483100 | I103: 1801350025 | J103: 483100
A104: 97 | B104: 97 | C104: 18.0136.0039 | D104: Chụp X-quang tuyến nước bọt | E104: Chụp X-quang tuyến nước bọt | G104: 449900 | H104: Chưa bao gồm ống thông, kim chọc chuyên dụng. | I104: 1801360039 | J104: 449900
A105: 98 | B105: 98 | C105: 18.0139.0039 | D105: Chụp X-quang ống tuyến sữa | E105: Chụp X-quang ống tuyến sữa | G105: 449900 | H105: Chưa bao gồm ống thông, kim chọc chuyên dụng. | I105: 1801390039 | J105: 449900
A106: 99 | B106: 99 | C106: 18.0142.0033 | D106: Chụp X-quang niệu quản - bể thận ngược dòng | E106: Chụp X-quang niệu quản - bể thận ngược dòng | G106: 576700 | I106: 1801420033 | J106: 585100
A107: 100 | B107: 100 | C107: 18.0143.0033 | D107: Chụp X-quang niệu đạo bàng quang ngược dòng | E107: Chụp X-quang niệu đạo bàng quang ngược dòng | G107: 576700 | I107: 1801430033 | J107: 585100
A108: 101 | B108: 101 | C108: 18.0140.0032 | D108: Chụp X-quang niệu đồ tĩnh mạch (UIV) | E108: Chụp X-quang niệu đồ tĩnh mạch (UIV) | G108: 594400 | I108: 1801400032 | J108: 602100
A109: 102 | B109: 102 | C109: 18.0141.0032 | D109: Chụp X-quang bể thận - niệu quản xuôi dòng | E109: Chụp X-quang bể thận - niệu quản xuôi dòng | G109: 594400 | I109: 1801410032 | J109: 602100
A110: 103 | B110: 103 | C110: 18.0144.0022 | D110: Chụp X-quang bàng quang trên xương mu | E110: Chụp X-quang bàng quang trên xương mu | G110: 274700 | I110: 1801440022 | J110: 274700
A111: 104 | B111: 104 | C111: 18.0138.0031 | D111: Chụp X-quang tử cung vòi trứng | E111: Chụp X-quang tử cung vòi trứng | G111: 446700 | I111: 1801380031 | J111: 446700
A112: 105 | B112: 105 | C112: 18.0148.0027 | D112: Chụp X-quang bao rễ thần kinh | E112: Chụp X-quang bao rễ thần kinh | G112: 422100 | I112: 1801480027 | J112: 422100
A113: 106 | B113: 106 | C113: 18.0126.0026 | D113: Chụp X-quang tuyến vú | E113: Chụp X-quang tuyến vú | G113: 70400 | I113: 1801260026 | J113: 70400
A114: 107 | B114: 107 | C114: 18.0704.0038 | D114: Chụp X-quang số hóa cắt lớp tuyến vú 1 bên (tomosynthesis) | E114: Chụp X-quang số hóa cắt lớp tuyến vú 1 bên (tomosynthesis) | G114: 948400 | I114: 1807040038 | J114: 948400
A115: 108 | B115: 108 | C115: 18.0690.0182 | D115: Chọc sinh thiết vú dưới định vị nổi (Stereotaxic) | E115: Chọc sinh thiết vú dưới định vị nổi (Stereotaxic) | G115: 1677500 | I115: 1806900182 | J115: 1677500
A116: 109 | B116: 109 | C116: 18.0149.0040 | D116: Chụp CLVT sọ não không tiêm thuốc cản quang (từ 1-32 dãy) | E116: Chụp CLVT sọ não không tiêm thuốc cản quang (từ 1-32 dãy) | G116: 502400 | I116: 1801490040 | J116: 502400
A117: 110 | B117: 110 | C117: 18.0155.0040 | D117: Chụp CLVT hàm - mặt không tiêm thuốc cản quang (từ 1-32 dãy) | E117: Chụp CLVT hàm - mặt không tiêm thuốc cản quang (từ 1-32 dãy) | G117: 502400 | I117: 1801550040 | J117: 502400
...

Sheet PL 05B_GIÁ CĐHA PASC_TTBVSKCB
D1: PHỤ LỤC 05B
A2: DỊCH VỤ KỸ THUẬT CHẨN ĐOÁN HÌNH ẢNH SỬ DỤNG HỆ THỐNG LƯU TRỮ VÀ TRUYỀN TẢI HÌNH ẢNH (PACS)
A3: (Kèm theo Nghị quyết số 43/NQ-HĐND ngày 25 tháng 9 năm 2026 của Hội đồng nhân dân thành phố Hải Phòng)
G4: Đơn vị tính: đồng
A5: STT | B5: STT (NQ43) | C5: Mã tương đương | D5: Tên dịch vụ kỹ thuật theo Thông tư số 23/2024/TT-BYT | E5: Tên dịch vụ phê duyệt giá | G5: Ghi chú
F6: Trung tâm Bảo vệ sức khỏe cán bộ thuộc Bệnh viện đa khoa Hải Dương
B7: A | C7: B | D7: C | E7: D | F7: 7 | G7: 8
A8: 1 | B8: 1 | C8: 18.0067.0028 | D8: Chụp X-quang sọ thẳng/nghiêng | E8: Chụp X-quang sọ thẳng/nghiêng | F8: 59800 | G8: Áp dụng cho 01 vị trí | H8: 1800670028 | I8: 59800 | J8: 59800
A9: 2 | B9: 2 | C9: 18.0068.0028 | D9: Chụp X-quang mặt thẳng nghiêng | E9: Chụp X-quang mặt thẳng nghiêng | F9: 59800 | G9: Áp dụng cho 01 vị trí | H9: 1800680028 | I9: 59800 | J9: 59800
A10: 3 | B10: 3 | C10: 18.0069.0028 | D10: Chụp X-quang mặt thấp hoặc mặt cao | E10: Chụp X-quang mặt thấp hoặc mặt cao | G10: Áp dụng cho 01 vị trí | H10: 1800690028 | I10: 59800 | J10: 59800
A11: 4 | B11: 4 | C11: 18.0070.0028 | D11: Chụp X-quang sọ tiếp tuyến | E11: Chụp X-quang sọ tiếp tuyến | G11: Áp dụng cho 01 vị trí | H11: 1800700028 | I11: 59800 | J11: 59800
A12: 5 | B12: 5 | C12: 18.0071.0028 | D12: Chụp X-quang hốc mắt thẳng nghiêng | E12: Chụp X-quang hốc mắt thẳng nghiêng | G12: Áp dụng cho 01 vị trí | H12: 1800710028 | I12: 59800 | J12: 59800
A13: 6 | B13: 6 | C13: 18.0072.0028 | D13: Chụp X-quang Blondeau | E13: Chụp X-quang Blondeau [Blondeau + Hirtz] | F13: 59800 | G13: Áp dụng cho 01 vị trí | H13: 1800720028 | I13: 59800 | J13: 59800
A14: 7 | B14: 7 | C14: 18.0073.0028 | D14: Chụp X-quang Hirtz | E14: Chụp X-quang Hirtz | F14: 59800 | G14: Áp dụng cho 01 vị trí | H14: 1800730028 | I14: 59800 | J14: 59800
A15: 8 | B15: 12 | C15: 18.0078.0028 | D15: Chụp X-quang Schuller | E15: Chụp X-quang Schuller | F15: 59800 | G15: Áp dụng cho 01 vị trí | H15: 1800780028 | I15: 59800 | J15: 59800
A16: 9 | B16: 14 | C16: 18.0080.0028 | D16: Chụp X-quang khớp thái dương hàm | E16: Chụp X-quang khớp thái dương hàm | F16: 59800 | G16: Áp dụng cho 01 vị trí | H16: 1800800028 | I16: 59800 | J16: 59800
A17: 10 | B17: 16 | C17: 18.0086.0028 | D17: Chụp X-quang cột sống cổ thẳng nghiêng | E17: Chụp X-quang cột sống cổ thẳng nghiêng | F17: 59800 | G17: Áp dụng cho 01 vị trí | H17: 1800860028 | I17: 59800 | J17: 59800
A18: 11 | B18: 19 | C18: 18.0090.0028 | D18: Chụp X-quang cột sống ngực thẳng nghiêng hoặc chếch | E18: Chụp X-quang cột sống ngực thẳng nghiêng hoặc chếch | F18: 59800 | G18: Áp dụng cho 01 vị trí | H18: 1800900028 | I18: 59800 | J18: 59800
A19: 12 | B19: 20 | C19: 18.0091.0028 | D19: Chụp X-quang cột sống thắt lưng thẳng nghiêng | E19: Chụp X-quang cột sống thắt lưng thẳng nghiêng | F19: 59800 | G19: Áp dụng cho 01 vị trí | H19: 1800910028 | I19: 59800 | J19: 59800
A20: 13 | B20: 22 | C20: 18.0093.0028 | D20: Chụp X-quang cột sống thắt lưng L5-S1 thẳng nghiêng | E20: Chụp X-quang cột sống thắt lưng L5-S1 thẳng nghiêng | F20: 59800 | G20: Áp dụng cho 01 vị trí | H20: 1800930028 | I20: 59800 | J20: 59800
A21: 14 | B21: 25 | C21: 18.0096.0028 | D21: Chụp X-quang cột sống cùng cụt thẳng nghiêng | E21: Chụp X-quang cột sống cùng cụt thẳng nghiêng | F21: 59800 | G21: Áp dụng cho 01 vị trí | H21: 1800960028 | I21: 59800 | J21: 59800
A22: 15 | B22: 26 | C22: 18.0098.0028 | D22: Chụp X-quang khung chậu thẳng | E22: Chụp X-quang khung chậu thẳng | F22: 59800 | G22: Áp dụng cho 01 vị trí | H22: 1800980028 | I22: 59800 | J22: 59800
A23: 16 | B23: 27 | C23: 18.0099.0028 | D23: Chụp X-quang xương đòn thẳng hoặc chếch | E23: Chụp X-quang xương đòn thẳng hoặc chếch | F23: 59800 | G23: Áp dụng cho 01 vị trí | H23: 1800990028 | I23: 59800 | J23: 59800
A24: 17 | B24: 28 | C24: 18.0100.0028 | D24: Chụp X-quang khớp vai thẳng | E24: Chụp X-quang khớp vai thẳng | F24: 59800 | G24: Áp dụng cho 01 vị trí | H24: 1801000028 | I24: 59800 | J24: 59800
... A60: 53 | B60: 86 | C60: 18.0125.0029 | D60: Chụp X-quang bụng không chuẩn bị thẳng hoặc nghiêng | E60: Chụp X-quang bụng không chuẩn bị thẳng hoặc nghiêng [thẳng và nghiêng] | F60: 80300 | G60: Áp dụng cho 01 vị trí | H60: 1801250029 | I60: 80300 | J60: 80300
C62: Tổng số: 53 danh mục

Sheet CPQL 2021-2025
A1: BẢNG PHÂN LOẠI CHI PHÍ QUẢN LÝ - NĂM 2021 ĐẾN 2025
A2: Bệnh viện Đa khoa Hải Dương | Mã ĐVQHNS: 1019976 | Mã chương: 423 | Đơn vị tính: đồng
A3: Thanh toán dịch vụ công cộng (điện, nước, nhiên liệu,…): 50% Chi phí văn phòng phẩm, công cụ dụng cụ, sửa chữa công nghệ thông tin: 50% Chi phí vệ sinh công nghiệp: 15% Chi sửa chữa nhỏ các khoa phòng: 50% Năm 2023-2025: Chi học phí cán bộ (thuê đào tạo cán bộ) số chi lấy từ quỹ PTHĐSN Chi thường xuyên không bao gồm chi cho hoạt động cho thuê địa điểm (gồm thuế TNDN và chi tiền bồi dưỡng cho bộ phận quản lý hoạt động dịch vụ)
A4: Khoản | B4: Tiểu mục | C4: Nội dung chi | D4: Tổng số 2021 | E4: Phân loại 2021 | F4: Tỷ lệ 2021 | G4: CP QL 2021 | H4: Tổng số 2022 | I4: Phân loại 2022 | J4: Tỷ lệ 2022 | K4: CP QL 2022 | L4: Tổng số 2023 | M4: Phân loại 2023 | N4: Tỷ lệ 2023 | O4: CP QL 2023 | P4: Tổng số 2024 | Q4: Phân loại 2024 | R4: Tỷ lệ 2024 | S4: CP QL 2024 | T4: Tổng số 2025 | U4: Phân loại 2025 | V4: Tỷ lệ 2025 | W4: CP QL 2025
C5: Kinh phí thường xuyên/tự chủ | D5: ='[3]2021'!F5 -> 535485505118 | G5: ='[3]2021'!I5 -> 2.0474536e+10 | H5: ='[3]2022'!F5 -> 467816142949 | K5: ='[3]2022'!I5 -> 1.9517592e+10 | L5: ='[3]2023'!F5 -> 425087252349 | O5: ='[3]2023'!I5 -> 2.1826303e+10 | P5: ='[3]2024'!F5 -> 453589626640 | S5: ='[3]2024'!I5 -> 2.1955599e+10 | T5: ='[3]2025'!F5 -> 608812794737 | W5: ='[3]2025'!I5 -> 25409196394
A6: 6000 | C6: Tiền lương | D6: ='[3]2021'!F6 -> 51979202651 | G6: ='[3]2021'!I6 -> 0 | H6: ='[3]2022'!F6 -> 52098641012 | K6: ='[3]2022'!I6 -> 0 | L6: ='[3]2023'!F6 -> 63220514818 | O6: ='[3]2023'!I6 -> 0 | P6: ='[3]2024'!F6 -> 72216897267 | S6: ='[3]2024'!I6 -> 0 | T6: ='[3]2025'!F6 -> 99407480132 | W6: ='[3]2025'!I6 -> 0
B7: 6001 | C7: ='[3]2021'!E7 -> Lương theo ngạch, bậc | D7: ='[3]2021'!F7 -> 51979202651 | E7: ='[3]2021'!G7 -> Ngoài phạm vi (cấu phần lương) | F7: ='[3]2021'!H7 -> 0 | G7: ='[3]2021'!I7 -> 0 | H7: ='[3]2022'!F7 -> 52098641012 | I7: ='[3]2022'!G7 -> Ngoài phạm vi (cấu phần lương) | J7: ='[3]2022'!H7 -> 0 | K7: ='[3]2022'!I7 -> 0 | L7: ='[3]2023'!F7 -> 63220514818 | M7: ='[3]2023'!G7 -> Ngoài phạm vi (cấu phần lương) | N7: ='[3]2023'!H7 -> 0 | O7: ='[3]2023'!I7 -> 0 | P7: ='[3]2024'!F7 -> 71022039267 | Q7: ='[3]2024'!G7 -> Ngoài phạm vi (cấu phần lương) | R7: ='[3]2024'!H7 -> 0 | S7: ='[3]2024'!I7 -> 0 | T7: ='[3]2025'!F7 -> 98685627359 | U7: ='[3]2025'!G7 -> Ngoài phạm vi (cấu phần lương) | V7: ='[3]2025'!H7 -> 0 | W7: ='[3]2025'!I7 -> 0
B8: 6049 | C8: ='[3]2024'!E8 -> Lương khác | P8: ='[3]2024'!F8 -> 1194858000 | Q8: ='[3]2024'!G8 -> Ngoài phạm vi (cấu phần lương) | R8: ='[3]2024'!H8 -> 0 | S8: ='[3]2024'!I8 -> 0
B9: 6003 | C9: ='[3]2025'!E8 -> Lương hợp đồng theo chế độ | T9: ='[3]2025'!F8 -> 721852773 | U9: ='[3]2025'!G8 -> Ngoài phạm vi (cấu phần lương) | V9: ='[3]2025'!H8 -> 0 | W9: ='[3]2025'!I8 -> 0
A10: 6050 | C10: Tiền công trả cho vị trí lao động thường xuyên theo HĐ | D10: ='[3]2021'!F8 -> 798564318 | G10: ='[3]2021'!I8 -> 0 | H10: ='[3]2022'!F8 -> 2202784228 | K10: ='[3]2022'!I8 -> 0 | L10: ='[3]2023'!F8 -> 1600011353 | O10: ='[3]2023'!I8 -> 0 | P10: ='[3]2024'!F9 -> 578575000 | S10: ='[3]2024'!I9 -> 0 | T10: ='[3]2025'!F9 -> 4943656423 | W10: ='[3]2025'!I9 -> 0
B11: 6051 | C11: ='[3]2021'!E9 -> Tiền công trả cho vị trí lao động thường xuyên theo HĐ | D11: ='[3]2021'!F9 -> 798564318 | E11: ='[3]2021'!G9 -> Ngoài phạm vi (cấu phần lương) | F11: ='[3]2021'!H9 -> 0 | G11: ='[3]2021'!I9 -> 0 | H11: ='[3]2022'!F9 -> 2202784228 | I11: ='[3]2022'!G9 -> Ngoài phạm vi (cấu phần lương) | J11: ='[3]2022'!H9 -> 0 | K11: ='[3]2022'!I9 -> 0 | L11: ='[3]2023'!F9 -> 1600011353 | M11: ='[3]2023'!G9 -> Ngoài phạm vi (cấu phần lương) | N11: ='[3]2023'!H9 -> 0 | O11: ='[3]2023'!I9 -> 0 | P11: ='[3]2024'!F10 -> 578575000 | Q11: ='[3]2024'!G10 -> Ngoài phạm vi (cấu phần lương) | R11: ='[3]2024'!H10 -> 0 | S11: ='[3]2024'!I10 -> 0 | T11: ='[3]2025'!F10 -> 4943656423 | U11: ='[3]2025'!G10 -> Ngoài phạm vi (cấu phần lương) | V11: ='[3]2025'!H10 -> 0 | W11: ='[3]2025'!I10 -> 0
A12: 6100 | C12: Phụ cấp lương | D12: ='[3]2021'!F10 -> 47337831335 | G12: ='[3]2021'!I10 -> 0 | H12: ='[3]2022'!F10 -> 51553567066 | K12: ='[3]2022'!I10 -> 0 | L12: ='[3]2023'!F10 -> 51956864706 | O12: ='[3]2023'!I10 -> 0 | P12: ='[3]2024'!F11 -> 54180305977 | S12: ='[3]2024'!I11 -> 0 | T12: ='[3]2025'!F11 -> 81269251045 | W12: ='[3]2025'!I11 -> 0
B13: 6101 | C13: ='[3]2021'!E11 -> Phụ cấp chức vụ | D13: ='[3]2021'!F11 -> 1421013000 | E13: ='[3]2021'!G11 -> Ngoài phạm vi (cấu phần lương) | F13: ='[3]2021'!H11 -> 0 | G13: ='[3]2021'!I11 -> 0 | H13: ='[3]2022'!F11 -> 1439191000 | I13: ='[3]2022'!G11 -> Ngoài phạm vi (cấu phần lương) | J13: ='[3]2022'!H11 -> 0 | K13: ='[3]2022'!I11 -> 0 | L13: ='[3]2023'!F11 -> 1477405000 | M13: ='[3]2023'!G11 -> Ngoài phạm vi (cấu phần lương) | N13: ='[3]2023'!H11 -> 0 | O13: ='[3]2023'!I11 -> 0 | P13: ='[3]2024'!F12 -> 1659420000 | Q13: ='[3]2024'!G12 -> Ngoài phạm vi (cấu phần lương) | R13: ='[3]2024'!H12 -> 0 | S13: ='[3]2024'!I12 -> 0 | T13: ='[3]2025'!F12 -> 2070556956 | U13: ='[3]2025'!G12 -> Ngoài phạm vi (cấu phần lương) | V13: ='[3]2025'!H12 -> 0 | W13: ='[3]2025'!I12 -> 0
B14: 6105 | C14: ='[3]2021'!E12 -> Phụ cấp làm đêm, làm thêm giờ | D14: ='[3]2021'!F12 -> 1598236253 | E14: ='[3]2021'!G12 -> Ngoài phạm vi (cấu phần lương) | F14: ='[3]2021'!H12 -> 0 | G14: ='[3]2021'!I12 -> 0 | H14: ='[3]2022'!F12 -> 2933033884 | I14: ='[3]2022'!G12 -> Ngoài phạm vi (cấu phần lương) | J14: ='[3]2022'!H12 -> 0 | K14: ='[3]2022'!I12 -> 0 | L14: ='[3]2023'!F12 -> 3671617833 | M14: ='[3]2023'!G12 -> Ngoài phạm vi (cấu phần lương) | N14: ='[3]2023'!H12 -> 0 | O14: ='[3]2023'!I12 -> 0 | P14: ='[3]2024'!F13 -> 3264896564 | Q14: ='[3]2024'!G13 -> Ngoài phạm vi (cấu phần lương) | R14: ='[3]2024'!H13 -> 0 | S14: ='[3]2024'!I13 -> 0 | T14: ='[3]2025'!F13 -> 5239999948 | U14: ='[3]2025'!G13 -> Ngoài phạm vi (cấu phần lương) | V14: ='[3]2025'!H13 -> 0 | W14: ='[3]2025'!I13 -> 0
B15: 6107 | C15: ='[3]2021'!E13 -> Phụ cấp nặng nhọc, độc hại, nguy hiểm | D15: ='[3]2021'!F13 -> 2510568727 | E15: ='[3]2021'!G13 -> Ngoài phạm vi (cấu phần lương) | F15: ='[3]2021'!H13 -> 0 | G15: ='[3]2021'!I13 -> 0 | H15: ='[3]2022'!F13 -> 2436746000 | I15: ='[3]2022'!G13 -> Ngoài phạm vi (cấu phần lương) | J15: ='[3]2022'!H13 -> 0 | K15: ='[3]2022'!I13 -> 0 | L15: ='[3]2023'!F13 -> 2520052000 | M15: ='[3]2023'!G13 -> Ngoài phạm vi (cấu phần lương) | N15: ='[3]2023'!H13 -> 0 | O15: ='[3]2023'!I13 -> 0 | P15: ='[3]2024'!F14 -> 2963358000 | Q15: ='[3]2024'!G14 -> Ngoài phạm vi (cấu phần lương) | R15: ='[3]2024'!H14 -> 0 | S15: ='[3]2024'!I14 -> 0 | T15: ='[3]2025'!F14 -> 4091490000 | U15: ='[3]2025'!G14 -> Ngoài phạm vi (cấu phần lương) | V15: ='[3]2025'!H14 -> 0 | W15: ='[3]2025'!I14 -> 0
B16: 6113 | C16: ='[3]2021'!E14 -> Phụ cấp trách nhiệm theo nghề, theo công việc | D16: ='[3]2021'!F14 -> 181184000 | E16: ='[3]2021'!G14 -> Ngoài phạm vi (cấu phần lương) | F16: ='[3]2021'!H14 -> 0 | G16: ='[3]2021'!I14 -> 0 | H16: ='[3]2022'!F14 -> 193700000 | I16: ='[3]2022'!G14 -> Ngoài phạm vi (cấu phần lương) | J16: ='[3]2022'!H14 -> 0 | K16: ='[3]2022'!I14 -> 0 | L16: ='[3]2023'!F14 -> 201193580 | M16: ='[3]2023'!G14 -> Ngoài phạm vi (cấu phần lương) | N16: ='[3]2023'!H14 -> 0 | O16: ='[3]2023'!I14 -> 0 | P16: ='[3]2024'!F15 -> 221202000 | Q16: ='[3]2024'!G15 -> Ngoài phạm vi (cấu phần lương) | R16: ='[3]2024'!H15 -> 0 | S16: ='[3]2024'!I15 -> 0 | T16: ='[3]2025'!F15 -> 321282000 | U16: ='[3]2025'!G15 -> Ngoài phạm vi (cấu phần lương) | V16: ='[3]2025'!H15 -> 0 | W16: ='[3]2025'!I15 -> 0
B17: 6114 | C17: ='[3]2021'!E15 -> Phụ cấp trực | D17: ='[3]2021'!F15 -> 6073708550 | E17: ='[3]2021'!G15 -> Ngoài phạm vi (cấu phần lương) | F17: ='[3]2021'!H15 -> 0 | G17: ='[3]2021'!I15 -> 0 | H17: ='[3]2022'!F15 -> 6323948525 | I17: ='[3]2022'!G15 -> Ngoài phạm vi (cấu phần lương) | J17: ='[3]2022'!H15 -> 0 | K17: ='[3]2022'!I15 -> 0 | L17: ='[3]2023'!F15 -> 6106770125 | M17: ='[3]2023'!G15 -> Ngoài phạm vi (cấu phần lương) | N17: ='[3]2023'!H15 -> 0 | O17: ='[3]2023'!I15 -> 0 | P17: ='[3]2024'!F16 -> 5889570576 | Q17: ='[3]2024'!G16 -> Ngoài phạm vi (cấu phần lương) | R17: ='[3]2024'!H16 -> 0 | S17: ='[3]2024'!I16 -> 0 | T17: ='[3]2025'!F16 -> 7039905800 | U17: ='[3]2025'!G16 -> Ngoài phạm vi (cấu phần lương) | V17: ='[3]2025'!H16 -> 0 | W17: ='[3]2025'!I16 -> 0
B18: 6115 | C18: ='[3]2021'!E16 -> Phụ cấp thâm niên vượt khung, thâm niên nghề | D18: ='[3]2021'!F16 -> 115380832 | E18: ='[3]2021'!G16 -> Ngoài phạm vi (cấu phần lương) | F18: ='[3]2021'!H16 -> 0 | G18: ='[3]2021'!I16 -> 0 | H18: ='[3]2022'!F16 -> 100253905 | I18: ='[3]2022'!G16 -> Ngoài phạm vi (cấu phần lương) | J18: ='[3]2022'!H16 -> 0 | K18: ='[3]2022'!I16 -> 0 | L18: ='[3]2023'!F16 -> 80763783 | M18: ='[3]2023'!G16 -> Ngoài phạm vi (cấu phần lương) | N18: ='[3]2023'!H16 -> 0 | O18: ='[3]2023'!I16 -> 0 | P18: ='[3]2024'!F17 -> 87484356 | Q18: ='[3]2024'!G17 -> Ngoài phạm vi (cấu phần lương) | R18: ='[3]2024'!H17 -> 0 | S18: ='[3]2024'!I17 -> 0 | T18: ='[3]2025'!F17 -> 509562612 | U18: ='[3]2025'!G17 -> Ngoài phạm vi (cấu phần lương) | V18: ='[3]2025'!H17 -> 0 | W18: ='[3]2025'!I17 -> 0
B19: 6116 | C19: ='[3]2021'!E17 -> Phụ cấp đặc biệt khác của ngành | D19: ='[3]2021'!F17 -> 23419944573 | E19: ='[3]2021'!G17 -> Ngoài phạm vi (cấu phần lương) | F19: ='[3]2021'!H17 -> 0 | G19: ='[3]2021'!I17 -> 0 | H19: ='[3]2022'!F17 -> 23656670526 | I19: ='[3]2022'!G17 -> Ngoài phạm vi (cấu phần lương) | J19: ='[3]2022'!H17 -> 0 | K19: ='[3]2022'!I17 -> 0 | L19: ='[3]2023'!F17 -> 25360582385 | M19: ='[3]2023'!G17 -> Ngoài phạm vi (cấu phần lương) | N19: ='[3]2023'!H17 -> 0 | O19: ='[3]2023'!I17 -> 0 | P19: ='[3]2024'!F18 -> 30978700182 | Q19: ='[3]2024'!G18 -> Ngoài phạm vi (cấu phần lương) | R19: ='[3]2024'!H18 -> 0 | S19: ='[3]2024'!I18 -> 0 | T19: ='[3]2025'!F18 -> 42990133829 | U19: ='[3]2025'!G18 -> Ngoài phạm vi (cấu phần lương) | V19: ='[3]2025'!H18 -> 0 | W19: ='[3]2025'!I18 -> 0
B20: 6123 | C20: ='[3]2021'!E18 -> Phụ cấp công tác Đảng, Đoàn thể chính trị - xã hội | D20: ='[3]2021'!F18 -> 69732000 | E20: ='[3]2021'!G18 -> Ngoài phạm vi (cấu phần lương) | F20: ='[3]2021'!H18 -> 0 | G20: ='[3]2021'!I18 -> 0 | L20: ='[3]2023'!F18 -> 138159000 | M20: ='[3]2023'!G18 -> Ngoài phạm vi (cấu phần lương) | N20: ='[3]2023'!H18 -> 0 | O20: ='[3]2023'!I18 -> 0 | P20: ='[3]2024'!F19 -> 65056499 | Q20: ='[3]2024'!G19 -> Ngoài phạm vi (cấu phần lương) | R20: ='[3]2024'!H19 -> 0 | S20: ='[3]2024'!I19 -> 0
B21: 6149 | C21: ='[3]2021'!E19 -> Phụ cấp khác | D21: ='[3]2021'!F19 -> 11948063400 | E21: ='[3]2021'!G19 -> Ngoài phạm vi (cấu phần lương) | F21: ='[3]2021'!H19 -> 0 | G21: ='[3]2021'!I19 -> 0 | H21: ='[3]2022'!F18 -> 14470023226 | I21: ='[3]2022'!G18 -> Ngoài phạm vi (cấu phần lương) | J21: ='[3]2022'!H18 -> 0 | K21: ='[3]2022'!I18 -> 0 | L21: ='[3]2023'!F19 -> 12400321000 | M21: ='[3]2023'!G19 -> Ngoài phạm vi (cấu phần lương) | N21: ='[3]2023'!H19 -> 0 | O21: ='[3]2023'!I19 -> 0 | P21: ='[3]2024'!F20 -> 9050617800 | Q21: ='[3]2024'!G20 -> Ngoài phạm vi (cấu phần lương) | R21: ='[3]2024'!H20 -> 0 | S21: ='[3]2024'!I20 -> 0 | T21: ='[3]2025'!F19 -> 19006319900 | U21: ='[3]2025'!G19 -> Ngoài phạm vi (cấu phần lương) | V21: ='[3]2025'!H19 -> 0 | W21: ='[3]2025'!I19 -> 0
A22: 6200 | C22: Tiền thưởng | D22: ='[3]2021'!F20 -> 551936000 | G22: ='[3]2021'!I20 -> 0 | H22: ='[3]2022'!F19 -> 482909000 | K22: ='[3]2022'!I19 -> 0 | L22: ='[3]2023'!F20 -> 437166000 | O22: ='[3]2023'!I20 -> 0 | P22: ='[3]2024'!F21 -> 113940000 | S22: ='[3]2024'!I21 -> 0 | T22: ='[3]2025'!F20 -> 491933000 | W22: ='[3]2025'!I20 -> 0
B23: 6201 | C23: ='[3]2021'!E21 -> Thưởng thường xuyên | D23: ='[3]2021'!F21 -> 60196000 | E23: ='[3]2021'!G21 -> Ngoài phạm vi (cấu phần lương) | F23: ='[3]2021'!H21 -> 0 | G23: ='[3]2021'!I21 -> 0 | H23: ='[3]2022'!F20 -> 57812000 | I23: ='[3]2022'!G20 -> Ngoài phạm vi (cấu phần lương) | J23: ='[3]2022'!H20 -> 0 | K23: ='[3]2022'!I20 -> 0 | P23: ='[3]2024'!F22 -> 113940000 | Q23: ='[3]2024'!G22 -> Ngoài phạm vi (cấu phần lương) | R23: ='[3]2024'!H22 -> 0 | S23: ='[3]2024'!I22 -> 0 | T23: ='[3]2025'!F21 -> 491933000 | U23: ='[3]2025'!G21 -> Ngoài phạm vi (cấu phần lương) | V23: ='[3]2025'!H21 -> 0 | W23: ='[3]2025'!I21 -> 0
B24: 6202 | C24: ='[3]2021'!E22 -> Thưởng đột xuất | D24: ='[3]2021'!F22 -> 6000000 | E24: ='[3]2021'!G22 -> Ngoài phạm vi (cấu phần lương) | F24: ='[3]2021'!H22 -> 0 | G24: ='[3]2021'!I22 -> 0
B25: 6249 | C25: ='[3]2021'!E23 -> Thưởng khác | D25: ='[3]2021'!F23 -> 485740000 | E25: ='[3]2021'!G23 -> Ngoài phạm vi (cấu phần lương) | F25: ='[3]2021'!H23 -> 0 | G25: ='[3]2021'!I23 -> 0 | H25: ='[3]2022'!F21 -> 425097000 | I25: ='[3]2022'!G21 -> Ngoài phạm vi (cấu phần lương) | J25: ='[3]2022'!H21 -> 0 | K25: ='[3]2022'!I21 -> 0 | L25: ='[3]2023'!F21 -> 437166000 | M25: ='[3]2023'!G21 -> Ngoài phạm vi (cấu phần lương) | N25: ='[3]2023'!H21 -> 0 | O25: ='[3]2023'!I21 -> 0 | T25: ='[3]2025'!F22 -> 0 | U25: ='[3]2025'!G22 -> Ngoài phạm vi (cấu phần lương) | V25: ='[3]2025'!H22 -> 0 | W25: ='[3]2025'!I22 -> 0
A26: 6300 | C26: Các khoản đóng góp | D26: ='[3]2021'!F24 -> 13048001802 | G26: ='[3]2021'!I24 -> 0 | H26: ='[3]2022'!F22 -> 12835277977 | K26: ='[3]2022'!I22 -> 0 | L26: ='[3]2023'!F22 -> 14491347267 | O26: ='[3]2023'!I22 -> 0 | P26: ='[3]2024'!F23 -> 17627636244 | S26: ='[3]2024'!I23 -> 0 | T26: ='[3]2025'!F23 -> 24905324655 | W26: ='[3]2025'!I23 -> 0
B27: 6301 | C27: ='[3]2021'!E25 -> Bảo hiểm xã hội | D27: ='[3]2021'!F25 -> 9529065295 | E27: ='[3]2021'!G25 -> Ngoài phạm vi (cấu phần lương) | F27: ='[3]2021'!H25 -> 0 | G27: ='[3]2021'!I25 -> 0 | H27: ='[3]2022'!F23 -> 9862575036 | I27: ='[3]2022'!G23 -> Ngoài phạm vi (cấu phần lương) | J27: ='[3]2022'!H23 -> 0 | K27: ='[3]2022'!I23 -> 0 | L27: ='[3]2023'!F23 -> 10810197251 | M27: ='[3]2023'!G23 -> Ngoài phạm vi (cấu phần lương) | N27: ='[3]2023'!H23 -> 0 | O27: ='[3]2023'!I23 -> 0 | P27: ='[3]2024'!F24 -> 13155349425 | Q27: ='[3]2024'!G24 -> Ngoài phạm vi (cấu phần lương) | R27: ='[3]2024'!H24 -> 0 | S27: ='[3]2024'!I24 -> 0 | T27: ='[3]2025'!F24 -> 17071975151 | U27: ='[3]2025'!G24 -> Ngoài phạm vi (cấu phần lương) | V27: ='[3]2025'!H24 -> 0 | W27: ='[3]2025'!I24 -> 0
B28: 6302 | C28: ='[3]2021'!E26 -> Bảo hiểm y tế | D28: ='[3]2021'!F26 -> 1653316714 | E28: ='[3]2021'!G26 -> Ngoài phạm vi (cấu phần lương) | F28: ='[3]2021'!H26 -> 0 | G28: ='[3]2021'!I26 -> 0 | H28: ='[3]2022'!F24 -> 1712196641 | I28: ='[3]2022'!G24 -> Ngoài phạm vi (cấu phần lương) | J28: ='[3]2022'!H24 -> 0 | K28: ='[3]2022'!I24 -> 0 | L28: ='[3]2023'!F24 -> 1848709756 | M28: ='[3]2023'!G24 -> Ngoài phạm vi (cấu phần lương) | N28: ='[3]2023'!H24 -> 0 | O28: ='[3]2023'!I24 -> 0 | P28: ='[3]2024'!F25 -> 2255363546 | Q28: ='[3]2024'!G25 -> Ngoài phạm vi (cấu phần lương) | R28: ='[3]2024'!H25 -> 0 | S28: ='[3]2024'!I25 -> 0 | T28: ='[3]2025'!F25 -> 4647445997 | U28: ='[3]2025'!G25 -> Ngoài phạm vi (cấu phần lương) | V28: ='[3]2025'!H25 -> 0 | W28: ='[3]2025'!I25 -> 0
B29: 6303 | C29: ='[3]2021'!E27 -> Kinh phí công đoàn | D29: ='[3]2021'!F27 -> 1090277954 | E29: ='[3]2021'!G27 -> Ngoài phạm vi (cấu phần lương) | F29: ='[3]2021'!H27 -> 0 | G29: ='[3]2021'!I27 -> 0 | H29: ='[3]2022'!F25 -> 1086815829 | I29: ='[3]2022'!G25 -> Ngoài phạm vi (cấu phần lương) | J29: ='[3]2022'!H25 -> 0 | K29: ='[3]2022'!I25 -> 0 | L29: ='[3]2023'!F25 -> 1214327201 | M29: ='[3]2023'!G25 -> Ngoài phạm vi (cấu phần lương) | N29: ='[3]2023'!H25 -> 0 | O29: ='[3]2023'!I25 -> 0 | P29: ='[3]2024'!F26 -> 1484268892 | Q29: ='[3]2024'!G26 -> Ngoài phạm vi (cấu phần lương) | R29: ='[3]2024'!H26 -> 0 | S29: ='[3]2024'!I26 -> 0 | T29: ='[3]2025'!F26 -> 2113292784 | U29: ='[3]2025'!G26 -> Ngoài phạm vi (cấu phần lương) | V29: ='[3]2025'!H26 -> 0 | W29: ='[3]2025'!I26 -> 0
B30: 6304 | C30: ='[3]2021'!E28 -> Bảo hiểm thất nghiệp | D30: ='[3]2021'!F28 -> 775341839 | E30: ='[3]2021'!G28 -> Ngoài phạm vi (cấu phần lương) | F30: ='[3]2021'!H28 -> 0 | G30: ='[3]2021'!I28 -> 0 | H30: ='[3]2022'!F26 -> 173690471 | I30: ='[3]2022'!G26 -> Ngoài phạm vi (cấu phần lương) | J30: ='[3]2022'!H26 -> 0 | K30: ='[3]2022'!I26 -> 0 | L30: ='[3]2023'!F26 -> 618113059 | M30: ='[3]2023'!G26 -> Ngoài phạm vi (cấu phần lương) | N30: ='[3]2023'!H26 -> 0 | O30: ='[3]2023'!I26 -> 0 | P30: ='[3]2024'!F27 -> 732654381 | Q30: ='[3]2024'!G27 -> Ngoài phạm vi (cấu phần lương) | R30: ='[3]2024'!H27 -> 0 | S30: ='[3]2024'!I27 -> 0 | T30: ='[3]2025'!F27 -> 1072610723 | U30: ='[3]2025'!G27 -> Ngoài phạm vi (cấu phần lương) | V30: ='[3]2025'!H27 -> 0 | W30: ='[3]2025'!I27 -> 0
A31: 6400 | C31: Các khoản thanh toán khác cho cá nhân | D31: ='[3]2021'!F29 -> 10681853454 | G31: ='[3]2021'!I29 -> 0 | H31: ='[3]2022'!F27 -> 8547401894 | K31: ='[3]2022'!I27 -> 0 | L31: ='[3]2023'!F27 -> 4265198804 | O31: ='[3]2023'!I27 -> 0 | P31: ='[3]2024'!F28 -> 3645974076 | S31: ='[3]2024'!I28 -> 0 | T31: ='[3]2025'!F28 -> 5099268702 | W31: ='[3]2025'!I28 -> 0
B32: 6401 | C32: ='[3]2021'!E30 -> Tiền ăn | D32: ='[3]2021'!F30 -> 54600000 | E32: ='[3]2021'!G30 -> Ngoài phạm vi (cấu phần lương) | F32: ='[3]2021'!H30 -> 0 | G32: ='[3]2021'!I30 -> 0
B33: 6449 | C33: ='[3]2021'!E31 -> Chi khác | D33: ='[3]2021'!F31 -> 10627253454 | E33: ='[3]2021'!G31 -> Ngoài phạm vi (cấu phần lương) | F33: ='[3]2021'!H31 -> 0 | G33: ='[3]2021'!I31 -> 0 | H33: ='[3]2022'!F28 -> 8547401894 | I33: ='[3]2022'!G28 -> Ngoài phạm vi (cấu phần lương) | J33: ='[3]2022'!H28 -> 0 | K33: ='[3]2022'!I28 -> 0 | L33: ='[3]2023'!F28 -> 4265198804 | M33: ='[3]2023'!G28 -> Ngoài phạm vi (cấu phần lương) | N33: ='[3]2023'!H28 -> 0 | O33: ='[3]2023'!I28 -> 0 | P33: ='[3]2024'!F29 -> 3645974076 | Q33: ='[3]2024'!G29 -> Ngoài phạm vi (cấu phần lương) | R33: ='[3]2024'!H29 -> 0 | S33: ='[3]2024'!I29 -> 0 | T33: ='[3]2025'!F29 -> 5099268702 | U33: ='[3]2025'!G29 -> Ngoài phạm vi (cấu phần lương) | V33: ='[3]2025'!H29 -> 0 | W33: ='[3]2025'!I29 -> 0
A34: 6500 | C34: Thanh toán dịch vụ công cộng | D34: ='[3]2021'!F32 -> 10682749102 | G34: ='[3]2021'!I32 -> 5341374551 | H34: ='[3]2022'!F29 -> 13098367620 | K34: ='[3]2022'!I29 -> 6549183810 | L34: ='[3]2023'!F29 -> 13034947681 | O34: ='[3]2023'!I29 -> 6.5174738e+09 | P34: ='[3]2024'!F30 -> 14111020147 | S34: ='[3]2024'!I30 -> 7.0555101e+09 | T34: ='[3]2025'!F30 -> 15639077138 | W34: ='[3]2025'!I30 -> 7819538569
B35: 6501 | C35: ='[3]2021'!E33 -> Tiền điện | D35: ='[3]2021'!F33 -> 6740457262 | E35: ='[3]2021'!G33 -> Lưỡng tính | F35: ='[3]2021'!H33 -> 0.5 | G35: ='[3]2021'!I33 -> 3370228631 | H35: ='[3]2022'!F30 -> 8678342606 | I35: ='[3]2022'!G30 -> Lưỡng tính | J35: ='[3]2022'!H30 -> 0.5 | K35: ='[3]2022'!I30 -> 4339171303 | L35: ='[3]2023'!F30 -> 8907928675 | M35: ='[3]2023'!G30 -> Lưỡng tính | N35: ='[3]2023'!H30 -> 0.5 | O35: ='[3]2023'!I30 -> 4.4539643e+09 | P35: ='[3]2024'!F31 -> 9892443091 | Q35: ='[3]2024'!G31 -> Lưỡng tính | R35: ='[3]2024'!H31 -> 0.5 | S35: ='[3]2024'!I31 -> 4.9462215e+09 | T35: ='[3]2025'!F31 -> 9924682329 | U35: ='[3]2025'!G31 -> Lưỡng tính | V35: ='[3]2025'!H31 -> 0.5 | W35: ='[3]2025'!I31 -> 4.9623412e+09
B36: 6502 | C36: ='[3]2021'!E34 -> Tiền nước | D36: ='[3]2021'!F34 -> 3364275710 | E36: ='[3]2021'!G34 -> Lưỡng tính | F36: ='[3]2021'!H34 -> 0.5 | G36: ='[3]2021'!I34 -> 1682137855 | H36: ='[3]2022'!F31 -> 3736449974 | I36: ='[3]2022'!G31 -> Lưỡng tính | J36: ='[3]2022'!H31 -> 0.5 | K36: ='[3]2022'!I31 -> 1868224987 | L36: ='[3]2023'!F31 -> 3707470116 | M36: ='[3]2023'!G31 -> Lưỡng tính | N36: ='[3]2023'!H31 -> 0.5 | O36: ='[3]2023'!I31 -> 1853735058 | P36: ='[3]2024'!F32 -> 3778804584 | Q36: ='[3]2024'!G32 -> Lưỡng tính | R36: ='[3]2024'!H32 -> 0.5 | S36: ='[3]2024'!I32 -> 1889402292 | T36: ='[3]2025'!F32 -> 4616266401 | U36: ='[3]2025'!G32 -> Lưỡng tính | V36: ='[3]2025'!H32 -> 0.5 | W36: ='[3]2025'!I32 -> 2.3081332e+09
B37: 6503 | C37: ='[3]2021'!E35 -> Tiền nhiên liệu | D37: ='[3]2021'!F35 -> 574416130 | E37: ='[3]2021'!G35 -> Lưỡng tính | F37: ='[3]2021'!H35 -> 0.5 | G37: ='[3]2021'!I35 -> 287208065 | H37: ='[3]2022'!F32 -> 679975040 | I37: ='[3]2022'!G32 -> Lưỡng tính | J37: ='[3]2022'!H32 -> 0.5 | K37: ='[3]2022'!I32 -> 339987520 | L37: ='[3]2023'!F32 -> 415948890 | M37: ='[3]2023'!G32 -> Lưỡng tính | N37: ='[3]2023'!H32 -> 0.5 | O37: ='[3]2023'!I32 -> 207974445 | P37: ='[3]2024'!F33 -> 431561712 | Q37: ='[3]2024'!G33 -> Lưỡng tính | R37: ='[3]2024'!H33 -> 0.5 | S37: ='[3]2024'!I33 -> 215780856 | T37: ='[3]2025'!F33 -> 904699677 | U37: ='[3]2025'!G33 -> Lưỡng tính | V37: ='[3]2025'!H33 -> 0.5 | W37: ='[3]2025'!I33 -> 4.5234984e+08
B38: 6504 | C38: ='[3]2021'!E36 -> Tiền vệ sinh, môi trường | D38: ='[3]2021'!F36 -> 3600000 | E38: ='[3]2021'!G36 -> Lưỡng tính | F38: ='[3]2021'!H36 -> 0.5 | G38: ='[3]2021'!I36 -> 1800000 | H38: ='[3]2022'!F33 -> 3600000 | I38: ='[3]2022'!G33 -> Lưỡng tính | J38: ='[3]2022'!H33 -> 0.5 | K38: ='[3]2022'!I33 -> 1800000 | L38: ='[3]2023'!F33 -> 3600000 | M38: ='[3]2023'!G33 -> Lưỡng tính | N38: ='[3]2023'!H33 -> 0.5 | O38: ='[3]2023'!I33 -> 1800000 | P38: ='[3]2024'!F34 -> 8210760 | Q38: ='[3]2024'!G34 -> Lưỡng tính | R38: ='[3]2024'!H34 -> 0.5 | S38: ='[3]2024'!I34 -> 4105380 | T38: ='[3]2025'!F34 -> 8443080 | U38: ='[3]2025'!G34 -> Lưỡng tính | V38: ='[3]2025'!H34 -> 0.5 | W38: ='[3]2025'!I34 -> 4221540
B39: 6549 | C39: ='[3]2025'!E35 -> Chi khác | T39: ='[3]2025'!F35 -> 184985651 | U39: ='[3]2025'!G35 -> Lưỡng tính | V39: ='[3]2025'!H35 -> 0.5 | W39: ='[3]2025'!I35 -> 92492826
A40: 6550 | C40: Vật tư văn phòng | D40: ='[3]2021'!F37 -> 3099899818 | G40: ='[3]2021'!I37 -> 1887208252 | H40: ='[3]2022'!F34 -> 2606818725 | K40: ='[3]2022'!I34 -> 1.5744672e+09 | L40: ='[3]2023'!F34 -> 2390951461 | O40: ='[3]2023'!I34 -> 1.4480808e+09 | P40: ='[3]2024'!F35 -> 2719054432 | S40: ='[3]2024'!I35 -> 1672380341 | T40: ='[3]2025'!F36 -> 3303958972 | W40: ='[3]2025'!I36 -> 2072962649
...

Sheet Bảng tính chi phí PACs
A1: BỘ CÔNG CỤ TÍNH GIÁ PACS
A3: STT | B3: Loại máy | C3: SL máy | D3: Tên nhóm dịch vụ | E3: Số ảnh | F3: Số ca trung bình | G3: Số ca TB theo máy/ngày | H3: Dung lượng/1 ảnh (MB) | I3: Dung lượng/1 ca (MB) | J3: Dung lượng/ 1 máy (MB) | K3: Dung lượng TB theo nhóm/ngày (MB) | L3: CP dung lượng phân bổ (đồng)
